Back to Build/check report for BioC 3.22 experimental data
ABCDEF[G]HIJKLMNOPQRSTUVWXYZ

This page was generated on 2025-10-14 15:41 -0400 (Tue, 14 Oct 2025).

HostnameOSArch (*)R versionInstalled pkgs
nebbiolo2Linux (Ubuntu 24.04.3 LTS)x86_644.5.1 Patched (2025-08-23 r88802) -- "Great Square Root" 4865
Click on any hostname to see more info about the system (e.g. compilers)      (*) as reported by 'uname -p', except on Windows and Mac OS X

Package 149/434HostnameOS / ArchINSTALLBUILDCHECK
geneLenDataBase 1.45.0  (landing page)
Federico Marini
Snapshot Date: 2025-10-14 07:30 -0400 (Tue, 14 Oct 2025)
git_url: https://git.bioconductor.org/packages/geneLenDataBase
git_branch: devel
git_last_commit: 109b234
git_last_commit_date: 2025-04-15 09:16:59 -0400 (Tue, 15 Apr 2025)
nebbiolo2Linux (Ubuntu 24.04.3 LTS) / x86_64  OK    OK    OK  UNNEEDED, same version is already published


CHECK results for geneLenDataBase on nebbiolo2

To the developers/maintainers of the geneLenDataBase package:
- Use the following Renviron settings to reproduce errors and warnings.
- If 'R CMD check' started to fail recently on the Linux builder(s) over a missing dependency, add the missing dependency to 'Suggests:' in your DESCRIPTION file. See Renviron.bioc for more information.

raw results


Summary

Package: geneLenDataBase
Version: 1.45.0
Command: /home/biocbuild/bbs-3.22-bioc/R/bin/R CMD check --install=check:geneLenDataBase.install-out.txt --library=/home/biocbuild/bbs-3.22-bioc/R/site-library --timings geneLenDataBase_1.45.0.tar.gz
StartedAt: 2025-10-14 12:25:01 -0400 (Tue, 14 Oct 2025)
EndedAt: 2025-10-14 12:34:34 -0400 (Tue, 14 Oct 2025)
EllapsedTime: 572.2 seconds
RetCode: 0
Status:   OK  
CheckDir: geneLenDataBase.Rcheck
Warnings: 0

Command output

##############################################################################
##############################################################################
###
### Running command:
###
###   /home/biocbuild/bbs-3.22-bioc/R/bin/R CMD check --install=check:geneLenDataBase.install-out.txt --library=/home/biocbuild/bbs-3.22-bioc/R/site-library --timings geneLenDataBase_1.45.0.tar.gz
###
##############################################################################
##############################################################################


* using log directory ‘/home/biocbuild/bbs-3.22-data-experiment/meat/geneLenDataBase.Rcheck’
* using R version 4.5.1 Patched (2025-08-23 r88802)
* using platform: x86_64-pc-linux-gnu
* R was compiled by
    gcc (Ubuntu 13.3.0-6ubuntu2~24.04) 13.3.0
    GNU Fortran (Ubuntu 13.3.0-6ubuntu2~24.04) 13.3.0
* running under: Ubuntu 24.04.3 LTS
* using session charset: UTF-8
* checking for file ‘geneLenDataBase/DESCRIPTION’ ... OK
* this is package ‘geneLenDataBase’ version ‘1.45.0’
* package encoding: UTF-8
* checking package namespace information ... OK
* checking package dependencies ... OK
* checking if this is a source package ... OK
* checking if there is a namespace ... OK
* checking for hidden files and directories ... OK
* checking for portable file names ... OK
* checking for sufficient/correct file permissions ... OK
* checking whether package ‘geneLenDataBase’ can be installed ... OK
* checking installed package size ... INFO
  installed size is 100.3Mb
  sub-directories of 1Mb or more:
    data  99.7Mb
* checking package directory ... OK
* checking DESCRIPTION meta-information ... OK
* checking top-level files ... OK
* checking for left-over files ... OK
* checking index information ... OK
* checking package subdirectories ... OK
* checking code files for non-ASCII characters ... OK
* checking R files for syntax errors ... OK
* checking whether the package can be loaded ... OK
* checking whether the package can be loaded with stated dependencies ... OK
* checking whether the package can be unloaded cleanly ... OK
* checking whether the namespace can be loaded with stated dependencies ... OK
* checking whether the namespace can be unloaded cleanly ... OK
* checking loading without being on the library search path ... OK
* checking dependencies in R code ... NOTE
Unexported object imported by a ':::' call: ‘txdbmaker:::.UCSC_TXNAME2GENEID_MAPDEFS’
  See the note in ?`:::` about the use of this operator.
* checking S3 generic/method consistency ... OK
* checking replacement functions ... OK
* checking foreign function calls ... OK
* checking R code for possible problems ... OK
* checking Rd files ... OK
* checking Rd metadata ... OK
* checking Rd cross-references ... OK
* checking for missing documentation entries ... OK
* checking for code/documentation mismatches ... OK
* checking Rd \usage sections ... OK
* checking Rd contents ... OK
* checking for unstated dependencies in examples ... OK
* checking contents of ‘data’ directory ... OK
* checking data for non-ASCII characters ... OK
* checking data for ASCII and uncompressed saves ... OK
* checking examples ... OK
Examples with CPU (user + system) or elapsed time > 5s
                  user system elapsed
supportedGeneIDs 4.051  0.364   6.607
* checking PDF version of manual ... OK
* DONE

Status: 1 NOTE
See
  ‘/home/biocbuild/bbs-3.22-data-experiment/meat/geneLenDataBase.Rcheck/00check.log’
for details.


Installation output

geneLenDataBase.Rcheck/00install.out

##############################################################################
##############################################################################
###
### Running command:
###
###   /home/biocbuild/bbs-3.22-bioc/R/bin/R CMD INSTALL geneLenDataBase
###
##############################################################################
##############################################################################


* installing to library ‘/home/biocbuild/bbs-3.22-bioc/R/site-library’
* installing *source* package ‘geneLenDataBase’ ...
** this is package ‘geneLenDataBase’ version ‘1.45.0’
** using staged installation
** R
** data
** byte-compile and prepare package for lazy loading
** help
*** installing help indices
** building package indices
** testing if installed package can be loaded from temporary location
** testing if installed package can be loaded from final location
** testing if installed package keeps a record of temporary installation path
* DONE (geneLenDataBase)

Tests output


Example timings

geneLenDataBase.Rcheck/geneLenDataBase-Ex.timings

nameusersystemelapsed
anoCar1.ensGene.LENGTH0.0840.0110.094
anoCar1.genscan.LENGTH0.0550.0030.057
anoCar1.xenoRefGene.LENGTH1.0470.0051.053
anoGam1.ensGene.LENGTH0.0730.0000.074
anoGam1.geneid.LENGTH0.0540.0000.054
anoGam1.genscan.LENGTH0.0510.0000.051
apiMel1.genscan.LENGTH0.0430.0010.044
apiMel2.ensGene.LENGTH0.1120.0000.111
apiMel2.geneid.LENGTH0.1480.0160.164
apiMel2.genscan.LENGTH0.0320.0010.033
aplCal1.xenoRefGene.LENGTH0.4340.0030.436
bosTau2.geneSymbol.LENGTH0.0390.0030.042
bosTau2.geneid.LENGTH0.2490.0080.258
bosTau2.genscan.LENGTH0.0870.0030.089
bosTau2.refGene.LENGTH0.0400.0030.043
bosTau2.sgpGene.LENGTH0.0980.0010.099
bosTau3.ensGene.LENGTH0.1060.0010.107
bosTau3.geneSymbol.LENGTH0.0370.0010.039
bosTau3.geneid.LENGTH0.1680.0070.176
bosTau3.genscan.LENGTH0.0680.0010.069
bosTau3.refGene.LENGTH0.0330.0000.034
bosTau3.sgpGene.LENGTH0.0910.0010.092
bosTau4.ensGene.LENGTH0.0990.0000.099
bosTau4.geneSymbol.LENGTH0.0330.0000.033
bosTau4.genscan.LENGTH0.0680.0000.068
bosTau4.nscanGene.LENGTH0.0290.0000.029
bosTau4.refGene.LENGTH0.0310.0000.031
braFlo1.xenoRefGene.LENGTH0.4080.0020.410
caeJap1.xenoRefGene.LENGTH0.4230.0000.424
caePb1.xenoRefGene.LENGTH0.5450.0010.546
caePb2.xenoRefGene.LENGTH0.4990.0020.501
caeRem2.xenoRefGene.LENGTH0.4630.0030.466
caeRem3.xenoRefGene.LENGTH0.4210.0170.437
calJac1.genscan.LENGTH0.1030.0290.133
calJac1.nscanGene.LENGTH0.1170.0160.133
calJac1.xenoRefGene.LENGTH0.9940.0191.015
canFam1.ensGene.LENGTH0.1260.0030.129
canFam1.geneSymbol.LENGTH0.0050.0000.007
canFam1.genscan.LENGTH0.0700.0020.072
canFam1.nscanGene.LENGTH0.0720.0020.074
canFam1.refGene.LENGTH0.0050.0010.006
canFam1.xenoRefGene.LENGTH0.7760.0100.786
canFam2.ensGene.LENGTH0.1490.0070.158
canFam2.geneSymbol.LENGTH0.0060.0000.007
canFam2.genscan.LENGTH0.0680.0010.069
canFam2.nscanGene.LENGTH0.0690.0010.071
canFam2.refGene.LENGTH0.0050.0000.006
canFam2.xenoRefGene.LENGTH0.6510.0060.656
cavPor3.ensGene.LENGTH0.3510.0410.394
cavPor3.genscan.LENGTH0.0960.0000.097
cavPor3.nscanGene.LENGTH0.0720.0000.073
cavPor3.xenoRefGene.LENGTH0.6940.0080.701
cb1.xenoRefGene.LENGTH0.4640.0170.481
cb3.xenoRefGene.LENGTH0.3840.0070.391
ce2.geneSymbol.LENGTH0.0720.0020.074
ce2.geneid.LENGTH0.0630.0000.063
ce2.refGene.LENGTH0.0720.0020.074
ce4.geneSymbol.LENGTH0.0720.0010.073
ce4.refGene.LENGTH0.0650.0020.068
ce4.xenoRefGene.LENGTH0.0890.0000.089
ce6.ensGene.LENGTH0.0940.0040.097
ce6.geneSymbol.LENGTH0.0690.0010.069
ce6.refGene.LENGTH0.0680.0020.070
ce6.xenoRefGene.LENGTH0.0870.0010.088
ci1.geneSymbol.LENGTH0.0060.0000.006
ci1.refGene.LENGTH0.0040.0010.005
ci1.xenoRefGene.LENGTH0.1870.0010.188
ci2.ensGene.LENGTH0.0690.0020.071
ci2.geneSymbol.LENGTH0.0040.0010.005
ci2.refGene.LENGTH0.0040.0010.005
ci2.xenoRefGene.LENGTH1.1390.5241.663
danRer3.ensGene.LENGTH0.100.010.11
danRer3.geneSymbol.LENGTH0.0530.0030.056
danRer3.refGene.LENGTH0.0480.0010.048
danRer4.ensGene.LENGTH0.1220.0010.123
danRer4.geneSymbol.LENGTH0.0520.0010.053
danRer4.genscan.LENGTH0.0560.0020.058
danRer4.nscanGene.LENGTH0.0840.0000.084
danRer4.refGene.LENGTH0.0470.0010.048
danRer5.ensGene.LENGTH0.1230.0020.125
danRer5.geneSymbol.LENGTH0.0490.0000.049
danRer5.refGene.LENGTH0.0440.0000.044
danRer5.vegaGene.LENGTH0.0470.0000.048
danRer5.vegaPseudoGene.LENGTH0.0020.0000.003
danRer6.ensGene.LENGTH0.1210.0000.121
danRer6.geneSymbol.LENGTH0.0490.0010.050
danRer6.refGene.LENGTH0.0450.0010.046
danRer6.xenoRefGene.LENGTH0.5780.0050.583
dm1.geneSymbol.LENGTH0.0660.0000.066
dm1.genscan.LENGTH0.0220.0010.023
dm1.refGene.LENGTH0.0580.0010.059
dm2.geneSymbol.LENGTH0.0650.0010.066
dm2.geneid.LENGTH0.0360.0000.036
dm2.genscan.LENGTH0.0230.0000.023
dm2.nscanGene.LENGTH0.050.000.05
dm2.refGene.LENGTH0.0570.0010.058
dm3.geneSymbol.LENGTH0.0700.0010.071
dm3.nscanPasaGene.LENGTH0.0510.0010.052
dm3.refGene.LENGTH0.0680.0090.077
downloadLengthFromUCSC000
dp2.genscan.LENGTH0.0330.0010.034
dp2.xenoRefGene.LENGTH0.2180.0010.219
dp3.geneid.LENGTH0.0390.0020.041
dp3.genscan.LENGTH0.0260.0010.027
dp3.xenoRefGene.LENGTH0.1230.0010.124
droAna1.geneid.LENGTH0.0680.0020.070
droAna1.genscan.LENGTH0.0210.0010.022
droAna1.xenoRefGene.LENGTH0.2230.0020.225
droAna2.genscan.LENGTH0.0470.0030.050
droAna2.xenoRefGene.LENGTH0.3020.0010.303
droEre1.genscan.LENGTH0.0280.0010.029
droEre1.xenoRefGene.LENGTH0.2810.0010.283
droGri1.genscan.LENGTH0.0360.0030.039
droGri1.xenoRefGene.LENGTH0.3230.0020.324
droMoj1.geneid.LENGTH0.1350.0020.138
droMoj1.genscan.LENGTH0.0570.0010.059
droMoj1.xenoRefGene.LENGTH0.2710.0090.281
droMoj2.genscan.LENGTH0.0370.0010.038
droMoj2.xenoRefGene.LENGTH0.3120.0010.313
droPer1.genscan.LENGTH0.0390.0020.040
droPer1.xenoRefGene.LENGTH0.3020.0040.306
droSec1.genscan.LENGTH0.0260.0020.028
droSec1.xenoRefGene.LENGTH0.3250.0020.328
droSim1.geneid.LENGTH0.0370.0010.038
droSim1.genscan.LENGTH0.0250.0010.026
droSim1.xenoRefGene.LENGTH0.4240.0130.437
droVir1.geneid.LENGTH0.1060.0040.109
droVir1.genscan.LENGTH0.0440.0000.044
droVir1.xenoRefGene.LENGTH0.2970.0010.297
droVir2.genscan.LENGTH0.0370.0000.037
droVir2.xenoRefGene.LENGTH0.3300.0130.342
droYak1.geneid.LENGTH0.0460.0010.047
droYak1.genscan.LENGTH0.0280.0020.029
droYak1.xenoRefGene.LENGTH0.260.000.26
droYak2.genscan.LENGTH0.0270.0000.027
droYak2.xenoRefGene.LENGTH0.3110.0030.313
equCab1.geneSymbol.LENGTH0.0050.0000.005
equCab1.geneid.LENGTH0.0960.0010.096
equCab1.nscanGene.LENGTH0.0420.0000.042
equCab1.refGene.LENGTH0.0050.0000.005
equCab1.sgpGene.LENGTH0.0710.0000.072
equCab2.ensGene.LENGTH0.1100.0010.111
equCab2.geneSymbol.LENGTH0.0060.0000.007
equCab2.nscanGene.LENGTH0.0540.0000.055
equCab2.refGene.LENGTH0.0070.0000.007
equCab2.xenoRefGene.LENGTH0.7680.0020.771
felCat3.ensGene.LENGTH0.1120.0040.116
felCat3.geneSymbol.LENGTH0.0040.0000.004
felCat3.geneid.LENGTH0.5940.0360.630
felCat3.genscan.LENGTH0.1240.0040.128
felCat3.nscanGene.LENGTH0.2980.0050.303
felCat3.refGene.LENGTH0.0040.0000.004
felCat3.sgpGene.LENGTH0.1620.0000.163
felCat3.xenoRefGene.LENGTH1.3450.0021.347
fr1.ensGene.LENGTH0.0830.0000.083
fr1.genscan.LENGTH0.0610.0000.061
fr2.ensGene.LENGTH0.6970.0120.708
galGal2.ensGene.LENGTH0.0540.0010.055
galGal2.geneSymbol.LENGTH0.0150.0010.016
galGal2.geneid.LENGTH0.0360.0000.036
galGal2.genscan.LENGTH0.0490.0000.049
galGal2.refGene.LENGTH0.0140.0000.014
galGal2.sgpGene.LENGTH0.0430.0010.044
galGal3.ensGene.LENGTH0.0710.0000.071
galGal3.geneSymbol.LENGTH0.0140.0010.015
galGal3.genscan.LENGTH0.0480.0000.048
galGal3.nscanGene.LENGTH0.0680.0000.068
galGal3.refGene.LENGTH0.0140.0000.014
galGal3.xenoRefGene.LENGTH0.5160.0010.517
gasAcu1.ensGene.LENGTH0.0870.0000.087
gasAcu1.nscanGene.LENGTH0.0880.0000.088
hg16.acembly.LENGTH0.3600.0010.361
hg16.ensGene.LENGTH0.0690.0000.070
hg16.exoniphy.LENGTH0.2330.0000.233
hg16.geneSymbol.LENGTH0.1040.0020.106
hg16.geneid.LENGTH0.0490.0010.050
hg16.genscan.LENGTH0.0610.0000.061
hg16.knownGene.LENGTH0.1220.0000.122
hg16.refGene.LENGTH0.0990.0010.099
hg16.sgpGene.LENGTH0.0590.0020.061
hg17.acembly.LENGTH0.4820.0020.485
hg17.acescan.LENGTH0.0100.0000.011
hg17.ccdsGene.LENGTH0.0220.0010.023
hg17.ensGene.LENGTH0.1220.0000.122
hg17.exoniphy.LENGTH0.4140.0000.414
hg17.geneSymbol.LENGTH0.1080.0010.108
hg17.geneid.LENGTH0.0800.0000.079
hg17.genscan.LENGTH0.0590.0000.059
hg17.knownGene.LENGTH0.1110.0000.110
hg17.refGene.LENGTH0.1010.0010.101
hg17.sgpGene.LENGTH0.0740.0010.075
hg17.vegaGene.LENGTH0.0420.0000.043
hg17.vegaPseudoGene.LENGTH0.0170.0010.018
hg17.xenoRefGene.LENGTH0.5550.0010.555
hg18.acembly.LENGTH0.5230.0010.523
hg18.acescan.LENGTH0.0080.0010.010
hg18.ccdsGene.LENGTH0.0350.0000.035
hg18.ensGene.LENGTH0.2180.0000.218
hg18.exoniphy.LENGTH0.4830.0010.484
hg18.geneSymbol.LENGTH0.1110.0000.111
hg18.geneid.LENGTH0.0810.0000.081
hg18.genscan.LENGTH0.0640.0000.064
hg18.knownGene.LENGTH0.1790.0010.180
hg18.knownGeneOld3.LENGTH0.0720.0000.072
hg18.refGene.LENGTH0.1010.0000.102
hg18.sgpGene.LENGTH0.0800.0000.081
hg18.sibGene.LENGTH0.8290.0020.832
hg18.xenoRefGene.LENGTH0.4180.0000.419
hg19.ccdsGene.LENGTH0.0420.0010.043
hg19.ensGene.LENGTH0.3440.0000.344
hg19.exoniphy.LENGTH0.4730.0010.475
hg19.geneSymbol.LENGTH0.1120.0000.112
hg19.knownGene.LENGTH0.1900.0000.191
hg19.nscanGene.LENGTH0.1670.0000.168
hg19.refGene.LENGTH0.1070.0010.108
hg19.xenoRefGene.LENGTH0.4680.0020.470
loxAfr3.xenoRefGene.LENGTH0.9610.0030.964
mm7.ensGene.LENGTH0.1280.0010.128
mm7.geneSymbol.LENGTH0.0970.0000.097
mm7.geneid.LENGTH0.0840.0010.085
mm7.genscan.LENGTH0.0690.0010.069
mm7.knownGene.LENGTH0.1020.0010.102
mm7.refGene.LENGTH0.0910.0020.092
mm7.sgpGene.LENGTH0.0820.0020.083
mm7.xenoRefGene.LENGTH0.4070.0010.408
mm8.ccdsGene.LENGTH0.0240.0010.025
mm8.ensGene.LENGTH0.0890.0000.090
mm8.geneSymbol.LENGTH0.1140.0000.115
mm8.geneid.LENGTH0.0840.0000.085
mm8.genscan.LENGTH0.0640.0000.064
mm8.knownGene.LENGTH0.1010.0000.102
mm8.nscanGene.LENGTH0.0660.0000.067
mm8.refGene.LENGTH0.3580.0010.360
mm8.sgpGene.LENGTH0.0830.0000.084
mm8.sibGene.LENGTH0.2790.0000.280
mm8.xenoRefGene.LENGTH0.4300.0000.431
mm9.acembly.LENGTH0.3930.0000.394
mm9.ccdsGene.LENGTH0.0310.0000.031
mm9.ensGene.LENGTH0.1690.0010.169
mm9.exoniphy.LENGTH0.4680.0000.468
mm9.geneSymbol.LENGTH0.0950.0000.096
mm9.geneid.LENGTH0.0910.0000.091
mm9.genscan.LENGTH0.0670.0010.067
mm9.knownGene.LENGTH0.1140.0010.116
mm9.nscanGene.LENGTH0.0670.0000.066
mm9.refGene.LENGTH0.0960.0000.096
mm9.sgpGene.LENGTH0.0910.0010.092
mm9.xenoRefGene.LENGTH0.8660.0020.868
monDom1.genscan.LENGTH0.0640.0010.065
monDom4.ensGene.LENGTH0.0760.0030.079
monDom4.geneSymbol.LENGTH0.0030.0000.004
monDom4.genscan.LENGTH0.0600.0000.061
monDom4.nscanGene.LENGTH0.0610.0000.061
monDom4.refGene.LENGTH0.0040.0000.004
monDom4.xenoRefGene.LENGTH0.3990.0000.399
monDom5.ensGene.LENGTH0.1180.0000.118
monDom5.geneSymbol.LENGTH0.0020.0010.003
monDom5.genscan.LENGTH0.0560.0020.057
monDom5.nscanGene.LENGTH0.1210.0010.121
monDom5.refGene.LENGTH0.0030.0000.003
monDom5.xenoRefGene.LENGTH0.6580.0020.661
ornAna1.ensGene.LENGTH0.1090.0010.110
ornAna1.geneSymbol.LENGTH0.0030.0000.003
ornAna1.refGene.LENGTH0.0030.0000.003
ornAna1.xenoRefGene.LENGTH0.6630.0020.665
oryLat2.ensGene.LENGTH1.4490.1311.580
oryLat2.geneSymbol.LENGTH0.0040.0000.003
oryLat2.refGene.LENGTH0.0020.0010.003
oryLat2.xenoRefGene.LENGTH0.5220.0020.524
panTro1.ensGene.LENGTH0.1060.0010.107
panTro1.geneid.LENGTH0.0460.0010.047
panTro1.genscan.LENGTH0.0580.0000.058
panTro1.xenoRefGene.LENGTH0.1160.0000.115
panTro2.ensGene.LENGTH0.1140.0010.115
panTro2.geneSymbol.LENGTH0.1090.0000.109
panTro2.genscan.LENGTH0.0590.0000.059
panTro2.nscanGene.LENGTH0.0630.0000.063
panTro2.refGene.LENGTH0.1090.0000.109
panTro2.xenoRefGene.LENGTH0.6610.0000.661
petMar1.xenoRefGene.LENGTH0.3190.0000.319
ponAbe2.ensGene.LENGTH0.0850.0010.086
ponAbe2.geneSymbol.LENGTH0.0130.0000.014
ponAbe2.genscan.LENGTH0.0610.0000.061
ponAbe2.nscanGene.LENGTH0.0620.0000.062
ponAbe2.refGene.LENGTH0.0100.0010.011
ponAbe2.xenoRefGene.LENGTH0.7210.0020.723
priPac1.xenoRefGene.LENGTH0.4060.0020.407
rheMac2.ensGene.LENGTH0.1410.0000.141
rheMac2.geneSymbol.LENGTH0.0040.0010.005
rheMac2.geneid.LENGTH0.070.000.07
rheMac2.nscanGene.LENGTH0.0590.0000.061
rheMac2.refGene.LENGTH0.0050.0000.005
rheMac2.sgpGene.LENGTH0.0680.0000.069
rheMac2.xenoRefGene.LENGTH0.5400.0040.545
rn3.ensGene.LENGTH0.1050.0000.106
rn3.geneSymbol.LENGTH0.0570.0000.057
rn3.geneid.LENGTH0.0510.0010.052
rn3.genscan.LENGTH0.0590.0020.061
rn3.knownGene.LENGTH0.0220.0000.022
rn3.nscanGene.LENGTH0.0590.0000.059
rn3.refGene.LENGTH0.0480.0010.049
rn3.sgpGene.LENGTH0.0540.0010.056
rn3.xenoRefGene.LENGTH0.6170.0010.618
rn4.ensGene.LENGTH0.1570.0010.158
rn4.geneSymbol.LENGTH0.0540.0000.054
rn4.geneid.LENGTH0.0840.0010.085
rn4.genscan.LENGTH0.0610.0010.062
rn4.knownGene.LENGTH0.0240.0010.024
rn4.nscanGene.LENGTH0.0540.0010.054
rn4.refGene.LENGTH0.0500.0010.051
rn4.sgpGene.LENGTH0.0830.0010.084
rn4.xenoRefGene.LENGTH0.4310.0020.434
sacCer1.ensGene.LENGTH0.0180.0010.019
sacCer2.ensGene.LENGTH0.0170.0000.018
strPur1.geneSymbol.LENGTH0.0040.0000.005
strPur1.genscan.LENGTH0.0650.0010.067
strPur1.refGene.LENGTH0.0040.0000.004
strPur1.xenoRefGene.LENGTH0.5000.0030.503
strPur2.geneSymbol.LENGTH0.0030.0010.004
strPur2.genscan.LENGTH0.1060.0000.106
strPur2.refGene.LENGTH0.0040.0000.004
strPur2.xenoRefGene.LENGTH0.7980.0060.804
supportedGeneIDs4.0510.3646.607
supportedGenomes0.2640.0151.158
taeGut1.ensGene.LENGTH0.0640.0010.065
taeGut1.geneSymbol.LENGTH0.0030.0000.003
taeGut1.genscan.LENGTH0.0310.0000.030
taeGut1.nscanGene.LENGTH0.0230.0010.024
taeGut1.refGene.LENGTH0.0020.0010.003
taeGut1.xenoRefGene.LENGTH0.4600.0110.471
tetNig1.ensGene.LENGTH0.0900.0020.091
tetNig1.geneid.LENGTH0.0640.0040.068
tetNig1.genscan.LENGTH0.0490.0000.050
tetNig1.nscanGene.LENGTH0.0690.0020.071
tetNig2.ensGene.LENGTH0.0720.0020.074
unfactor0.0030.0000.004
xenTro1.genscan.LENGTH0.0890.0010.090
xenTro2.ensGene.LENGTH0.1040.0000.104
xenTro2.geneSymbol.LENGTH0.0320.0010.032
xenTro2.genscan.LENGTH0.0770.0000.076
xenTro2.refGene.LENGTH0.0290.0000.029