Back to Build/check report for BioC 3.22 experimental data
ABCDEFGHIJKLMNOPQR[S]TUVWXYZ

This page was generated on 2025-11-18 15:41 -0500 (Tue, 18 Nov 2025).

HostnameOSArch (*)R versionInstalled pkgs
nebbiolo2Linux (Ubuntu 24.04.3 LTS)x86_644.5.2 (2025-10-31) -- "[Not] Part in a Rumble" 4786
Click on any hostname to see more info about the system (e.g. compilers)      (*) as reported by 'uname -p', except on Windows and Mac OS X

Package 360/435HostnameOS / ArchINSTALLBUILDCHECK
scRNAseq 2.24.0  (landing page)
Aaron Lun
Snapshot Date: 2025-11-18 07:30 -0500 (Tue, 18 Nov 2025)
git_url: https://git.bioconductor.org/packages/scRNAseq
git_branch: RELEASE_3_22
git_last_commit: 111920c
git_last_commit_date: 2025-10-29 09:58:50 -0500 (Wed, 29 Oct 2025)
nebbiolo2Linux (Ubuntu 24.04.3 LTS) / x86_64  OK    OK    OK  UNNEEDED, same version is already published


CHECK results for scRNAseq on nebbiolo2

To the developers/maintainers of the scRNAseq package:
- Use the following Renviron settings to reproduce errors and warnings.
- If 'R CMD check' started to fail recently on the Linux builder(s) over a missing dependency, add the missing dependency to 'Suggests:' in your DESCRIPTION file. See Renviron.bioc for more information.

raw results


Summary

Package: scRNAseq
Version: 2.24.0
Command: /home/biocbuild/bbs-3.22-bioc/R/bin/R CMD check --install=check:scRNAseq.install-out.txt --library=/home/biocbuild/bbs-3.22-bioc/R/site-library --timings scRNAseq_2.24.0.tar.gz
StartedAt: 2025-11-18 13:36:58 -0500 (Tue, 18 Nov 2025)
EndedAt: 2025-11-18 14:03:25 -0500 (Tue, 18 Nov 2025)
EllapsedTime: 1587.3 seconds
RetCode: 0
Status:   OK  
CheckDir: scRNAseq.Rcheck
Warnings: 0

Command output

##############################################################################
##############################################################################
###
### Running command:
###
###   /home/biocbuild/bbs-3.22-bioc/R/bin/R CMD check --install=check:scRNAseq.install-out.txt --library=/home/biocbuild/bbs-3.22-bioc/R/site-library --timings scRNAseq_2.24.0.tar.gz
###
##############################################################################
##############################################################################


* using log directory ‘/home/biocbuild/bbs-3.22-data-experiment/meat/scRNAseq.Rcheck’
* using R version 4.5.2 (2025-10-31)
* using platform: x86_64-pc-linux-gnu
* R was compiled by
    gcc (Ubuntu 13.3.0-6ubuntu2~24.04) 13.3.0
    GNU Fortran (Ubuntu 13.3.0-6ubuntu2~24.04) 13.3.0
* running under: Ubuntu 24.04.3 LTS
* using session charset: UTF-8
* checking for file ‘scRNAseq/DESCRIPTION’ ... OK
* this is package ‘scRNAseq’ version ‘2.24.0’
* package encoding: UTF-8
* checking package namespace information ... OK
* checking package dependencies ... OK
* checking if this is a source package ... OK
* checking if there is a namespace ... OK
* checking for hidden files and directories ... NOTE
Found the following hidden files and directories:
  .BBSoptions
These were most likely included in error. See section ‘Package
structure’ in the ‘Writing R Extensions’ manual.
* checking for portable file names ... OK
* checking for sufficient/correct file permissions ... OK
* checking whether package ‘scRNAseq’ can be installed ... OK
* checking installed package size ... OK
* checking package directory ... OK
* checking ‘build’ directory ... OK
* checking DESCRIPTION meta-information ... OK
* checking top-level files ... OK
* checking for left-over files ... OK
* checking index information ... OK
* checking package subdirectories ... OK
* checking code files for non-ASCII characters ... OK
* checking R files for syntax errors ... OK
* checking whether the package can be loaded ... OK
* checking whether the package can be loaded with stated dependencies ... OK
* checking whether the package can be unloaded cleanly ... OK
* checking whether the namespace can be loaded with stated dependencies ... OK
* checking whether the namespace can be unloaded cleanly ... OK
* checking loading without being on the library search path ... OK
* checking dependencies in R code ... OK
* checking S3 generic/method consistency ... OK
* checking replacement functions ... OK
* checking foreign function calls ... OK
* checking R code for possible problems ... OK
* checking Rd files ... OK
* checking Rd metadata ... OK
* checking Rd cross-references ... OK
* checking for missing documentation entries ... OK
* checking for code/documentation mismatches ... OK
* checking Rd \usage sections ... OK
* checking Rd contents ... OK
* checking for unstated dependencies in examples ... OK
* checking files in ‘vignettes’ ... OK
* checking examples ... OK
Examples with CPU (user + system) or elapsed time > 5s
                           user system elapsed
BhaduriOrganoidData      26.287 12.140 128.972
BacherTCellData          17.966  6.526  45.908
ZeiselNervousData        16.126  5.880  63.593
HeOrganAtlasData         13.898  6.491 109.970
ErnstSpermatogenesisData 11.462  5.350  87.540
JessaBrainData           11.275  4.129  44.064
StoeckiusHashingData      9.982  1.199  62.551
ZhaoImmuneLiverData       6.653  2.730  30.083
AztekinTailData           7.689  1.117  17.385
BachMammaryData           7.282  1.269  11.846
GiladiHSCData             5.400  2.143  27.179
LunSpikeInData            5.713  0.290   6.727
NestorowaHSCData          4.680  0.365  22.502
ZilionisLungData          3.963  0.953   5.073
MessmerESCData            3.669  0.292  15.620
KolodziejczykESCData      3.406  0.250  17.830
BuettnerESCData           3.091  0.305   5.217
ShekharRetinaData         2.426  0.753  17.588
CampbellBrainData         1.933  1.046  13.173
PaulHSCData               2.356  0.225  10.253
MacoskoRetinaData         1.907  0.410  14.168
NowakowskiCortexData      1.631  0.211  18.670
SegerstolpePancreasData   1.424  0.345  11.043
LedergorMyelomaData       1.557  0.183  13.508
ChenBrainData             1.166  0.413  11.483
BunisHSPCData             1.140  0.432   9.710
XinPancreasData           1.146  0.277  12.541
HuCortexData              0.833  0.346  17.298
FletcherOlfactoryData     0.851  0.214   5.750
LawlorPancreasData        0.893  0.113   9.526
ZhongPrefrontalData       0.826  0.140  10.040
MarquesBrainData          0.858  0.084   5.026
MairPBMCData              0.847  0.069  11.407
LengESCData               0.716  0.150   9.487
WuKidneyData              0.566  0.076   9.788
* checking for unstated dependencies in ‘tests’ ... OK
* checking tests ...
  Running ‘testthat.R’
 OK
* checking for unstated dependencies in vignettes ... OK
* checking package vignettes ... OK
* checking re-building of vignette outputs ... OK
* checking PDF version of manual ... OK
* DONE

Status: 1 NOTE
See
  ‘/home/biocbuild/bbs-3.22-data-experiment/meat/scRNAseq.Rcheck/00check.log’
for details.


Installation output

scRNAseq.Rcheck/00install.out

##############################################################################
##############################################################################
###
### Running command:
###
###   /home/biocbuild/bbs-3.22-bioc/R/bin/R CMD INSTALL scRNAseq
###
##############################################################################
##############################################################################


* installing to library ‘/home/biocbuild/bbs-3.22-bioc/R/site-library’
* installing *source* package ‘scRNAseq’ ...
** this is package ‘scRNAseq’ version ‘2.24.0’
** using staged installation
** R
** inst
** byte-compile and prepare package for lazy loading
** help
*** installing help indices
** building package indices
** installing vignettes
** testing if installed package can be loaded from temporary location
** testing if installed package can be loaded from final location
** testing if installed package keeps a record of temporary installation path
* DONE (scRNAseq)

Tests output

scRNAseq.Rcheck/tests/testthat.Rout


R version 4.5.2 (2025-10-31) -- "[Not] Part in a Rumble"
Copyright (C) 2025 The R Foundation for Statistical Computing
Platform: x86_64-pc-linux-gnu

R is free software and comes with ABSOLUTELY NO WARRANTY.
You are welcome to redistribute it under certain conditions.
Type 'license()' or 'licence()' for distribution details.

R is a collaborative project with many contributors.
Type 'contributors()' for more information and
'citation()' on how to cite R or R packages in publications.

Type 'demo()' for some demos, 'help()' for on-line help, or
'help.start()' for an HTML browser interface to help.
Type 'q()' to quit R.

> library(testthat)
> library(scRNAseq)
Loading required package: SingleCellExperiment
Loading required package: SummarizedExperiment
Loading required package: MatrixGenerics
Loading required package: matrixStats

Attaching package: 'MatrixGenerics'

The following objects are masked from 'package:matrixStats':

    colAlls, colAnyNAs, colAnys, colAvgsPerRowSet, colCollapse,
    colCounts, colCummaxs, colCummins, colCumprods, colCumsums,
    colDiffs, colIQRDiffs, colIQRs, colLogSumExps, colMadDiffs,
    colMads, colMaxs, colMeans2, colMedians, colMins, colOrderStats,
    colProds, colQuantiles, colRanges, colRanks, colSdDiffs, colSds,
    colSums2, colTabulates, colVarDiffs, colVars, colWeightedMads,
    colWeightedMeans, colWeightedMedians, colWeightedSds,
    colWeightedVars, rowAlls, rowAnyNAs, rowAnys, rowAvgsPerColSet,
    rowCollapse, rowCounts, rowCummaxs, rowCummins, rowCumprods,
    rowCumsums, rowDiffs, rowIQRDiffs, rowIQRs, rowLogSumExps,
    rowMadDiffs, rowMads, rowMaxs, rowMeans2, rowMedians, rowMins,
    rowOrderStats, rowProds, rowQuantiles, rowRanges, rowRanks,
    rowSdDiffs, rowSds, rowSums2, rowTabulates, rowVarDiffs, rowVars,
    rowWeightedMads, rowWeightedMeans, rowWeightedMedians,
    rowWeightedSds, rowWeightedVars

Loading required package: GenomicRanges
Loading required package: stats4
Loading required package: BiocGenerics
Loading required package: generics

Attaching package: 'generics'

The following objects are masked from 'package:base':

    as.difftime, as.factor, as.ordered, intersect, is.element, setdiff,
    setequal, union


Attaching package: 'BiocGenerics'

The following objects are masked from 'package:stats':

    IQR, mad, sd, var, xtabs

The following objects are masked from 'package:base':

    Filter, Find, Map, Position, Reduce, anyDuplicated, aperm, append,
    as.data.frame, basename, cbind, colnames, dirname, do.call,
    duplicated, eval, evalq, get, grep, grepl, is.unsorted, lapply,
    mapply, match, mget, order, paste, pmax, pmax.int, pmin, pmin.int,
    rank, rbind, rownames, sapply, saveRDS, table, tapply, unique,
    unsplit, which.max, which.min

Loading required package: S4Vectors

Attaching package: 'S4Vectors'

The following object is masked from 'package:utils':

    findMatches

The following objects are masked from 'package:base':

    I, expand.grid, unname

Loading required package: IRanges
Loading required package: Seqinfo
Loading required package: Biobase
Welcome to Bioconductor

    Vignettes contain introductory material; view with
    'browseVignettes()'. To cite Bioconductor, see
    'citation("Biobase")', and for packages 'citation("pkgname")'.


Attaching package: 'Biobase'

The following object is masked from 'package:MatrixGenerics':

    rowMedians

The following objects are masked from 'package:matrixStats':

    anyMissing, rowMedians

> test_check("scRNAseq")













[ FAIL 0 | WARN 35 | SKIP 1 | PASS 186 ]

══ Skipped tests (1) ═══════════════════════════════════════════════════════════
• is.null(gh_token) is TRUE (1): 'test-uploadDirectory.R:59:5'

[ FAIL 0 | WARN 35 | SKIP 1 | PASS 186 ]
Warning message:
call dbDisconnect() when finished working with a connection 
> 
> proc.time()
   user  system elapsed 
252.809  23.604 315.413 

Example timings

scRNAseq.Rcheck/scRNAseq-Ex.timings

nameusersystemelapsed
AztekinTailData 7.689 1.11717.385
BachMammaryData 7.282 1.26911.846
BacherTCellData17.966 6.52645.908
BaronPancreasData0.9990.1431.160
BhaduriOrganoidData 26.287 12.140128.972
BuettnerESCData3.0910.3055.217
BunisHSPCData1.1400.4329.710
CampbellBrainData 1.933 1.04613.173
ChenBrainData 1.166 0.41311.483
DarmanisBrainData0.2560.0210.283
ERCCSpikeInConcentrations0.0200.0000.022
ErnstSpermatogenesisData11.462 5.35087.540
FletcherOlfactoryData0.8510.2145.750
GiladiHSCData 5.400 2.14327.179
GrunHSCData0.3560.0474.591
GrunPancreasData0.6070.2670.881
HeOrganAtlasData 13.898 6.491109.970
HermannSpermatogenesisData0.7510.2030.963
HuCortexData 0.833 0.34617.298
JessaBrainData11.275 4.12944.064
KolodziejczykESCData 3.406 0.25017.830
KotliarovPBMCData2.1870.2682.516
LaMannoBrainData1.5250.1501.746
LawlorPancreasData0.8930.1139.526
LedergorMyelomaData 1.557 0.18313.508
LengESCData0.7160.1509.487
LunSpikeInData5.7130.2906.727
MacoskoRetinaData 1.907 0.41014.168
MairPBMCData 0.847 0.06911.407
MarquesBrainData0.8580.0845.026
MessmerESCData 3.669 0.29215.620
MuraroPancreasData0.8640.0420.917
NestorowaHSCData 4.680 0.36522.502
NowakowskiCortexData 1.631 0.21118.670
PaulHSCData 2.356 0.22510.253
PollenGliaData0.3290.0314.223
ReprocessedData1.9430.1252.118
RichardTCellData2.8550.1433.520
RomanovBrainData0.4710.0500.529
SegerstolpePancreasData 1.424 0.34511.043
ShekharRetinaData 2.426 0.75317.588
StoeckiusHashingData 9.982 1.19962.551
TasicBrainData1.6730.2922.024
UsoskinBrainData0.5290.0270.687
WuKidneyData0.5660.0769.788
XinPancreasData 1.146 0.27712.541
ZeiselBrainData0.8960.1871.097
ZeiselNervousData16.126 5.88063.593
ZhaoImmuneLiverData 6.653 2.73030.083
ZhongPrefrontalData 0.826 0.14010.040
ZilionisLungData3.9630.9535.073
countErccMolecules0.0330.0000.033
fetchDataset0.4160.0040.420
listDatasets0.0090.0000.010
listPaths0.4370.0021.424
listVersions0.0120.0000.293
polishDataset0.1780.0000.178
saveDataset0.7270.0230.696
searchDatasets1.5470.0261.791
surveyDatasets0.8500.0060.857