| Back to Build/check report for BioC 3.23 experimental data |
|
This page was generated on 2025-11-13 15:01 -0500 (Thu, 13 Nov 2025).
| Hostname | OS | Arch (*) | R version | Installed pkgs |
|---|---|---|---|---|
| nebbiolo1 | Linux (Ubuntu 24.04.3 LTS) | x86_64 | R Under development (unstable) (2025-10-20 r88955) -- "Unsuffered Consequences" | 4825 |
| Click on any hostname to see more info about the system (e.g. compilers) (*) as reported by 'uname -p', except on Windows and Mac OS X | ||||
| Package 84/431 | Hostname | OS / Arch | INSTALL | BUILD | CHECK | ||||||||
| curatedPCaData 1.7.0 (landing page) Teemu Daniel Laajala
| nebbiolo1 | Linux (Ubuntu 24.04.3 LTS) / x86_64 | OK | OK | OK | ||||||||
|
To the developers/maintainers of the curatedPCaData package: - Use the following Renviron settings to reproduce errors and warnings. - If 'R CMD check' started to fail recently on the Linux builder(s) over a missing dependency, add the missing dependency to 'Suggests:' in your DESCRIPTION file. See Renviron.bioc for more information. |
| Package: curatedPCaData |
| Version: 1.7.0 |
| Command: /home/biocbuild/bbs-3.23-bioc/R/bin/R CMD check --install=check:curatedPCaData.install-out.txt --library=/home/biocbuild/bbs-3.23-bioc/R/site-library --timings curatedPCaData_1.7.0.tar.gz |
| StartedAt: 2025-11-13 12:11:58 -0500 (Thu, 13 Nov 2025) |
| EndedAt: 2025-11-13 12:36:15 -0500 (Thu, 13 Nov 2025) |
| EllapsedTime: 1457.2 seconds |
| RetCode: 0 |
| Status: OK |
| CheckDir: curatedPCaData.Rcheck |
| Warnings: 0 |
##############################################################################
##############################################################################
###
### Running command:
###
### /home/biocbuild/bbs-3.23-bioc/R/bin/R CMD check --install=check:curatedPCaData.install-out.txt --library=/home/biocbuild/bbs-3.23-bioc/R/site-library --timings curatedPCaData_1.7.0.tar.gz
###
##############################################################################
##############################################################################
* using log directory ‘/home/biocbuild/bbs-3.23-data-experiment/meat/curatedPCaData.Rcheck’
* using R Under development (unstable) (2025-10-20 r88955)
* using platform: x86_64-pc-linux-gnu
* R was compiled by
gcc (Ubuntu 13.3.0-6ubuntu2~24.04) 13.3.0
GNU Fortran (Ubuntu 13.3.0-6ubuntu2~24.04) 13.3.0
* running under: Ubuntu 24.04.3 LTS
* using session charset: UTF-8
* checking for file ‘curatedPCaData/DESCRIPTION’ ... OK
* this is package ‘curatedPCaData’ version ‘1.7.0’
* package encoding: UTF-8
* checking package namespace information ... OK
* checking package dependencies ... OK
* checking if this is a source package ... OK
* checking if there is a namespace ... OK
* checking for hidden files and directories ... OK
* checking for portable file names ... OK
* checking for sufficient/correct file permissions ... OK
* checking whether package ‘curatedPCaData’ can be installed ... OK
* checking installed package size ... OK
* checking package directory ... OK
* checking ‘build’ directory ... OK
* checking DESCRIPTION meta-information ... OK
* checking top-level files ... OK
* checking for left-over files ... OK
* checking index information ... OK
* checking package subdirectories ... OK
* checking code files for non-ASCII characters ... OK
* checking R files for syntax errors ... OK
* checking whether the package can be loaded ... OK
* checking whether the package can be loaded with stated dependencies ... OK
* checking whether the package can be unloaded cleanly ... OK
* checking whether the namespace can be loaded with stated dependencies ... OK
* checking whether the namespace can be unloaded cleanly ... OK
* checking loading without being on the library search path ... OK
* checking dependencies in R code ... OK
* checking S3 generic/method consistency ... OK
* checking replacement functions ... OK
* checking foreign function calls ... OK
* checking R code for possible problems ... OK
* checking Rd files ... OK
* checking Rd metadata ... OK
* checking Rd cross-references ... NOTE
Found the following Rd file(s) with Rd \link{} targets missing package
anchors:
getPCa.Rd: MultiAssayExperiment-class
Please provide package anchors for all Rd \link{} targets not in the
package itself and the base packages.
* checking for missing documentation entries ... OK
* checking for code/documentation mismatches ... OK
* checking Rd \usage sections ... OK
* checking Rd contents ... OK
* checking for unstated dependencies in examples ... OK
* checking contents of ‘data’ directory ... OK
* checking data for non-ASCII characters ... OK
* checking data for ASCII and uncompressed saves ... OK
* checking R/sysdata.rda ... OK
* checking files in ‘vignettes’ ... OK
* checking examples ... OK
Examples with CPU (user + system) or elapsed time > 5s
user system elapsed
getPCaSummaryStudies 198.837 10.096 237.326
getPCaSummarySurv 26.941 1.346 32.223
getPCaSummaryTable 26.316 1.342 31.280
getPCaSummarySamples 25.893 1.374 30.419
curatedPCaDatasets_abida 17.326 1.839 20.702
curatedPCaDatasets_taylor 14.870 0.792 17.236
getPCa 13.992 0.764 16.114
curatedPCaDatasets_barbieri 13.294 1.421 16.049
curatedPCaDatasets_tcga 13.526 1.163 15.604
curatedPCaDatasets_ren 12.300 0.573 13.712
curatedPCaDatasets_weiner 10.829 0.679 12.681
curatedPCaDatasets_sun 10.935 0.524 12.433
curatedPCaDatasets_kim 10.696 0.607 14.607
curatedPCaDatasets_kunderfranco 10.661 0.520 12.037
curatedPCaDatasets_wallace 10.538 0.536 11.837
curatedPCaDatasets_chandran 10.366 0.657 13.084
curatedPCaDatasets_igc 10.477 0.529 14.292
curatedPCaDatasets_friedrich 10.402 0.603 14.170
curatedPCaDatasets_icgcca 10.308 0.574 12.504
curatedPCaDatasets_wang 9.729 0.521 11.365
curatedPCaDatasets_true 8.977 0.457 10.115
curatedPCaDatasets_barwick 8.369 0.832 10.276
curatedPCaDatasets_baca 4.443 0.408 6.132
* checking for unstated dependencies in ‘tests’ ... OK
* checking tests ...
Running ‘native_tests.R’
OK
* checking for unstated dependencies in vignettes ... OK
* checking package vignettes ... OK
* checking re-building of vignette outputs ... OK
* checking PDF version of manual ... OK
* DONE
Status: 1 NOTE
See
‘/home/biocbuild/bbs-3.23-data-experiment/meat/curatedPCaData.Rcheck/00check.log’
for details.
curatedPCaData.Rcheck/00install.out
############################################################################## ############################################################################## ### ### Running command: ### ### /home/biocbuild/bbs-3.23-bioc/R/bin/R CMD INSTALL curatedPCaData ### ############################################################################## ############################################################################## * installing to library ‘/home/biocbuild/bbs-3.23-bioc/R/site-library’ * installing *source* package ‘curatedPCaData’ ... ** this is package ‘curatedPCaData’ version ‘1.7.0’ ** using staged installation ** R ** data ** inst ** byte-compile and prepare package for lazy loading ** help *** installing help indices *** copying figures ** building package indices ** installing vignettes ** testing if installed package can be loaded from temporary location ** testing if installed package can be loaded from final location ** testing if installed package keeps a record of temporary installation path * DONE (curatedPCaData)
curatedPCaData.Rcheck/tests/native_tests.Rout
R Under development (unstable) (2025-10-20 r88955) -- "Unsuffered Consequences"
Copyright (C) 2025 The R Foundation for Statistical Computing
Platform: x86_64-pc-linux-gnu
R is free software and comes with ABSOLUTELY NO WARRANTY.
You are welcome to redistribute it under certain conditions.
Type 'license()' or 'licence()' for distribution details.
R is a collaborative project with many contributors.
Type 'contributors()' for more information and
'citation()' on how to cite R or R packages in publications.
Type 'demo()' for some demos, 'help()' for on-line help, or
'help.start()' for an HTML browser interface to help.
Type 'q()' to quit R.
> ###
> #
> # Native 'R CMD check' tests run on the 'curatedPCaData'-package
> # Any exceptions will count as a failure for 'R CMD check' run (notably, does
> # not require 'RUnit' or 'testthat' packages for testing)
> #
> ###
>
> ##
> # Testing of getPCa main functionality
> ##
>
> # Test retrieval of TCGA with all assays
> # Get default fetching of a MAE object based on short id
> methods::is(curatedPCaData::getPCa("tcga"), "MultiAssayExperiment")
Warning: stack imbalance in '::', 6 then 7
see ?curatedPCaData and browseVignettes('curatedPCaData') for documentation
loading from cache
see ?curatedPCaData and browseVignettes('curatedPCaData') for documentation
loading from cache
see ?curatedPCaData and browseVignettes('curatedPCaData') for documentation
loading from cache
see ?curatedPCaData and browseVignettes('curatedPCaData') for documentation
loading from cache
see ?curatedPCaData and browseVignettes('curatedPCaData') for documentation
loading from cache
see ?curatedPCaData and browseVignettes('curatedPCaData') for documentation
loading from cache
see ?curatedPCaData and browseVignettes('curatedPCaData') for documentation
loading from cache
see ?curatedPCaData and browseVignettes('curatedPCaData') for documentation
loading from cache
see ?curatedPCaData and browseVignettes('curatedPCaData') for documentation
loading from cache
see ?curatedPCaData and browseVignettes('curatedPCaData') for documentation
loading from cache
see ?curatedPCaData and browseVignettes('curatedPCaData') for documentation
loading from cache
see ?curatedPCaData and browseVignettes('curatedPCaData') for documentation
loading from cache
Constructing the MultiAssayExperiment object from retrieved
components.
[1] TRUE
>
> # Test retrieval of Taylor with a pre-specified subset of assays
> # Get fetching of an assay subset
> methods::is(curatedPCaData::getPCa("taylor", assays = c("gex.rma", "cibersort",
+ "scores")), "MultiAssayExperiment")
see ?curatedPCaData and browseVignettes('curatedPCaData') for documentation
loading from cache
see ?curatedPCaData and browseVignettes('curatedPCaData') for documentation
loading from cache
see ?curatedPCaData and browseVignettes('curatedPCaData') for documentation
loading from cache
see ?curatedPCaData and browseVignettes('curatedPCaData') for documentation
loading from cache
see ?curatedPCaData and browseVignettes('curatedPCaData') for documentation
loading from cache
Constructing the MultiAssayExperiment object from retrieved
components.
harmonizing input:
removing 1350 sampleMap rows not in names(experiments)
removing 68 colData rownames not in sampleMap 'primary'
[1] TRUE
>
> # Test a data fetch that should result in an error
> # Test that an error is produced correctly for a study that does not exist
> methods::is(try({curatedPCaData::getPCa("studyname_misspelled", assays =
+ c("foo", "bar"))}, silent=TRUE), "try-error")
[1] TRUE
>
> # Test fetching of an assay that does not exist
> # Test that an error is produced correctly for assays that do not exist
> methods::is(try({curatedPCaData::getPCa("tcga", assays = "typo")},
+ silent=TRUE), "try-error")
[1] TRUE
>
> # Test sample subtype subsetting during getPCa
> # Get only primary samples from TCGA
> all(curatedPCaData::getPCa("tcga", sampletypes = "primary")$sample_type ==
+ "primary")
see ?curatedPCaData and browseVignettes('curatedPCaData') for documentation
loading from cache
see ?curatedPCaData and browseVignettes('curatedPCaData') for documentation
loading from cache
see ?curatedPCaData and browseVignettes('curatedPCaData') for documentation
loading from cache
see ?curatedPCaData and browseVignettes('curatedPCaData') for documentation
loading from cache
see ?curatedPCaData and browseVignettes('curatedPCaData') for documentation
loading from cache
see ?curatedPCaData and browseVignettes('curatedPCaData') for documentation
loading from cache
see ?curatedPCaData and browseVignettes('curatedPCaData') for documentation
loading from cache
see ?curatedPCaData and browseVignettes('curatedPCaData') for documentation
loading from cache
see ?curatedPCaData and browseVignettes('curatedPCaData') for documentation
loading from cache
see ?curatedPCaData and browseVignettes('curatedPCaData') for documentation
loading from cache
see ?curatedPCaData and browseVignettes('curatedPCaData') for documentation
loading from cache
see ?curatedPCaData and browseVignettes('curatedPCaData') for documentation
loading from cache
Constructing the MultiAssayExperiment object from retrieved
components.
[1] TRUE
> # Test omitting metastatic samples from Chandran et al.
> all(curatedPCaData::getPCa("chandran", sampletypes = c("primary", "normal")
+ )$sample_type %in% c("primary", "normal"))
see ?curatedPCaData and browseVignettes('curatedPCaData') for documentation
loading from cache
see ?curatedPCaData and browseVignettes('curatedPCaData') for documentation
loading from cache
see ?curatedPCaData and browseVignettes('curatedPCaData') for documentation
loading from cache
see ?curatedPCaData and browseVignettes('curatedPCaData') for documentation
loading from cache
see ?curatedPCaData and browseVignettes('curatedPCaData') for documentation
loading from cache
see ?curatedPCaData and browseVignettes('curatedPCaData') for documentation
loading from cache
see ?curatedPCaData and browseVignettes('curatedPCaData') for documentation
loading from cache
see ?curatedPCaData and browseVignettes('curatedPCaData') for documentation
loading from cache
see ?curatedPCaData and browseVignettes('curatedPCaData') for documentation
loading from cache
see ?curatedPCaData and browseVignettes('curatedPCaData') for documentation
loading from cache
Constructing the MultiAssayExperiment object from retrieved
components.
[1] TRUE
>
> ##
> # Testing of supporting summary functions etc
> ##
>
> # Test fetching of study short ids and that the 19 studies originally available
> # in Laajala et al. 2013 are retrieved correctly
> # Tested function: curatedPCaData::getPCaStudies
> studies <- curatedPCaData::getPCaStudies()
> all(c("abida", "baca", "barbieri", "barwick", "chandran", "friedrich",
+ "hieronymus", "icgcca", "igc", "kim", "kunderfranco", "ren", "sun",
+ "taylor", "tcga", "true", "wallace", "wang", "weiner") %in% studies)
[1] TRUE
>
> # Fetch MAE objects for further use
> maes <- lapply(studies, FUN=\(id) { curatedPCaData::getPCa(id) })
see ?curatedPCaData and browseVignettes('curatedPCaData') for documentation
loading from cache
see ?curatedPCaData and browseVignettes('curatedPCaData') for documentation
loading from cache
see ?curatedPCaData and browseVignettes('curatedPCaData') for documentation
loading from cache
see ?curatedPCaData and browseVignettes('curatedPCaData') for documentation
loading from cache
see ?curatedPCaData and browseVignettes('curatedPCaData') for documentation
loading from cache
see ?curatedPCaData and browseVignettes('curatedPCaData') for documentation
loading from cache
see ?curatedPCaData and browseVignettes('curatedPCaData') for documentation
loading from cache
see ?curatedPCaData and browseVignettes('curatedPCaData') for documentation
loading from cache
see ?curatedPCaData and browseVignettes('curatedPCaData') for documentation
loading from cache
see ?curatedPCaData and browseVignettes('curatedPCaData') for documentation
loading from cache
see ?curatedPCaData and browseVignettes('curatedPCaData') for documentation
loading from cache
see ?curatedPCaData and browseVignettes('curatedPCaData') for documentation
loading from cache
Constructing the MultiAssayExperiment object from retrieved
components.
see ?curatedPCaData and browseVignettes('curatedPCaData') for documentation
loading from cache
see ?curatedPCaData and browseVignettes('curatedPCaData') for documentation
loading from cache
see ?curatedPCaData and browseVignettes('curatedPCaData') for documentation
loading from cache
see ?curatedPCaData and browseVignettes('curatedPCaData') for documentation
loading from cache
Constructing the MultiAssayExperiment object from retrieved
components.
see ?curatedPCaData and browseVignettes('curatedPCaData') for documentation
loading from cache
see ?curatedPCaData and browseVignettes('curatedPCaData') for documentation
loading from cache
see ?curatedPCaData and browseVignettes('curatedPCaData') for documentation
loading from cache
see ?curatedPCaData and browseVignettes('curatedPCaData') for documentation
loading from cache
see ?curatedPCaData and browseVignettes('curatedPCaData') for documentation
loading from cache
see ?curatedPCaData and browseVignettes('curatedPCaData') for documentation
loading from cache
see ?curatedPCaData and browseVignettes('curatedPCaData') for documentation
loading from cache
see ?curatedPCaData and browseVignettes('curatedPCaData') for documentation
loading from cache
see ?curatedPCaData and browseVignettes('curatedPCaData') for documentation
loading from cache
see ?curatedPCaData and browseVignettes('curatedPCaData') for documentation
loading from cache
see ?curatedPCaData and browseVignettes('curatedPCaData') for documentation
loading from cache
see ?curatedPCaData and browseVignettes('curatedPCaData') for documentation
loading from cache
Constructing the MultiAssayExperiment object from retrieved
components.
see ?curatedPCaData and browseVignettes('curatedPCaData') for documentation
loading from cache
see ?curatedPCaData and browseVignettes('curatedPCaData') for documentation
loading from cache
see ?curatedPCaData and browseVignettes('curatedPCaData') for documentation
loading from cache
see ?curatedPCaData and browseVignettes('curatedPCaData') for documentation
loading from cache
see ?curatedPCaData and browseVignettes('curatedPCaData') for documentation
loading from cache
see ?curatedPCaData and browseVignettes('curatedPCaData') for documentation
loading from cache
see ?curatedPCaData and browseVignettes('curatedPCaData') for documentation
loading from cache
see ?curatedPCaData and browseVignettes('curatedPCaData') for documentation
loading from cache
Constructing the MultiAssayExperiment object from retrieved
components.
see ?curatedPCaData and browseVignettes('curatedPCaData') for documentation
loading from cache
see ?curatedPCaData and browseVignettes('curatedPCaData') for documentation
loading from cache
see ?curatedPCaData and browseVignettes('curatedPCaData') for documentation
loading from cache
see ?curatedPCaData and browseVignettes('curatedPCaData') for documentation
loading from cache
see ?curatedPCaData and browseVignettes('curatedPCaData') for documentation
loading from cache
see ?curatedPCaData and browseVignettes('curatedPCaData') for documentation
loading from cache
see ?curatedPCaData and browseVignettes('curatedPCaData') for documentation
loading from cache
see ?curatedPCaData and browseVignettes('curatedPCaData') for documentation
loading from cache
see ?curatedPCaData and browseVignettes('curatedPCaData') for documentation
loading from cache
see ?curatedPCaData and browseVignettes('curatedPCaData') for documentation
loading from cache
Constructing the MultiAssayExperiment object from retrieved
components.
see ?curatedPCaData and browseVignettes('curatedPCaData') for documentation
loading from cache
see ?curatedPCaData and browseVignettes('curatedPCaData') for documentation
loading from cache
see ?curatedPCaData and browseVignettes('curatedPCaData') for documentation
loading from cache
see ?curatedPCaData and browseVignettes('curatedPCaData') for documentation
loading from cache
see ?curatedPCaData and browseVignettes('curatedPCaData') for documentation
loading from cache
see ?curatedPCaData and browseVignettes('curatedPCaData') for documentation
loading from cache
see ?curatedPCaData and browseVignettes('curatedPCaData') for documentation
loading from cache
see ?curatedPCaData and browseVignettes('curatedPCaData') for documentation
loading from cache
see ?curatedPCaData and browseVignettes('curatedPCaData') for documentation
loading from cache
see ?curatedPCaData and browseVignettes('curatedPCaData') for documentation
loading from cache
Constructing the MultiAssayExperiment object from retrieved
components.
see ?curatedPCaData and browseVignettes('curatedPCaData') for documentation
loading from cache
see ?curatedPCaData and browseVignettes('curatedPCaData') for documentation
loading from cache
see ?curatedPCaData and browseVignettes('curatedPCaData') for documentation
loading from cache
Constructing the MultiAssayExperiment object from retrieved
components.
see ?curatedPCaData and browseVignettes('curatedPCaData') for documentation
loading from cache
see ?curatedPCaData and browseVignettes('curatedPCaData') for documentation
loading from cache
see ?curatedPCaData and browseVignettes('curatedPCaData') for documentation
loading from cache
see ?curatedPCaData and browseVignettes('curatedPCaData') for documentation
loading from cache
see ?curatedPCaData and browseVignettes('curatedPCaData') for documentation
loading from cache
see ?curatedPCaData and browseVignettes('curatedPCaData') for documentation
loading from cache
see ?curatedPCaData and browseVignettes('curatedPCaData') for documentation
loading from cache
see ?curatedPCaData and browseVignettes('curatedPCaData') for documentation
loading from cache
see ?curatedPCaData and browseVignettes('curatedPCaData') for documentation
loading from cache
see ?curatedPCaData and browseVignettes('curatedPCaData') for documentation
loading from cache
Constructing the MultiAssayExperiment object from retrieved
components.
see ?curatedPCaData and browseVignettes('curatedPCaData') for documentation
loading from cache
see ?curatedPCaData and browseVignettes('curatedPCaData') for documentation
loading from cache
see ?curatedPCaData and browseVignettes('curatedPCaData') for documentation
loading from cache
see ?curatedPCaData and browseVignettes('curatedPCaData') for documentation
loading from cache
see ?curatedPCaData and browseVignettes('curatedPCaData') for documentation
loading from cache
see ?curatedPCaData and browseVignettes('curatedPCaData') for documentation
loading from cache
see ?curatedPCaData and browseVignettes('curatedPCaData') for documentation
loading from cache
see ?curatedPCaData and browseVignettes('curatedPCaData') for documentation
loading from cache
see ?curatedPCaData and browseVignettes('curatedPCaData') for documentation
loading from cache
see ?curatedPCaData and browseVignettes('curatedPCaData') for documentation
loading from cache
Constructing the MultiAssayExperiment object from retrieved
components.
see ?curatedPCaData and browseVignettes('curatedPCaData') for documentation
loading from cache
see ?curatedPCaData and browseVignettes('curatedPCaData') for documentation
loading from cache
see ?curatedPCaData and browseVignettes('curatedPCaData') for documentation
loading from cache
see ?curatedPCaData and browseVignettes('curatedPCaData') for documentation
loading from cache
see ?curatedPCaData and browseVignettes('curatedPCaData') for documentation
loading from cache
see ?curatedPCaData and browseVignettes('curatedPCaData') for documentation
loading from cache
see ?curatedPCaData and browseVignettes('curatedPCaData') for documentation
loading from cache
see ?curatedPCaData and browseVignettes('curatedPCaData') for documentation
loading from cache
see ?curatedPCaData and browseVignettes('curatedPCaData') for documentation
loading from cache
see ?curatedPCaData and browseVignettes('curatedPCaData') for documentation
loading from cache
Constructing the MultiAssayExperiment object from retrieved
components.
see ?curatedPCaData and browseVignettes('curatedPCaData') for documentation
loading from cache
see ?curatedPCaData and browseVignettes('curatedPCaData') for documentation
loading from cache
see ?curatedPCaData and browseVignettes('curatedPCaData') for documentation
loading from cache
see ?curatedPCaData and browseVignettes('curatedPCaData') for documentation
loading from cache
see ?curatedPCaData and browseVignettes('curatedPCaData') for documentation
loading from cache
see ?curatedPCaData and browseVignettes('curatedPCaData') for documentation
loading from cache
see ?curatedPCaData and browseVignettes('curatedPCaData') for documentation
loading from cache
see ?curatedPCaData and browseVignettes('curatedPCaData') for documentation
loading from cache
see ?curatedPCaData and browseVignettes('curatedPCaData') for documentation
loading from cache
see ?curatedPCaData and browseVignettes('curatedPCaData') for documentation
loading from cache
Constructing the MultiAssayExperiment object from retrieved
components.
see ?curatedPCaData and browseVignettes('curatedPCaData') for documentation
loading from cache
see ?curatedPCaData and browseVignettes('curatedPCaData') for documentation
loading from cache
see ?curatedPCaData and browseVignettes('curatedPCaData') for documentation
loading from cache
see ?curatedPCaData and browseVignettes('curatedPCaData') for documentation
loading from cache
see ?curatedPCaData and browseVignettes('curatedPCaData') for documentation
loading from cache
see ?curatedPCaData and browseVignettes('curatedPCaData') for documentation
loading from cache
see ?curatedPCaData and browseVignettes('curatedPCaData') for documentation
loading from cache
see ?curatedPCaData and browseVignettes('curatedPCaData') for documentation
loading from cache
see ?curatedPCaData and browseVignettes('curatedPCaData') for documentation
loading from cache
see ?curatedPCaData and browseVignettes('curatedPCaData') for documentation
loading from cache
see ?curatedPCaData and browseVignettes('curatedPCaData') for documentation
loading from cache
Constructing the MultiAssayExperiment object from retrieved
components.
see ?curatedPCaData and browseVignettes('curatedPCaData') for documentation
loading from cache
see ?curatedPCaData and browseVignettes('curatedPCaData') for documentation
loading from cache
see ?curatedPCaData and browseVignettes('curatedPCaData') for documentation
loading from cache
see ?curatedPCaData and browseVignettes('curatedPCaData') for documentation
loading from cache
see ?curatedPCaData and browseVignettes('curatedPCaData') for documentation
loading from cache
see ?curatedPCaData and browseVignettes('curatedPCaData') for documentation
loading from cache
see ?curatedPCaData and browseVignettes('curatedPCaData') for documentation
loading from cache
see ?curatedPCaData and browseVignettes('curatedPCaData') for documentation
loading from cache
see ?curatedPCaData and browseVignettes('curatedPCaData') for documentation
loading from cache
see ?curatedPCaData and browseVignettes('curatedPCaData') for documentation
loading from cache
Constructing the MultiAssayExperiment object from retrieved
components.
see ?curatedPCaData and browseVignettes('curatedPCaData') for documentation
loading from cache
see ?curatedPCaData and browseVignettes('curatedPCaData') for documentation
loading from cache
see ?curatedPCaData and browseVignettes('curatedPCaData') for documentation
loading from cache
see ?curatedPCaData and browseVignettes('curatedPCaData') for documentation
loading from cache
see ?curatedPCaData and browseVignettes('curatedPCaData') for documentation
loading from cache
see ?curatedPCaData and browseVignettes('curatedPCaData') for documentation
loading from cache
see ?curatedPCaData and browseVignettes('curatedPCaData') for documentation
loading from cache
see ?curatedPCaData and browseVignettes('curatedPCaData') for documentation
loading from cache
see ?curatedPCaData and browseVignettes('curatedPCaData') for documentation
loading from cache
see ?curatedPCaData and browseVignettes('curatedPCaData') for documentation
loading from cache
see ?curatedPCaData and browseVignettes('curatedPCaData') for documentation
loading from cache
see ?curatedPCaData and browseVignettes('curatedPCaData') for documentation
loading from cache
see ?curatedPCaData and browseVignettes('curatedPCaData') for documentation
loading from cache
Constructing the MultiAssayExperiment object from retrieved
components.
see ?curatedPCaData and browseVignettes('curatedPCaData') for documentation
loading from cache
see ?curatedPCaData and browseVignettes('curatedPCaData') for documentation
loading from cache
see ?curatedPCaData and browseVignettes('curatedPCaData') for documentation
loading from cache
see ?curatedPCaData and browseVignettes('curatedPCaData') for documentation
loading from cache
see ?curatedPCaData and browseVignettes('curatedPCaData') for documentation
loading from cache
see ?curatedPCaData and browseVignettes('curatedPCaData') for documentation
loading from cache
see ?curatedPCaData and browseVignettes('curatedPCaData') for documentation
loading from cache
see ?curatedPCaData and browseVignettes('curatedPCaData') for documentation
loading from cache
see ?curatedPCaData and browseVignettes('curatedPCaData') for documentation
loading from cache
see ?curatedPCaData and browseVignettes('curatedPCaData') for documentation
loading from cache
see ?curatedPCaData and browseVignettes('curatedPCaData') for documentation
loading from cache
see ?curatedPCaData and browseVignettes('curatedPCaData') for documentation
loading from cache
Constructing the MultiAssayExperiment object from retrieved
components.
see ?curatedPCaData and browseVignettes('curatedPCaData') for documentation
loading from cache
see ?curatedPCaData and browseVignettes('curatedPCaData') for documentation
loading from cache
see ?curatedPCaData and browseVignettes('curatedPCaData') for documentation
loading from cache
see ?curatedPCaData and browseVignettes('curatedPCaData') for documentation
loading from cache
see ?curatedPCaData and browseVignettes('curatedPCaData') for documentation
loading from cache
see ?curatedPCaData and browseVignettes('curatedPCaData') for documentation
loading from cache
see ?curatedPCaData and browseVignettes('curatedPCaData') for documentation
loading from cache
see ?curatedPCaData and browseVignettes('curatedPCaData') for documentation
loading from cache
see ?curatedPCaData and browseVignettes('curatedPCaData') for documentation
loading from cache
Constructing the MultiAssayExperiment object from retrieved
components.
see ?curatedPCaData and browseVignettes('curatedPCaData') for documentation
loading from cache
see ?curatedPCaData and browseVignettes('curatedPCaData') for documentation
loading from cache
see ?curatedPCaData and browseVignettes('curatedPCaData') for documentation
loading from cache
see ?curatedPCaData and browseVignettes('curatedPCaData') for documentation
loading from cache
see ?curatedPCaData and browseVignettes('curatedPCaData') for documentation
loading from cache
see ?curatedPCaData and browseVignettes('curatedPCaData') for documentation
loading from cache
see ?curatedPCaData and browseVignettes('curatedPCaData') for documentation
loading from cache
see ?curatedPCaData and browseVignettes('curatedPCaData') for documentation
loading from cache
see ?curatedPCaData and browseVignettes('curatedPCaData') for documentation
loading from cache
see ?curatedPCaData and browseVignettes('curatedPCaData') for documentation
loading from cache
Constructing the MultiAssayExperiment object from retrieved
components.
see ?curatedPCaData and browseVignettes('curatedPCaData') for documentation
loading from cache
see ?curatedPCaData and browseVignettes('curatedPCaData') for documentation
loading from cache
see ?curatedPCaData and browseVignettes('curatedPCaData') for documentation
loading from cache
see ?curatedPCaData and browseVignettes('curatedPCaData') for documentation
loading from cache
see ?curatedPCaData and browseVignettes('curatedPCaData') for documentation
loading from cache
see ?curatedPCaData and browseVignettes('curatedPCaData') for documentation
loading from cache
see ?curatedPCaData and browseVignettes('curatedPCaData') for documentation
loading from cache
see ?curatedPCaData and browseVignettes('curatedPCaData') for documentation
loading from cache
see ?curatedPCaData and browseVignettes('curatedPCaData') for documentation
loading from cache
see ?curatedPCaData and browseVignettes('curatedPCaData') for documentation
loading from cache
Constructing the MultiAssayExperiment object from retrieved
components.
see ?curatedPCaData and browseVignettes('curatedPCaData') for documentation
loading from cache
see ?curatedPCaData and browseVignettes('curatedPCaData') for documentation
loading from cache
see ?curatedPCaData and browseVignettes('curatedPCaData') for documentation
loading from cache
see ?curatedPCaData and browseVignettes('curatedPCaData') for documentation
loading from cache
see ?curatedPCaData and browseVignettes('curatedPCaData') for documentation
loading from cache
see ?curatedPCaData and browseVignettes('curatedPCaData') for documentation
loading from cache
see ?curatedPCaData and browseVignettes('curatedPCaData') for documentation
loading from cache
see ?curatedPCaData and browseVignettes('curatedPCaData') for documentation
loading from cache
see ?curatedPCaData and browseVignettes('curatedPCaData') for documentation
loading from cache
see ?curatedPCaData and browseVignettes('curatedPCaData') for documentation
loading from cache
Constructing the MultiAssayExperiment object from retrieved
components.
> names(maes) <- studies
>
> # getPCaSummaryTable should summarize into a character matrix key instances and
> # percentages for certain values for a given colData metadata variable
> # Tested function: curatedPCaData::getPCaSummaryTable
> inherits(curatedPCaData::getPCaSummaryTable(maes, var.name = "grade_group",
+ vals=c("<=6", "3+4", "4+3", "7", ">=8")), "matrix")
[1] TRUE
>
> # getPCaSummaryTable should summarize into a character matrix event counts and
> # follow-up times for a Surv-like data
> # Tested function: curatedPCaData::getPCaSummarySurv
> inherits(curatedPCaData::getPCaSummarySurv(maes, event.name =
+ "disease_specific_recurrence_status",
+ time.name = "days_to_disease_specific_recurrence"), "matrix")
[1] TRUE
>
> # getPCaSummarySamples should return a list of length 2; first element
> # containing unique assay names and N counts in each study, and second element
> # a matrix with GEX/CNA/MUT combinations for overlap
> # Tested function: curatedPCaData::getPCaSummarySamples
> inherits(curatedPCaData::getPCaSummarySamples(maes), "list")
[1] TRUE
> length(curatedPCaData::getPCaSummarySamples(maes)) == 2
[1] TRUE
>
> # getPCaSummaryStudies should create a verbose character matrix depicting key
> # characteristics for each study, such as sample counts, platforms, and special
> # notes to be aware of
> # Tested function: curatedPCaData::getPCaSummaryStudies,
> # curatedPCaData::getPCaStudies
> inherits(curatedPCaData::getPCaSummaryStudies(maes), "matrix")
[1] TRUE
>
>
> proc.time()
user system elapsed
255.158 13.450 306.292
curatedPCaData.Rcheck/curatedPCaData-Ex.timings
| name | user | system | elapsed | |
| curatedPCaDatasets_abida | 17.326 | 1.839 | 20.702 | |
| curatedPCaDatasets_baca | 4.443 | 0.408 | 6.132 | |
| curatedPCaDatasets_barbieri | 13.294 | 1.421 | 16.049 | |
| curatedPCaDatasets_barwick | 8.369 | 0.832 | 10.276 | |
| curatedPCaDatasets_chandran | 10.366 | 0.657 | 13.084 | |
| curatedPCaDatasets_friedrich | 10.402 | 0.603 | 14.170 | |
| curatedPCaDatasets_hieronymus | 3.378 | 0.228 | 3.947 | |
| curatedPCaDatasets_icgcca | 10.308 | 0.574 | 12.504 | |
| curatedPCaDatasets_igc | 10.477 | 0.529 | 14.292 | |
| curatedPCaDatasets_kim | 10.696 | 0.607 | 14.607 | |
| curatedPCaDatasets_kunderfranco | 10.661 | 0.520 | 12.037 | |
| curatedPCaDatasets_ren | 12.300 | 0.573 | 13.712 | |
| curatedPCaDatasets_sun | 10.935 | 0.524 | 12.433 | |
| curatedPCaDatasets_taylor | 14.870 | 0.792 | 17.236 | |
| curatedPCaDatasets_tcga | 13.526 | 1.163 | 15.604 | |
| curatedPCaDatasets_true | 8.977 | 0.457 | 10.115 | |
| curatedPCaDatasets_wallace | 10.538 | 0.536 | 11.837 | |
| curatedPCaDatasets_wang | 9.729 | 0.521 | 11.365 | |
| curatedPCaDatasets_weiner | 10.829 | 0.679 | 12.681 | |
| getPCa | 13.992 | 0.764 | 16.114 | |
| getPCaStudies | 0.005 | 0.000 | 0.006 | |
| getPCaSummarySamples | 25.893 | 1.374 | 30.419 | |
| getPCaSummaryStudies | 198.837 | 10.096 | 237.326 | |
| getPCaSummarySurv | 26.941 | 1.346 | 32.223 | |
| getPCaSummaryTable | 26.316 | 1.342 | 31.280 | |
| template_prad | 0.005 | 0.001 | 0.006 | |