Back to Build/check report for BioC 3.23 experimental data
ABCDEF[G]HIJKLMNOPQRSTUVWXYZ

This page was generated on 2025-11-13 15:01 -0500 (Thu, 13 Nov 2025).

HostnameOSArch (*)R versionInstalled pkgs
nebbiolo1Linux (Ubuntu 24.04.3 LTS)x86_64R Under development (unstable) (2025-10-20 r88955) -- "Unsuffered Consequences" 4825
Click on any hostname to see more info about the system (e.g. compilers)      (*) as reported by 'uname -p', except on Windows and Mac OS X

Package 148/431HostnameOS / ArchINSTALLBUILDCHECK
geneLenDataBase 1.47.0  (landing page)
Federico Marini
Snapshot Date: 2025-11-13 07:00 -0500 (Thu, 13 Nov 2025)
git_url: https://git.bioconductor.org/packages/geneLenDataBase
git_branch: devel
git_last_commit: 8b3da6c
git_last_commit_date: 2025-10-29 09:31:54 -0500 (Wed, 29 Oct 2025)
nebbiolo1Linux (Ubuntu 24.04.3 LTS) / x86_64  OK    OK    OK  UNNEEDED, same version is already published


CHECK results for geneLenDataBase on nebbiolo1

To the developers/maintainers of the geneLenDataBase package:
- Use the following Renviron settings to reproduce errors and warnings.
- If 'R CMD check' started to fail recently on the Linux builder(s) over a missing dependency, add the missing dependency to 'Suggests:' in your DESCRIPTION file. See Renviron.bioc for more information.

raw results


Summary

Package: geneLenDataBase
Version: 1.47.0
Command: /home/biocbuild/bbs-3.23-bioc/R/bin/R CMD check --install=check:geneLenDataBase.install-out.txt --library=/home/biocbuild/bbs-3.23-bioc/R/site-library --timings geneLenDataBase_1.47.0.tar.gz
StartedAt: 2025-11-13 12:26:18 -0500 (Thu, 13 Nov 2025)
EndedAt: 2025-11-13 12:35:38 -0500 (Thu, 13 Nov 2025)
EllapsedTime: 559.8 seconds
RetCode: 0
Status:   OK  
CheckDir: geneLenDataBase.Rcheck
Warnings: 0

Command output

##############################################################################
##############################################################################
###
### Running command:
###
###   /home/biocbuild/bbs-3.23-bioc/R/bin/R CMD check --install=check:geneLenDataBase.install-out.txt --library=/home/biocbuild/bbs-3.23-bioc/R/site-library --timings geneLenDataBase_1.47.0.tar.gz
###
##############################################################################
##############################################################################


* using log directory ‘/home/biocbuild/bbs-3.23-data-experiment/meat/geneLenDataBase.Rcheck’
* using R Under development (unstable) (2025-10-20 r88955)
* using platform: x86_64-pc-linux-gnu
* R was compiled by
    gcc (Ubuntu 13.3.0-6ubuntu2~24.04) 13.3.0
    GNU Fortran (Ubuntu 13.3.0-6ubuntu2~24.04) 13.3.0
* running under: Ubuntu 24.04.3 LTS
* using session charset: UTF-8
* checking for file ‘geneLenDataBase/DESCRIPTION’ ... OK
* this is package ‘geneLenDataBase’ version ‘1.47.0’
* package encoding: UTF-8
* checking package namespace information ... OK
* checking package dependencies ... OK
* checking if this is a source package ... OK
* checking if there is a namespace ... OK
* checking for hidden files and directories ... OK
* checking for portable file names ... OK
* checking for sufficient/correct file permissions ... OK
* checking whether package ‘geneLenDataBase’ can be installed ... OK
* checking installed package size ... INFO
  installed size is 100.0Mb
  sub-directories of 1Mb or more:
    data  99.5Mb
* checking package directory ... OK
* checking DESCRIPTION meta-information ... OK
* checking top-level files ... OK
* checking for left-over files ... OK
* checking index information ... OK
* checking package subdirectories ... OK
* checking code files for non-ASCII characters ... OK
* checking R files for syntax errors ... OK
* checking whether the package can be loaded ... OK
* checking whether the package can be loaded with stated dependencies ... OK
* checking whether the package can be unloaded cleanly ... OK
* checking whether the namespace can be loaded with stated dependencies ... OK
* checking whether the namespace can be unloaded cleanly ... OK
* checking loading without being on the library search path ... OK
* checking dependencies in R code ... NOTE
Unexported object imported by a ':::' call: ‘txdbmaker:::.UCSC_TXNAME2GENEID_MAPDEFS’
  See the note in ?`:::` about the use of this operator.
* checking S3 generic/method consistency ... OK
* checking replacement functions ... OK
* checking foreign function calls ... OK
* checking R code for possible problems ... OK
* checking Rd files ... OK
* checking Rd metadata ... OK
* checking Rd cross-references ... OK
* checking for missing documentation entries ... OK
* checking for code/documentation mismatches ... OK
* checking Rd \usage sections ... OK
* checking Rd contents ... OK
* checking for unstated dependencies in examples ... OK
* checking contents of ‘data’ directory ... OK
* checking data for non-ASCII characters ... OK
* checking data for ASCII and uncompressed saves ... OK
* checking examples ... OK
Examples with CPU (user + system) or elapsed time > 5s
                  user system elapsed
supportedGeneIDs 2.488  0.088   6.586
* checking PDF version of manual ... OK
* DONE

Status: 1 NOTE
See
  ‘/home/biocbuild/bbs-3.23-data-experiment/meat/geneLenDataBase.Rcheck/00check.log’
for details.


Installation output

geneLenDataBase.Rcheck/00install.out

##############################################################################
##############################################################################
###
### Running command:
###
###   /home/biocbuild/bbs-3.23-bioc/R/bin/R CMD INSTALL geneLenDataBase
###
##############################################################################
##############################################################################


* installing to library ‘/home/biocbuild/bbs-3.23-bioc/R/site-library’
* installing *source* package ‘geneLenDataBase’ ...
** this is package ‘geneLenDataBase’ version ‘1.47.0’
** using staged installation
** R
** data
** byte-compile and prepare package for lazy loading
** help
*** installing help indices
** building package indices
** testing if installed package can be loaded from temporary location
** testing if installed package can be loaded from final location
** testing if installed package keeps a record of temporary installation path
* DONE (geneLenDataBase)

Tests output


Example timings

geneLenDataBase.Rcheck/geneLenDataBase-Ex.timings

nameusersystemelapsed
anoCar1.ensGene.LENGTH0.0730.0040.078
anoCar1.genscan.LENGTH0.0440.0040.048
anoCar1.xenoRefGene.LENGTH0.7580.0230.779
anoGam1.ensGene.LENGTH0.0570.0010.059
anoGam1.geneid.LENGTH0.0400.0010.043
anoGam1.genscan.LENGTH0.0400.0010.040
apiMel1.genscan.LENGTH0.0340.0030.037
apiMel2.ensGene.LENGTH0.0870.0010.087
apiMel2.geneid.LENGTH0.0450.0000.046
apiMel2.genscan.LENGTH0.1040.0060.108
aplCal1.xenoRefGene.LENGTH0.3950.0010.397
bosTau2.geneSymbol.LENGTH0.0380.0000.039
bosTau2.geneid.LENGTH0.2340.0080.242
bosTau2.genscan.LENGTH0.0830.0030.086
bosTau2.refGene.LENGTH0.0420.0000.041
bosTau2.sgpGene.LENGTH0.0950.0030.099
bosTau3.ensGene.LENGTH0.1010.0010.102
bosTau3.geneSymbol.LENGTH0.0330.0020.037
bosTau3.geneid.LENGTH0.1160.0060.122
bosTau3.genscan.LENGTH0.1200.0070.127
bosTau3.refGene.LENGTH0.0330.0010.034
bosTau3.sgpGene.LENGTH0.0920.0000.092
bosTau4.ensGene.LENGTH0.0930.0000.094
bosTau4.geneSymbol.LENGTH0.0320.0020.034
bosTau4.genscan.LENGTH0.0650.0000.065
bosTau4.nscanGene.LENGTH0.0270.0010.028
bosTau4.refGene.LENGTH0.0330.0000.033
braFlo1.xenoRefGene.LENGTH0.3680.0010.368
caeJap1.xenoRefGene.LENGTH0.3230.0100.333
caePb1.xenoRefGene.LENGTH0.4250.0020.428
caePb2.xenoRefGene.LENGTH0.4100.0020.412
caeRem2.xenoRefGene.LENGTH0.3860.0030.388
caeRem3.xenoRefGene.LENGTH0.3400.0060.344
calJac1.genscan.LENGTH0.2180.0020.221
calJac1.nscanGene.LENGTH0.0930.0000.094
calJac1.xenoRefGene.LENGTH0.6010.0010.603
canFam1.ensGene.LENGTH0.1000.0020.102
canFam1.geneSymbol.LENGTH0.0050.0000.006
canFam1.genscan.LENGTH0.0590.0010.060
canFam1.nscanGene.LENGTH0.0620.0000.062
canFam1.refGene.LENGTH0.0050.0000.005
canFam1.xenoRefGene.LENGTH0.5590.0100.570
canFam2.ensGene.LENGTH0.0970.0000.097
canFam2.geneSymbol.LENGTH0.0050.0010.006
canFam2.genscan.LENGTH0.0540.0030.057
canFam2.nscanGene.LENGTH0.0600.0020.063
canFam2.refGene.LENGTH0.0050.0010.006
canFam2.xenoRefGene.LENGTH0.5480.0010.551
cavPor3.ensGene.LENGTH0.0850.0020.087
cavPor3.genscan.LENGTH0.0960.0030.099
cavPor3.nscanGene.LENGTH0.0660.0010.067
cavPor3.xenoRefGene.LENGTH0.6390.0070.646
cb1.xenoRefGene.LENGTH0.3760.0020.379
cb3.xenoRefGene.LENGTH0.3120.0110.323
ce2.geneSymbol.LENGTH0.0650.0060.071
ce2.geneid.LENGTH0.0610.0040.064
ce2.refGene.LENGTH0.0630.0030.067
ce4.geneSymbol.LENGTH0.0650.0010.066
ce4.refGene.LENGTH0.0560.0030.059
ce4.xenoRefGene.LENGTH0.0760.0040.080
ce6.ensGene.LENGTH0.0870.0020.089
ce6.geneSymbol.LENGTH0.0630.0020.065
ce6.refGene.LENGTH0.0610.0010.062
ce6.xenoRefGene.LENGTH0.0820.0000.082
ci1.geneSymbol.LENGTH0.0060.0000.006
ci1.refGene.LENGTH0.0040.0010.005
ci1.xenoRefGene.LENGTH0.1570.0030.160
ci2.ensGene.LENGTH0.0650.0010.066
ci2.geneSymbol.LENGTH0.0050.0000.006
ci2.refGene.LENGTH0.0030.0010.005
ci2.xenoRefGene.LENGTH0.2520.0050.257
danRer3.ensGene.LENGTH0.3330.0050.338
danRer3.geneSymbol.LENGTH0.0510.0030.053
danRer3.refGene.LENGTH0.0450.0020.048
danRer4.ensGene.LENGTH0.1060.0010.107
danRer4.geneSymbol.LENGTH0.0480.0010.050
danRer4.genscan.LENGTH0.0590.0010.060
danRer4.nscanGene.LENGTH0.0850.0010.087
danRer4.refGene.LENGTH0.0450.0020.048
danRer5.ensGene.LENGTH0.1050.0020.107
danRer5.geneSymbol.LENGTH0.0480.0000.048
danRer5.refGene.LENGTH0.0430.0000.043
danRer5.vegaGene.LENGTH0.0450.0010.046
danRer5.vegaPseudoGene.LENGTH0.0030.0000.003
danRer6.ensGene.LENGTH0.1020.0000.103
danRer6.geneSymbol.LENGTH0.0480.0000.048
danRer6.refGene.LENGTH0.0440.0000.044
danRer6.xenoRefGene.LENGTH0.4540.0040.457
dm1.geneSymbol.LENGTH0.0620.0000.061
dm1.genscan.LENGTH0.0220.0010.024
dm1.refGene.LENGTH0.0520.0030.056
dm2.geneSymbol.LENGTH0.0600.0000.061
dm2.geneid.LENGTH0.0330.0010.035
dm2.genscan.LENGTH0.8430.1260.969
dm2.nscanGene.LENGTH0.0410.0010.042
dm2.refGene.LENGTH0.0530.0010.054
dm3.geneSymbol.LENGTH0.0620.0010.063
dm3.nscanPasaGene.LENGTH0.0430.0010.044
dm3.refGene.LENGTH0.0590.0000.060
downloadLengthFromUCSC000
dp2.genscan.LENGTH0.0270.0020.029
dp2.xenoRefGene.LENGTH0.1760.0010.178
dp3.geneid.LENGTH0.0320.0010.034
dp3.genscan.LENGTH0.0210.0020.023
dp3.xenoRefGene.LENGTH0.0950.0010.096
droAna1.geneid.LENGTH0.0570.0010.058
droAna1.genscan.LENGTH0.0210.0000.022
droAna1.xenoRefGene.LENGTH0.1720.0010.173
droAna2.genscan.LENGTH0.0430.0010.043
droAna2.xenoRefGene.LENGTH0.2280.0010.228
droEre1.genscan.LENGTH0.0250.0010.025
droEre1.xenoRefGene.LENGTH0.2240.0000.224
droGri1.genscan.LENGTH0.0340.0010.035
droGri1.xenoRefGene.LENGTH0.2380.0010.240
droMoj1.geneid.LENGTH0.1080.0020.110
droMoj1.genscan.LENGTH0.0470.0030.049
droMoj1.xenoRefGene.LENGTH0.2010.0020.203
droMoj2.genscan.LENGTH0.0320.0010.033
droMoj2.xenoRefGene.LENGTH0.2410.0020.243
droPer1.genscan.LENGTH0.0360.0000.037
droPer1.xenoRefGene.LENGTH0.2410.0000.242
droSec1.genscan.LENGTH0.0250.0020.027
droSec1.xenoRefGene.LENGTH0.2380.0010.239
droSim1.geneid.LENGTH0.0380.0010.039
droSim1.genscan.LENGTH0.0220.0030.024
droSim1.xenoRefGene.LENGTH0.2060.0010.207
droVir1.geneid.LENGTH0.0940.0010.095
droVir1.genscan.LENGTH0.0350.0040.039
droVir1.xenoRefGene.LENGTH0.2140.0020.216
droVir2.genscan.LENGTH0.0310.0020.033
droVir2.xenoRefGene.LENGTH0.2380.0020.240
droYak1.geneid.LENGTH0.0370.0010.038
droYak1.genscan.LENGTH0.0270.0010.027
droYak1.xenoRefGene.LENGTH0.1950.0010.196
droYak2.genscan.LENGTH0.0260.0000.026
droYak2.xenoRefGene.LENGTH0.2380.0040.242
equCab1.geneSymbol.LENGTH0.0050.0000.005
equCab1.geneid.LENGTH0.0780.0030.081
equCab1.nscanGene.LENGTH0.0350.0040.038
equCab1.refGene.LENGTH0.0030.0010.004
equCab1.sgpGene.LENGTH0.0600.0030.063
equCab2.ensGene.LENGTH0.0900.0090.099
equCab2.geneSymbol.LENGTH0.0060.0010.007
equCab2.nscanGene.LENGTH0.0480.0000.048
equCab2.refGene.LENGTH0.0070.0000.007
equCab2.xenoRefGene.LENGTH0.6250.0120.637
felCat3.ensGene.LENGTH0.0910.0010.092
felCat3.geneSymbol.LENGTH0.0040.0000.004
felCat3.geneid.LENGTH0.4510.0080.459
felCat3.genscan.LENGTH0.1060.0020.108
felCat3.nscanGene.LENGTH0.0820.0020.084
felCat3.refGene.LENGTH0.0040.0000.004
felCat3.sgpGene.LENGTH0.1280.0000.129
felCat3.xenoRefGene.LENGTH0.9990.0041.003
fr1.ensGene.LENGTH0.0720.0010.073
fr1.genscan.LENGTH0.0540.0000.054
fr2.ensGene.LENGTH0.1220.0010.123
galGal2.ensGene.LENGTH0.0540.0010.055
galGal2.geneSymbol.LENGTH0.0140.0020.016
galGal2.geneid.LENGTH0.0360.0010.037
galGal2.genscan.LENGTH0.0490.0010.049
galGal2.refGene.LENGTH0.0140.0010.015
galGal2.sgpGene.LENGTH0.0410.0020.043
galGal3.ensGene.LENGTH0.0720.0010.073
galGal3.geneSymbol.LENGTH0.0160.0010.017
galGal3.genscan.LENGTH0.0450.0010.046
galGal3.nscanGene.LENGTH0.0680.0000.069
galGal3.refGene.LENGTH0.0130.0010.014
galGal3.xenoRefGene.LENGTH0.4800.0130.492
gasAcu1.ensGene.LENGTH0.2800.0070.287
gasAcu1.nscanGene.LENGTH0.0970.0010.098
hg16.acembly.LENGTH0.5370.0100.547
hg16.ensGene.LENGTH0.0650.0010.066
hg16.exoniphy.LENGTH0.2180.0020.220
hg16.geneSymbol.LENGTH0.0940.0040.098
hg16.geneid.LENGTH0.0430.0010.044
hg16.genscan.LENGTH0.0550.0020.057
hg16.knownGene.LENGTH0.1050.0020.107
hg16.refGene.LENGTH0.0880.0040.091
hg16.sgpGene.LENGTH0.0520.0010.053
hg17.acembly.LENGTH0.3550.0030.357
hg17.acescan.LENGTH0.010.000.01
hg17.ccdsGene.LENGTH0.0200.0010.021
hg17.ensGene.LENGTH0.0930.0020.094
hg17.exoniphy.LENGTH0.3740.0010.375
hg17.geneSymbol.LENGTH0.0930.0000.093
hg17.geneid.LENGTH0.0660.0020.068
hg17.genscan.LENGTH0.0550.0020.057
hg17.knownGene.LENGTH0.0960.0040.099
hg17.refGene.LENGTH0.0890.0010.090
hg17.sgpGene.LENGTH0.0660.0010.067
hg17.vegaGene.LENGTH0.0360.0020.038
hg17.vegaPseudoGene.LENGTH0.0170.0000.017
hg17.xenoRefGene.LENGTH0.1750.0080.183
hg18.acembly.LENGTH0.4040.0060.410
hg18.acescan.LENGTH0.0090.0010.011
hg18.ccdsGene.LENGTH0.0310.0020.033
hg18.ensGene.LENGTH0.1700.0010.171
hg18.exoniphy.LENGTH0.4340.0030.437
hg18.geneSymbol.LENGTH0.0970.0000.098
hg18.geneid.LENGTH0.0680.0030.071
hg18.genscan.LENGTH0.0580.0010.059
hg18.knownGene.LENGTH0.1430.0010.144
hg18.knownGeneOld3.LENGTH0.0630.0010.064
hg18.refGene.LENGTH0.0960.0020.098
hg18.sgpGene.LENGTH0.0760.0010.077
hg18.sibGene.LENGTH0.5770.0020.580
hg18.xenoRefGene.LENGTH0.3080.0040.312
hg19.ccdsGene.LENGTH0.0390.0000.039
hg19.ensGene.LENGTH0.2750.0000.275
hg19.exoniphy.LENGTH0.4110.0010.413
hg19.geneSymbol.LENGTH0.0960.0000.096
hg19.knownGene.LENGTH0.1590.0010.161
hg19.nscanGene.LENGTH0.1430.0060.149
hg19.refGene.LENGTH0.0930.0020.095
hg19.xenoRefGene.LENGTH0.3160.0050.321
loxAfr3.xenoRefGene.LENGTH0.6830.0050.689
mm7.ensGene.LENGTH0.3120.0030.315
mm7.geneSymbol.LENGTH0.0810.0010.083
mm7.geneid.LENGTH0.0760.0000.076
mm7.genscan.LENGTH0.0610.0010.062
mm7.knownGene.LENGTH0.0900.0000.091
mm7.refGene.LENGTH0.0790.0010.080
mm7.sgpGene.LENGTH0.0720.0020.074
mm7.xenoRefGene.LENGTH0.2750.0010.276
mm8.ccdsGene.LENGTH0.0200.0010.022
mm8.ensGene.LENGTH0.0730.0010.074
mm8.geneSymbol.LENGTH0.0810.0000.080
mm8.geneid.LENGTH0.0740.0010.074
mm8.genscan.LENGTH0.0560.0020.058
mm8.knownGene.LENGTH0.0850.0010.086
mm8.nscanGene.LENGTH0.0580.0010.059
mm8.refGene.LENGTH0.0780.0010.079
mm8.sgpGene.LENGTH0.0760.0010.078
mm8.sibGene.LENGTH0.6930.0040.697
mm8.xenoRefGene.LENGTH0.3130.0010.314
mm9.acembly.LENGTH0.2700.0050.275
mm9.ccdsGene.LENGTH0.0270.0000.028
mm9.ensGene.LENGTH0.1320.0030.135
mm9.exoniphy.LENGTH0.4020.0040.407
mm9.geneSymbol.LENGTH0.080.000.08
mm9.geneid.LENGTH0.0760.0010.076
mm9.genscan.LENGTH0.0610.0000.060
mm9.knownGene.LENGTH0.1020.0010.102
mm9.nscanGene.LENGTH0.0550.0020.057
mm9.refGene.LENGTH0.0780.0000.078
mm9.sgpGene.LENGTH0.0710.0020.073
mm9.xenoRefGene.LENGTH0.3260.0000.326
monDom1.genscan.LENGTH0.0610.0000.060
monDom4.ensGene.LENGTH0.0670.0010.067
monDom4.geneSymbol.LENGTH0.0030.0010.003
monDom4.genscan.LENGTH0.0490.0010.049
monDom4.nscanGene.LENGTH0.0490.0000.049
monDom4.refGene.LENGTH0.0030.0000.004
monDom4.xenoRefGene.LENGTH0.310.000.31
monDom5.ensGene.LENGTH0.0990.0010.099
monDom5.geneSymbol.LENGTH0.0030.0010.004
monDom5.genscan.LENGTH0.0490.0010.049
monDom5.nscanGene.LENGTH0.0960.0000.097
monDom5.refGene.LENGTH0.0030.0000.004
monDom5.xenoRefGene.LENGTH0.5360.0030.540
ornAna1.ensGene.LENGTH0.2990.0000.300
ornAna1.geneSymbol.LENGTH0.0020.0010.003
ornAna1.refGene.LENGTH0.0030.0000.002
ornAna1.xenoRefGene.LENGTH0.4950.0000.494
oryLat2.ensGene.LENGTH0.0770.0000.076
oryLat2.geneSymbol.LENGTH0.0030.0010.003
oryLat2.refGene.LENGTH0.0030.0000.004
oryLat2.xenoRefGene.LENGTH0.4390.0020.441
panTro1.ensGene.LENGTH0.0970.0010.097
panTro1.geneid.LENGTH0.0430.0030.045
panTro1.genscan.LENGTH0.0570.0010.058
panTro1.xenoRefGene.LENGTH0.1050.0020.106
panTro2.ensGene.LENGTH0.1060.0000.106
panTro2.geneSymbol.LENGTH0.0950.0000.095
panTro2.genscan.LENGTH0.0580.0020.059
panTro2.nscanGene.LENGTH0.0580.0020.059
panTro2.refGene.LENGTH0.0950.0010.097
panTro2.xenoRefGene.LENGTH0.4450.0020.447
petMar1.xenoRefGene.LENGTH0.2380.0020.240
ponAbe2.ensGene.LENGTH0.0790.0010.081
ponAbe2.geneSymbol.LENGTH0.0110.0010.012
ponAbe2.genscan.LENGTH0.0590.0010.061
ponAbe2.nscanGene.LENGTH0.0600.0000.061
ponAbe2.refGene.LENGTH0.0110.0000.012
ponAbe2.xenoRefGene.LENGTH1.5980.1401.744
priPac1.xenoRefGene.LENGTH0.3440.0020.353
rheMac2.ensGene.LENGTH0.1100.0020.112
rheMac2.geneSymbol.LENGTH0.0040.0010.005
rheMac2.geneid.LENGTH0.0650.0010.065
rheMac2.nscanGene.LENGTH0.0530.0020.054
rheMac2.refGene.LENGTH0.0040.0000.005
rheMac2.sgpGene.LENGTH0.0630.0000.064
rheMac2.xenoRefGene.LENGTH0.3930.0020.395
rn3.ensGene.LENGTH0.0830.0020.086
rn3.geneSymbol.LENGTH0.0470.0000.048
rn3.geneid.LENGTH0.0460.0000.047
rn3.genscan.LENGTH0.0560.0020.058
rn3.knownGene.LENGTH0.0210.0010.021
rn3.nscanGene.LENGTH0.0540.0020.056
rn3.refGene.LENGTH0.0440.0020.046
rn3.sgpGene.LENGTH0.0510.0010.053
rn3.xenoRefGene.LENGTH0.4900.0040.494
rn4.ensGene.LENGTH0.1130.0000.114
rn4.geneSymbol.LENGTH0.0490.0010.050
rn4.geneid.LENGTH0.0790.0030.081
rn4.genscan.LENGTH0.0550.0010.057
rn4.knownGene.LENGTH0.0210.0020.023
rn4.nscanGene.LENGTH0.0480.0010.049
rn4.refGene.LENGTH0.0450.0000.046
rn4.sgpGene.LENGTH0.0740.0000.074
rn4.xenoRefGene.LENGTH0.2820.0010.282
sacCer1.ensGene.LENGTH0.0160.0000.017
sacCer2.ensGene.LENGTH0.0150.0000.016
strPur1.geneSymbol.LENGTH0.0040.0000.004
strPur1.genscan.LENGTH0.0620.0070.069
strPur1.refGene.LENGTH0.0040.0010.004
strPur1.xenoRefGene.LENGTH0.3930.0040.396
strPur2.geneSymbol.LENGTH0.0020.0020.004
strPur2.genscan.LENGTH0.0920.0010.094
strPur2.refGene.LENGTH0.0020.0020.004
strPur2.xenoRefGene.LENGTH0.5690.0010.570
supportedGeneIDs2.4880.0886.586
supportedGenomes0.2500.0040.949
taeGut1.ensGene.LENGTH0.0590.0000.058
taeGut1.geneSymbol.LENGTH0.0020.0000.003
taeGut1.genscan.LENGTH0.0290.0010.030
taeGut1.nscanGene.LENGTH0.0220.0010.023
taeGut1.refGene.LENGTH0.0030.0000.003
taeGut1.xenoRefGene.LENGTH0.3840.0010.386
tetNig1.ensGene.LENGTH0.0790.0010.081
tetNig1.geneid.LENGTH0.0590.0010.060
tetNig1.genscan.LENGTH0.0500.0060.056
tetNig1.nscanGene.LENGTH0.0650.0010.066
tetNig2.ensGene.LENGTH0.0680.0010.068
unfactor0.0040.0030.006
xenTro1.genscan.LENGTH0.0780.0020.080
xenTro2.ensGene.LENGTH0.0770.0020.078
xenTro2.geneSymbol.LENGTH0.0300.0000.029
xenTro2.genscan.LENGTH0.0650.0010.066
xenTro2.refGene.LENGTH0.0270.0000.028