| VariantAnnotation 1.18.7 Valerie Obenchain
 
 | Snapshot Date: 2016-10-12 17:20:15 -0700 (Wed, 12 Oct 2016) |  | URL: https://hedgehog.fhcrc.org/bioconductor/branches/RELEASE_3_3/madman/Rpacks/VariantAnnotation |  | Last Changed Rev: 120246 / Revision: 122332 |  | Last Changed Date: 2016-08-18 07:21:57 -0700 (Thu, 18 Aug 2016) | 
 | zin2 | Linux (Ubuntu 14.04.2 LTS) / x86_64 | OK | OK | OK |  |  | 
| moscato2 | Windows Server 2008 R2 Enterprise SP1 (64-bit) / x64 | OK | OK | OK | [ OK ] |  | 
| oaxaca | Mac OS X Mavericks (10.9.5) / x86_64 | OK | OK | OK | OK |  | 
##############################################################################
##############################################################################
###
### Running command:
###
###   cd VariantAnnotation.buildbin-libdir/VariantAnnotation && zip -r ../../VariantAnnotation_1.18.7.zip . & cd ../..
###
##############################################################################
##############################################################################
  adding: CITATION (188 bytes security) (deflated 57%)
  adding: DESCRIPTION (188 bytes security) (deflated 50%)
  adding: doc/ (256 bytes security) (stored 0%)
  adding: doc/filterVcf.pdf (188 bytes security) (deflated 12%)
  adding: doc/filterVcf.R (188 bytes security) (deflated 69%)
  adding: doc/filterVcf.Rnw (188 bytes security) (deflated 58%)
  adding: doc/index.html (188 bytes security) (deflated 69%)
  adding: doc/VariantAnnotation.pdf (188 bytes security) (deflated 17%)
  adding: doc/VariantAnnotation.R (188 bytes security) (deflated 77%)
  adding: doc/VariantAnnotation.Rnw (188 bytes security) (deflated 62%)
  adding: extdata/ (256 bytes security) (stored 0%)
  adding: extdata/chr22.vcf.gz (188 bytes security) (deflated 0%)
  adding: extdata/chr22.vcf.gz.tbi (188 bytes security) (deflated 3%)
  adding: extdata/chr7-sub.vcf.gz (188 bytes security) (deflated 0%)
  adding: extdata/chr7-sub.vcf.gz.tbi (188 bytes security) (deflated 5%)
  adding: extdata/ex2.vcf (188 bytes security) (deflated 53%)
  adding: extdata/gl_chr1.vcf (188 bytes security) (deflated 80%)
  adding: extdata/h1187-10k.vcf.gz (188 bytes security) (deflated 0%)
  adding: extdata/h1187-10k.vcf.gz.tbi (188 bytes security) (stored 0%)
  adding: extdata/hapmap_exome_chr22.vcf.gz (188 bytes security) (deflated 0%)
  adding: extdata/hapmap_exome_chr22.vcf.gz.tbi (188 bytes security) (deflated 4%)
  adding: extdata/structural.vcf (188 bytes security) (deflated 63%)
  adding: help/ (256 bytes security) (stored 0%)
  adding: help/aliases.rds (188 bytes security) (stored 0%)
  adding: help/AnIndex (188 bytes security) (deflated 86%)
  adding: help/paths.rds (188 bytes security) (stored 0%)
  adding: help/VariantAnnotation.rdb (188 bytes security) (deflated 1%)
  adding: help/VariantAnnotation.rdx (188 bytes security) (stored 0%)
  adding: html/ (256 bytes security) (stored 0%)
  adding: html/00Index.html (188 bytes security) (deflated 91%)
  adding: html/R.css (188 bytes security) (deflated 75%)
  adding: INDEX (188 bytes security) (deflated 65%)
  adding: libs/ (256 bytes security) (stored 0%)
  adding: libs/i386/ (256 bytes security) (stored 0%)
  adding: libs/i386/VariantAnnotation.dll (188 bytes security) (deflated 55%)
  adding: libs/x64/ (256 bytes security) (stored 0%)
  adding: libs/x64/VariantAnnotation.dll (188 bytes security) (deflated 53%)
  adding: MD5 (188 bytes security) (deflated 50%)
  adding: Meta/ (256 bytes security) (stored 0%)
  adding: Meta/hsearch.rds (188 bytes security) (stored 0%)
  adding: Meta/links.rds (188 bytes security) (stored 0%)
  adding: Meta/nsInfo.rds (188 bytes security) (stored 0%)
  adding: Meta/package.rds (188 bytes security) (stored 0%)
  adding: Meta/Rd.rds (188 bytes security) (stored 0%)
  adding: Meta/vignette.rds (188 bytes security) (stored 0%)
  adding: NAMESPACE (188 bytes security) (deflated 63%)
  adding: NEWS (188 bytes security) (deflated 65%)
  adding: R/ (256 bytes security) (stored 0%)
  adding: R/VariantAnnotation (188 bytes security) (deflated 41%)
  adding: R/VariantAnnotation.rdb (188 bytes security) (deflated 36%)
  adding: R/VariantAnnotation.rdx (188 bytes security) (deflated 4%)
  adding: scripts/ (256 bytes security) (stored 0%)
  adding: scripts/test_Rplinkseq.R (188 bytes security) (deflated 68%)
  adding: unitTests/ (256 bytes security) (stored 0%)
  adding: unitTests/cases/ (256 bytes security) (stored 0%)
  adding: unitTests/cases/banded_gvcf.vcf (188 bytes security) (deflated 63%)
  adding: unitTests/cases/expand.vcf (188 bytes security) (deflated 68%)
  adding: unitTests/cases/fewer-FORMAT-than-GENO.vcf (188 bytes security) (deflated 45%)
  adding: unitTests/cases/FORMAT_header_no_SAMPLEs.vcf (188 bytes security) (deflated 47%)
  adding: unitTests/cases/missing-FORMAT-metadata-elt.vcf (188 bytes security) (deflated 42%)
  adding: unitTests/cases/mixedStructural.vcf (188 bytes security) (deflated 63%)
  adding: unitTests/cases/multiple_INFO_fields.vcf (188 bytes security) (deflated 30%)
  adding: unitTests/cases/negative_FORMAT_Number.vcf (188 bytes security) (deflated 64%)
  adding: unitTests/cases/no_FORMAT_column.vcf (188 bytes security) (deflated 31%)
  adding: unitTests/cases/no_GENO_row.vcf (188 bytes security) (deflated 43%)
  adding: unitTests/cases/no_INFO_header.vcf (188 bytes security) (deflated 36%)
  adding: unitTests/cases/unspecified_INFO_FORMAT_fields.vcf (188 bytes security) (deflated 51%)
  adding: unitTests/cases/VarScan_header.vcf (188 bytes security) (deflated 58%)
  adding: unitTests/test_expand-methods.R (188 bytes security) (deflated 70%)
  adding: unitTests/test_filterVcf.R (188 bytes security) (deflated 78%)
  adding: unitTests/test_genotypeToSnpMatrix.R (188 bytes security) (deflated 82%)
  adding: unitTests/test_isSNV.R (188 bytes security) (deflated 78%)
  adding: unitTests/test_locateVariants-methods.R (188 bytes security) (deflated 73%)
  adding: unitTests/test_predictCoding-methods.R (188 bytes security) (deflated 77%)
  adding: unitTests/test_readVcf-methods.R (188 bytes security) (deflated 75%)
  adding: unitTests/test_scanVcf.R (188 bytes security) (deflated 68%)
  adding: unitTests/test_ScanVcfParam-class.R (188 bytes security) (deflated 73%)
  adding: unitTests/test_SIFTandPolyPhen.R (188 bytes security) (deflated 66%)
  adding: unitTests/test_snpSummary.R (188 bytes security) (deflated 66%)
  adding: unitTests/test_summarizeVariants-methods.R (188 bytes security) (deflated 49%)
  adding: unitTests/test_VCF-class.R (188 bytes security) (deflated 78%)
  adding: unitTests/test_VRanges-class.R (188 bytes security) (deflated 76%)
  adding: unitTests/test_writeVcf-methods.R (188 bytes security) (deflated 79%)