| RNAinteractMAPK 1.9.0 Bernd Fischer
 
 | Snapshot Date: 2015-10-24 10:15:05 -0400 (Sat, 24 Oct 2015) |  | URL: https://hedgehog.fhcrc.org/bioc-data/trunk/experiment/pkgs/RNAinteractMAPK |  | Last Changed Rev: 3462 / Revision: 3473 |  | Last Changed Date: 2015-10-13 16:20:35 -0400 (Tue, 13 Oct 2015) | 
 | linux2.bioconductor.org | Linux (Ubuntu 14.04.2 LTS) / x86_64 | OK | OK | OK |  |  | 
| windows2.bioconductor.org | Windows Server 2012 R2 Enterprise SP1 (64-bit) / x64 | OK | OK | OK | [ OK ] |  | 
| morelia | Mac OS X Mavericks (10.9.5) / x86_64 | OK | OK | OK | OK |  | 
##############################################################################
##############################################################################
###
### Running command:
###
###   cd RNAinteractMAPK.buildbin-libdir/RNAinteractMAPK && zip -r ../../RNAinteractMAPK_1.9.0.zip . & cd ../..
###
##############################################################################
##############################################################################
  adding: CITATION (188 bytes security) (deflated 56%)
  adding: data/ (256 bytes security) (stored 0%)
  adding: data/cellTiterGlo.rda (188 bytes security) (deflated 11%)
  adding: data/datalist (188 bytes security) (deflated 47%)
  adding: data/Dmel2PPMAPK.rda (188 bytes security) (deflated 0%)
  adding: data/dsRNAiDilutionSeries.rda (188 bytes security) (deflated 0%)
  adding: data/ElpB1phenotype.rda (188 bytes security) (stored 0%)
  adding: data/mRNAdoubleKDefficiency.rda (188 bytes security) (stored 0%)
  adding: data/mRNAsingleKDefficiency.rda (188 bytes security) (stored 0%)
  adding: data/Networks.rda (188 bytes security) (stored 0%)
  adding: data/pathwayMembership.rda (188 bytes security) (stored 0%)
  adding: data/PhysicalInteractions.rda (188 bytes security) (stored 0%)
  adding: data/singleKDphenotype.rda (188 bytes security) (stored 0%)
  adding: DESCRIPTION (188 bytes security) (deflated 42%)
  adding: doc/ (256 bytes security) (stored 0%)
  adding: doc/index.html (188 bytes security) (deflated 60%)
  adding: doc/RNAinteractMAPK.pdf (188 bytes security) (deflated 23%)
  adding: doc/RNAinteractMAPK.R (188 bytes security) (deflated 85%)
  adding: doc/RNAinteractMAPK.Rnw (188 bytes security) (deflated 79%)
  adding: extdata/ (256 bytes security) (stored 0%)
  adding: extdata/Dmel2PPMAPK/ (256 bytes security) (stored 0%)
  adding: extdata/Dmel2PPMAPK/Data_Dmel2_PPMAPK_2.txt (188 bytes security) (deflated 55%)
  adding: extdata/Dmel2PPMAPK/Data_Dmel2_PPMAPK_4.txt (188 bytes security) (deflated 55%)
  adding: extdata/Dmel2PPMAPK/networks.txt (188 bytes security) (deflated 76%)
  adding: extdata/Dmel2PPMAPK/Platelist.txt (188 bytes security) (deflated 88%)
  adding: extdata/Dmel2PPMAPK/QueryDesign.txt (188 bytes security) (deflated 74%)
  adding: extdata/Dmel2PPMAPK/Reagents.txt (188 bytes security) (deflated 69%)
  adding: extdata/Dmel2PPMAPK/Targets.txt (188 bytes security) (deflated 64%)
  adding: extdata/Dmel2PPMAPK/TemplateDesign.txt (188 bytes security) (deflated 76%)
  adding: help/ (256 bytes security) (stored 0%)
  adding: help/aliases.rds (188 bytes security) (stored 0%)
  adding: help/AnIndex (188 bytes security) (deflated 69%)
  adding: help/paths.rds (188 bytes security) (stored 0%)
  adding: help/RNAinteractMAPK.rdb (188 bytes security) (deflated 1%)
  adding: help/RNAinteractMAPK.rdx (188 bytes security) (stored 0%)
  adding: html/ (256 bytes security) (stored 0%)
  adding: html/00Index.html (188 bytes security) (deflated 76%)
  adding: html/R.css (188 bytes security) (deflated 75%)
  adding: INDEX (188 bytes security) (deflated 60%)
  adding: makeDmel2PPMAPK/ (256 bytes security) (stored 0%)
  adding: makeDmel2PPMAPK/makeDmel2PPMAPK.Rnw (188 bytes security) (deflated 60%)
  adding: MD5 (188 bytes security) (deflated 48%)
  adding: Meta/ (256 bytes security) (stored 0%)
  adding: Meta/data.rds (188 bytes security) (stored 0%)
  adding: Meta/hsearch.rds (188 bytes security) (stored 0%)
  adding: Meta/links.rds (188 bytes security) (stored 0%)
  adding: Meta/nsInfo.rds (188 bytes security) (stored 0%)
  adding: Meta/package.rds (188 bytes security) (stored 0%)
  adding: Meta/Rd.rds (188 bytes security) (stored 0%)
  adding: Meta/vignette.rds (188 bytes security) (stored 0%)
  adding: NAMESPACE (188 bytes security) (deflated 56%)
  adding: R/ (256 bytes security) (stored 0%)
  adding: R/RNAinteractMAPK (188 bytes security) (deflated 41%)
  adding: R/RNAinteractMAPK.rdb (188 bytes security) (deflated 1%)
  adding: R/RNAinteractMAPK.rdx (188 bytes security) (stored 0%)