ggtree 1.6.11 Guangchuang Yu
 | Snapshot Date: 2017-04-14 17:17:13 -0400 (Fri, 14 Apr 2017) |  | URL: https://hedgehog.fhcrc.org/bioconductor/branches/RELEASE_3_4/madman/Rpacks/ggtree |  | Last Changed Rev: 127338 / Revision: 128728 |  | Last Changed Date: 2017-03-13 04:37:44 -0400 (Mon, 13 Mar 2017) |  
  | malbec1  | Linux (Ubuntu 16.04.1 LTS) / x86_64  |  OK  |  OK  |  OK  |  |   | 
| tokay1  | Windows Server 2012 R2 Standard / x64  |  OK  |  OK  |  OK  |  OK  |   | 
| morelia  | Mac OS X Mavericks (10.9.5) / x86_64  |  OK  |  OK  |  OK  | [ OK ] |   | 
##############################################################################
##############################################################################
###
### Running command:
###
###   rm -rf ggtree.buildbin-libdir && mkdir ggtree.buildbin-libdir && /Users/biocbuild/BBS/utils/build-universal.sh ggtree_1.6.11.tar.gz /Library/Frameworks/R.framework/Versions/Current/Resources/bin/R ggtree.buildbin-libdir
###
##############################################################################
##############################################################################
>>>>>>> 
>>>>>>> INSTALLATION WITH 'R CMD INSTALL --preclean --no-multiarch --library=ggtree.buildbin-libdir ggtree_1.6.11.tar.gz'
>>>>>>> 
* installing *source* package ‘ggtree’ ...
** R
** inst
** byte-compile and prepare package for lazy loading
Note: wrong number of arguments to '>' 
Note: wrong number of arguments to '>' 
** help
*** installing help indices
** building package indices
** installing vignettes
** testing if installed package can be loaded
* DONE (ggtree)