systemPipeR 1.8.1 Thomas Girke
 | Snapshot Date: 2017-04-14 17:17:13 -0400 (Fri, 14 Apr 2017) |  | URL: https://hedgehog.fhcrc.org/bioconductor/branches/RELEASE_3_4/madman/Rpacks/systemPipeR |  | Last Changed Rev: 122897 / Revision: 128728 |  | Last Changed Date: 2016-10-20 20:22:17 -0400 (Thu, 20 Oct 2016) |  
  | malbec1  | Linux (Ubuntu 16.04.1 LTS) / x86_64  |  OK  | [ OK ] |  OK  |  |   | 
| tokay1  | Windows Server 2012 R2 Standard / x64  |  OK  |  OK  |  OK  |  OK  |   | 
| morelia  | Mac OS X Mavericks (10.9.5) / x86_64  |  OK  |  OK  |  OK  |  OK  |   | 
##############################################################################
##############################################################################
###
### Running command:
###
###   /home/biocbuild/bbs-3.4-bioc/R/bin/R CMD build --keep-empty-dirs --no-resave-data systemPipeR
###
##############################################################################
##############################################################################
* checking for file ‘systemPipeR/DESCRIPTION’ ... OK
* preparing ‘systemPipeR’:
* checking DESCRIPTION meta-information ... OK
* installing the package to build vignettes
* creating vignettes ... OK
* checking for LF line-endings in source and make files
* checking for empty or unneeded directories
WARNING: directory ‘systemPipeR/inst/extdata/slides/systemPipeRslides_cache/html’ is empty
* building ‘systemPipeR_1.8.1.tar.gz’