| BioNet 1.36.0 Marcus Dittrich
 
 | Snapshot Date: 2017-08-15 17:17:57 -0400 (Tue, 15 Aug 2017) |  | URL: https://hedgehog.fhcrc.org/bioconductor/branches/RELEASE_3_5/madman/Rpacks/BioNet |  | Last Changed Rev: 129126 / Revision: 131943 |  | Last Changed Date: 2017-04-24 15:25:24 -0400 (Mon, 24 Apr 2017) | 
 | malbec2 | Linux (Ubuntu 16.04.1 LTS) / x86_64 | OK | OK | OK |  |  | 
| tokay2 | Windows Server 2012 R2 Standard / x64 | OK | OK | OK | [ OK ] |  | 
| veracruz2 | OS X 10.11.6 El Capitan / x86_64 | OK | OK | OK | OK |  | 
##############################################################################
##############################################################################
###
### Running command:
###
###   cd BioNet.buildbin-libdir/BioNet && zip -r ../../BioNet_1.36.0.zip . & cd ../..
###
##############################################################################
##############################################################################
  adding: CITATION (264 bytes security) (deflated 59%)
  adding: data/ (304 bytes security) (stored 0%)
  adding: data/pvaluesExample.rda (264 bytes security) (deflated 0%)
  adding: DESCRIPTION (264 bytes security) (deflated 47%)
  adding: doc/ (304 bytes security) (stored 0%)
  adding: doc/index.html (264 bytes security) (deflated 58%)
  adding: doc/Tutorial.pdf (264 bytes security) (deflated 12%)
  adding: doc/Tutorial.R (264 bytes security) (deflated 83%)
  adding: doc/Tutorial.Rnw (264 bytes security) (deflated 69%)
  adding: extdata/ (304 bytes security) (stored 0%)
  adding: extdata/ALL_cons_n.txt.0.hnz (264 bytes security) (deflated 63%)
  adding: extdata/ALL_edges_001.txt.0.hnz (264 bytes security) (deflated 81%)
  adding: extdata/ALL_nodes_001.txt.0.hnz (264 bytes security) (deflated 63%)
  adding: extdata/ALL_n_resample.txt.0.hnz (264 bytes security) (deflated 96%)
  adding: extdata/cytoscape.sif (264 bytes security) (deflated 68%)
  adding: extdata/lymphoma_edges_001.txt.0.hnz (264 bytes security) (deflated 83%)
  adding: extdata/lymphoma_nodes_001.txt.0.hnz (264 bytes security) (deflated 73%)
  adding: extdata/n.weight.NA (264 bytes security) (deflated 44%)
  adding: extdata/weight.EA (264 bytes security) (deflated 68%)
  adding: help/ (304 bytes security) (stored 0%)
  adding: help/aliases.rds (264 bytes security) (stored 0%)
  adding: help/AnIndex (264 bytes security) (deflated 64%)
  adding: help/BioNet.rdb (264 bytes security) (deflated 2%)
  adding: help/BioNet.rdx (264 bytes security) (stored 0%)
  adding: help/paths.rds (264 bytes security) (stored 0%)
  adding: html/ (304 bytes security) (stored 0%)
  adding: html/00Index.html (264 bytes security) (deflated 74%)
  adding: html/R.css (264 bytes security) (deflated 75%)
  adding: INDEX (264 bytes security) (deflated 63%)
  adding: MD5 (264 bytes security) (deflated 45%)
  adding: Meta/ (304 bytes security) (stored 0%)
  adding: Meta/data.rds (264 bytes security) (stored 0%)
  adding: Meta/features.rds (264 bytes security) (stored 0%)
  adding: Meta/hsearch.rds (264 bytes security) (stored 0%)
  adding: Meta/links.rds (264 bytes security) (stored 0%)
  adding: Meta/nsInfo.rds (264 bytes security) (stored 0%)
  adding: Meta/package.rds (264 bytes security) (stored 0%)
  adding: Meta/Rd.rds (264 bytes security) (stored 0%)
  adding: Meta/vignette.rds (264 bytes security) (stored 0%)
  adding: NAMESPACE (264 bytes security) (deflated 54%)
  adding: R/ (304 bytes security) (stored 0%)
  adding: R/BioNet (264 bytes security) (deflated 41%)
  adding: R/BioNet.rdb (264 bytes security) (deflated 2%)
  adding: R/BioNet.rdx (264 bytes security) (stored 0%)