treeio 1.0.2 Guangchuang Yu
 | Snapshot Date: 2017-08-15 17:17:57 -0400 (Tue, 15 Aug 2017) |  | URL: https://hedgehog.fhcrc.org/bioconductor/branches/RELEASE_3_5/madman/Rpacks/treeio |  | Last Changed Rev: 129299 / Revision: 131943 |  | Last Changed Date: 2017-04-29 22:53:36 -0400 (Sat, 29 Apr 2017) |  
  | malbec2  | Linux (Ubuntu 16.04.1 LTS) / x86_64  | [ OK ] |  OK  |  OK  |  |   | 
| tokay2  | Windows Server 2012 R2 Standard / x64  |  OK  |  OK  |  OK  |  OK  |   | 
| veracruz2  | OS X 10.11.6 El Capitan / x86_64  |  OK  |  OK  |  OK  |  OK  |   | 
##############################################################################
##############################################################################
###
### Running command:
###
###   /home/biocbuild/bbs-3.5-bioc/R/bin/R CMD INSTALL treeio
###
##############################################################################
##############################################################################
* installing to library ‘/home/biocbuild/bbs-3.5-bioc/R/library’
* installing *source* package ‘treeio’ ...
** R
** inst
** byte-compile and prepare package for lazy loading
Note: wrong number of arguments to '>' 
** help
*** installing help indices
** building package indices
** installing vignettes
** testing if installed package can be loaded
* DONE (treeio)