geNetClassifier 1.16.0 Sara Aibar
 | Snapshot Date: 2017-10-17 17:00:52 -0400 (Tue, 17 Oct 2017) |  | URL: https://git.bioconductor.org/packages/geNetClassifier |  | Branch: RELEASE_3_5 |  | Last Commit: a99767b |  | Last Changed Date: 2017-04-24 15:45:44 -0400 (Mon, 24 Apr 2017) |  
  | malbec2  | Linux (Ubuntu 16.04.1 LTS) / x86_64  |  OK  |  OK  |  ERROR  |  |  | 
| tokay2  | Windows Server 2012 R2 Standard / x64  |  OK  |  OK  |  OK  | [ OK ] |   | 
| veracruz2  | OS X 10.11.6 El Capitan / x86_64  |  OK  |  OK  |  OK  |  OK  |   | 
##############################################################################
##############################################################################
###
### Running command:
###
###   cd geNetClassifier.buildbin-libdir/geNetClassifier && zip -r ../../geNetClassifier_1.16.0.zip . & cd ../..
###
##############################################################################
##############################################################################
  adding: CITATION (264 bytes security) (deflated 56%)
  adding: data/ (304 bytes security) (stored 0%)
  adding: data/datalist (264 bytes security) (stored 0%)
  adding: data/geneSymbols.RData (264 bytes security) (deflated 0%)
  adding: data/leukemiasClassifier.RData (264 bytes security) (deflated 0%)
  adding: DESCRIPTION (264 bytes security) (deflated 41%)
  adding: doc/ (304 bytes security) (stored 0%)
  adding: doc/geNetClassifier-vignette.pdf (264 bytes security) (deflated 8%)
  adding: doc/geNetClassifier-vignette.R (264 bytes security) (deflated 88%)
  adding: doc/geNetClassifier-vignette.Rnw (264 bytes security) (deflated 71%)
  adding: doc/index.html (264 bytes security) (deflated 61%)
  adding: help/ (304 bytes security) (stored 0%)
  adding: help/aliases.rds (264 bytes security) (stored 0%)
  adding: help/AnIndex (264 bytes security) (deflated 84%)
  adding: help/geNetClassifier.rdb (264 bytes security) (deflated 1%)
  adding: help/geNetClassifier.rdx (264 bytes security) (stored 0%)
  adding: help/paths.rds (264 bytes security) (stored 0%)
  adding: html/ (304 bytes security) (stored 0%)
  adding: html/00Index.html (264 bytes security) (deflated 87%)
  adding: html/R.css (264 bytes security) (deflated 75%)
  adding: INDEX (264 bytes security) (deflated 69%)
  adding: MD5 (264 bytes security) (deflated 44%)
  adding: Meta/ (304 bytes security) (stored 0%)
  adding: Meta/data.rds (264 bytes security) (stored 0%)
  adding: Meta/features.rds (264 bytes security) (stored 0%)
  adding: Meta/hsearch.rds (264 bytes security) (stored 0%)
  adding: Meta/links.rds (264 bytes security) (stored 0%)
  adding: Meta/nsInfo.rds (264 bytes security) (stored 0%)
  adding: Meta/package.rds (264 bytes security) (stored 0%)
  adding: Meta/Rd.rds (264 bytes security) (stored 0%)
  adding: Meta/vignette.rds (264 bytes security) (stored 0%)
  adding: NAMESPACE (264 bytes security) (deflated 64%)
  adding: NEWS (264 bytes security) (deflated 57%)
  adding: R/ (304 bytes security) (stored 0%)
  adding: R/geNetClassifier (264 bytes security) (deflated 41%)
  adding: R/geNetClassifier.rdb (264 bytes security) (deflated 22%)
  adding: R/geNetClassifier.rdx (264 bytes security) (deflated 2%)
  adding: unitTests/ (304 bytes security) (stored 0%)
  adding: unitTests/test_externalValidationStats.R (264 bytes security) (deflated 41%)
  adding: unitTests/test_geNetClassifier.R (264 bytes security) (deflated 51%)
  adding: unitTests/test_plotExpressionProfiles.R (264 bytes security) (deflated 46%)