| Back to Multiple platform build/check report for BioC 3.7 |
|
This page was generated on 2018-10-17 08:32:53 -0400 (Wed, 17 Oct 2018).
| Package 8/1561 | Hostname | OS / Arch | INSTALL | BUILD | CHECK | BUILD BIN | ||||||
| ABarray 1.48.0 Yongming Andrew Sun
| malbec2 | Linux (Ubuntu 16.04.1 LTS) / x86_64 | OK | OK | OK | |||||||
| tokay2 | Windows Server 2012 R2 Standard / x64 | OK | OK | OK | [ OK ] | |||||||
| merida2 | OS X 10.11.6 El Capitan / x86_64 | OK | OK | OK | OK |
| Package: ABarray |
| Version: 1.48.0 |
| Command: rm -rf ABarray.buildbin-libdir && mkdir ABarray.buildbin-libdir && C:\Users\biocbuild\bbs-3.7-bioc\R\bin\R.exe CMD INSTALL --merge-multiarch --build --library=ABarray.buildbin-libdir ABarray_1.48.0.tar.gz |
| StartedAt: 2018-10-17 05:59:57 -0400 (Wed, 17 Oct 2018) |
| EndedAt: 2018-10-17 06:00:16 -0400 (Wed, 17 Oct 2018) |
| EllapsedTime: 19.5 seconds |
| RetCode: 0 |
| Status: OK |
| PackageFile: ABarray_1.48.0.zip |
| PackageFileSize: 649.1 KiB |
##############################################################################
##############################################################################
###
### Running command:
###
### rm -rf ABarray.buildbin-libdir && mkdir ABarray.buildbin-libdir && C:\Users\biocbuild\bbs-3.7-bioc\R\bin\R.exe CMD INSTALL --merge-multiarch --build --library=ABarray.buildbin-libdir ABarray_1.48.0.tar.gz
###
##############################################################################
##############################################################################
install for i386
* installing *source* package 'ABarray' ...
** R
** inst
** byte-compile and prepare package for lazy loading
** help
*** installing help indices
converting help for package 'ABarray'
finding HTML links ... done
ABarray html
ABarrayGUI html
calcsn html
concord html
cvv html
cvvPlot html
doANOVA html
doLPE html
doPlotEset html
doPlotFCT html
doVennDiagram html
drawVennDiagram html
getMemberEset html
getPantherMap html
hclusterPlot html
icpPlot html
imputeFlag html
lpe.fdr.BH html
mamaplot html
matrixPlot html
mvaPair2 html
panel.cor html
panel.scatter html
qnNormalize html
rgcolorsfunc html
savejpg html
scaleColorBar html
snSummary html
** building package indices
** installing vignettes
** testing if installed package can be loaded
In R CMD INSTALL
install for x64
* installing *source* package 'ABarray' ...
** testing if installed package can be loaded
* MD5 sums
packaged installation of 'ABarray' as ABarray_1.48.0.zip
* DONE (ABarray)
In R CMD INSTALL
In R CMD INSTALL