| Back to Multiple platform build/check report for BioC 3.7 | 
 | 
This page was generated on 2018-10-17 08:57:58 -0400 (Wed, 17 Oct 2018).
| Package 127/1561 | Hostname | OS / Arch | INSTALL | BUILD | CHECK | BUILD BIN | ||||||
| BiocFileCache 1.4.0 Lori Shepherd 
 | malbec2 | Linux (Ubuntu 16.04.1 LTS) / x86_64 | OK | OK | OK |  | ||||||
| tokay2 | Windows Server 2012 R2 Standard / x64 | OK | OK | OK | OK |  | ||||||
| merida2 | OS X 10.11.6 El Capitan / x86_64 | OK | OK | OK | [ OK ] |  | 
| Package: BiocFileCache | 
| Version: 1.4.0 | 
| Command: rm -rf BiocFileCache.buildbin-libdir && mkdir BiocFileCache.buildbin-libdir && /Users/biocbuild/BBS/utils/build-universal.sh BiocFileCache_1.4.0.tar.gz /Library/Frameworks/R.framework/Versions/Current/Resources/bin/R BiocFileCache.buildbin-libdir | 
| StartedAt: 2018-10-17 00:58:25 -0400 (Wed, 17 Oct 2018) | 
| EndedAt: 2018-10-17 00:59:25 -0400 (Wed, 17 Oct 2018) | 
| EllapsedTime: 60.2 seconds | 
| RetCode: 0 | 
| Status: OK | 
| PackageFile: BiocFileCache_1.4.0.tgz | 
| PackageFileSize: 445.7 KiB | 
############################################################################## ############################################################################## ### ### Running command: ### ### rm -rf BiocFileCache.buildbin-libdir && mkdir BiocFileCache.buildbin-libdir && /Users/biocbuild/BBS/utils/build-universal.sh BiocFileCache_1.4.0.tar.gz /Library/Frameworks/R.framework/Versions/Current/Resources/bin/R BiocFileCache.buildbin-libdir ### ############################################################################## ############################################################################## >>>>>>> >>>>>>> INSTALLATION WITH 'R CMD INSTALL --preclean --no-multiarch --library=BiocFileCache.buildbin-libdir BiocFileCache_1.4.0.tar.gz' >>>>>>> * installing *source* package ‘BiocFileCache’ ... ** R ** inst ** byte-compile and prepare package for lazy loading ** help *** installing help indices ** building package indices ** installing vignettes ** testing if installed package can be loaded * DONE (BiocFileCache)