| Back to Multiple platform build/check report for BioC 3.7 | 
  | 
This page was generated on 2018-10-17 08:44:48 -0400 (Wed, 17 Oct 2018).
| Package 366/1561 | Hostname | OS / Arch | INSTALL | BUILD | CHECK | BUILD BIN | ||||||
| DelayedMatrixStats 1.2.0 Peter Hickey 
  | malbec2 | Linux (Ubuntu 16.04.1 LTS) / x86_64 | OK | OK | OK | |||||||
| tokay2 | Windows Server 2012 R2 Standard / x64 | OK | [ OK ] | WARNINGS | OK | |||||||
| merida2 | OS X 10.11.6 El Capitan / x86_64 | OK | OK | OK | OK | 
| Package: DelayedMatrixStats | 
| Version: 1.2.0 | 
| Command: chmod a+r DelayedMatrixStats -R && C:\Users\biocbuild\bbs-3.7-bioc\R\bin\R.exe CMD build --keep-empty-dirs --no-resave-data DelayedMatrixStats | 
| StartedAt: 2018-10-16 23:54:04 -0400 (Tue, 16 Oct 2018) | 
| EndedAt: 2018-10-16 23:59:03 -0400 (Tue, 16 Oct 2018) | 
| EllapsedTime: 298.2 seconds | 
| RetCode: 0 | 
| Status: OK | 
| PackageFile: DelayedMatrixStats_1.2.0.tar.gz | 
| PackageFileSize: 276.5 KiB | 
############################################################################## ############################################################################## ### ### Running command: ### ### chmod a+r DelayedMatrixStats -R && C:\Users\biocbuild\bbs-3.7-bioc\R\bin\R.exe CMD build --keep-empty-dirs --no-resave-data DelayedMatrixStats ### ############################################################################## ############################################################################## * checking for file 'DelayedMatrixStats/DESCRIPTION' ... OK * preparing 'DelayedMatrixStats': * checking DESCRIPTION meta-information ... OK * installing the package to build vignettes * creating vignettes ... OK * checking for LF line-endings in source and make files and shell scripts * checking for empty or unneeded directories * building 'DelayedMatrixStats_1.2.0.tar.gz'