| Back to Multiple platform build/check report for BioC 3.7 | 
 | 
This page was generated on 2018-10-17 08:28:36 -0400 (Wed, 17 Oct 2018).
| Package 674/1561 | Hostname | OS / Arch | INSTALL | BUILD | CHECK | BUILD BIN | ||||||
| HDF5Array 1.8.1 Hervé Pagès 
 | malbec2 | Linux (Ubuntu 16.04.1 LTS) / x86_64 | OK | [ OK ] | OK |  | ||||||
| tokay2 | Windows Server 2012 R2 Standard / x64 | OK | OK | WARNINGS | OK |  | ||||||
| merida2 | OS X 10.11.6 El Capitan / x86_64 | OK | OK | OK | OK |  | 
| Package: HDF5Array | 
| Version: 1.8.1 | 
| Command: /home/biocbuild/bbs-3.7-bioc/R/bin/R CMD build --keep-empty-dirs --no-resave-data HDF5Array | 
| StartedAt: 2018-10-15 20:56:49 -0400 (Mon, 15 Oct 2018) | 
| EndedAt: 2018-10-15 20:56:51 -0400 (Mon, 15 Oct 2018) | 
| EllapsedTime: 1.5 seconds | 
| RetCode: 0 | 
| Status: OK | 
| PackageFile: HDF5Array_1.8.1.tar.gz | 
| PackageFileSize: 7.633 MiB | 
############################################################################## ############################################################################## ### ### Running command: ### ### /home/biocbuild/bbs-3.7-bioc/R/bin/R CMD build --keep-empty-dirs --no-resave-data HDF5Array ### ############################################################################## ############################################################################## * checking for file ‘HDF5Array/DESCRIPTION’ ... OK * preparing ‘HDF5Array’: * checking DESCRIPTION meta-information ... OK * checking for LF line-endings in source and make files and shell scripts * checking for empty or unneeded directories * building ‘HDF5Array_1.8.1.tar.gz’