| Back to Multiple platform build/check report for BioC 3.7 |
|
This page was generated on 2018-10-17 08:56:30 -0400 (Wed, 17 Oct 2018).
| Package 963/1561 | Hostname | OS / Arch | INSTALL | BUILD | CHECK | BUILD BIN | ||||||
| MultiDataSet 1.8.0 Carlos Ruiz-Arenas
| malbec2 | Linux (Ubuntu 16.04.1 LTS) / x86_64 | OK | OK | OK | |||||||
| tokay2 | Windows Server 2012 R2 Standard / x64 | OK | OK | OK | OK | |||||||
| merida2 | OS X 10.11.6 El Capitan / x86_64 | OK | OK | [ OK ] | OK |
| Package: MultiDataSet |
| Version: 1.8.0 |
| Command: /Library/Frameworks/R.framework/Versions/Current/Resources/bin/R CMD check --install=check:MultiDataSet.install-out.txt --library=/Library/Frameworks/R.framework/Versions/Current/Resources/library --no-vignettes --timings MultiDataSet_1.8.0.tar.gz |
| StartedAt: 2018-10-16 22:51:04 -0400 (Tue, 16 Oct 2018) |
| EndedAt: 2018-10-16 22:54:35 -0400 (Tue, 16 Oct 2018) |
| EllapsedTime: 211.7 seconds |
| RetCode: 0 |
| Status: OK |
| CheckDir: MultiDataSet.Rcheck |
| Warnings: 0 |
##############################################################################
##############################################################################
###
### Running command:
###
### /Library/Frameworks/R.framework/Versions/Current/Resources/bin/R CMD check --install=check:MultiDataSet.install-out.txt --library=/Library/Frameworks/R.framework/Versions/Current/Resources/library --no-vignettes --timings MultiDataSet_1.8.0.tar.gz
###
##############################################################################
##############################################################################
* using log directory ‘/Users/biocbuild/bbs-3.7-bioc/meat/MultiDataSet.Rcheck’
* using R version 3.5.1 Patched (2018-07-12 r74967)
* using platform: x86_64-apple-darwin15.6.0 (64-bit)
* using session charset: UTF-8
* using option ‘--no-vignettes’
* checking for file ‘MultiDataSet/DESCRIPTION’ ... OK
* checking extension type ... Package
* this is package ‘MultiDataSet’ version ‘1.8.0’
* checking package namespace information ... OK
* checking package dependencies ... OK
* checking if this is a source package ... OK
* checking if there is a namespace ... OK
* checking for hidden files and directories ... OK
* checking for portable file names ... OK
* checking for sufficient/correct file permissions ... OK
* checking whether package ‘MultiDataSet’ can be installed ... OK
* checking installed package size ... OK
* checking package directory ... OK
* checking ‘build’ directory ... OK
* checking DESCRIPTION meta-information ... OK
* checking top-level files ... OK
* checking for left-over files ... OK
* checking index information ... OK
* checking package subdirectories ... OK
* checking R files for non-ASCII characters ... OK
* checking R files for syntax errors ... OK
* checking whether the package can be loaded ... OK
* checking whether the package can be loaded with stated dependencies ... OK
* checking whether the package can be unloaded cleanly ... OK
* checking whether the namespace can be loaded with stated dependencies ... OK
* checking whether the namespace can be unloaded cleanly ... OK
* checking dependencies in R code ... NOTE
Unexported objects imported by ':::' calls:
‘Biobase:::assayDataEnvLock’ ‘Biobase:::assayDataStorageMode’
See the note in ?`:::` about the use of this operator.
* checking S3 generic/method consistency ... OK
* checking replacement functions ... OK
* checking foreign function calls ... OK
* checking R code for possible problems ... NOTE
downloadGEO : <anonymous>: no visible global function definition for
‘methylationSet’
lambdaClayton: no visible global function definition for ‘qnorm’
lambdaClayton: no visible global function definition for ‘qchisq’
qq_plot: no visible global function definition for ‘qbeta’
Undefined global functions or variables:
methylationSet qbeta qchisq qnorm
Consider adding
importFrom("stats", "qbeta", "qchisq", "qnorm")
to your NAMESPACE file.
* checking Rd files ... OK
* checking Rd metadata ... OK
* checking Rd cross-references ... OK
* checking for missing documentation entries ... OK
* checking for code/documentation mismatches ... OK
* checking Rd \usage sections ... OK
* checking Rd contents ... OK
* checking for unstated dependencies in examples ... OK
* checking contents of ‘data’ directory ... OK
* checking data for non-ASCII characters ... OK
* checking data for ASCII and uncompressed saves ... OK
* checking files in ‘vignettes’ ... OK
* checking examples ... OK
Examples with CPU or elapsed time > 5s
user system elapsed
add_methy 15.475 1.146 16.779
* checking for unstated dependencies in ‘tests’ ... OK
* checking tests ...
Running ‘testthat.R’
OK
* checking for unstated dependencies in vignettes ... OK
* checking package vignettes in ‘inst/doc’ ... OK
* checking running R code from vignettes ... SKIPPED
* checking re-building of vignette outputs ... SKIPPED
* checking PDF version of manual ... OK
* DONE
Status: 2 NOTEs
See
‘/Users/biocbuild/bbs-3.7-bioc/meat/MultiDataSet.Rcheck/00check.log’
for details.
MultiDataSet.Rcheck/00install.out
############################################################################## ############################################################################## ### ### Running command: ### ### /Library/Frameworks/R.framework/Versions/Current/Resources/bin/R CMD INSTALL MultiDataSet ### ############################################################################## ############################################################################## * installing to library ‘/Library/Frameworks/R.framework/Versions/3.5/Resources/library’ * installing *source* package ‘MultiDataSet’ ... ** R ** data *** moving datasets to lazyload DB ** inst ** byte-compile and prepare package for lazy loading in method for ‘add_methy’ with signature ‘"MultiDataSet","GenomicRatioSet"’: no definition for class “GenomicRatioSet” ** help *** installing help indices ** building package indices ** installing vignettes ** testing if installed package can be loaded * DONE (MultiDataSet)
MultiDataSet.Rcheck/tests/testthat.Rout
R version 3.5.1 Patched (2018-07-12 r74967) -- "Feather Spray"
Copyright (C) 2018 The R Foundation for Statistical Computing
Platform: x86_64-apple-darwin15.6.0 (64-bit)
R is free software and comes with ABSOLUTELY NO WARRANTY.
You are welcome to redistribute it under certain conditions.
Type 'license()' or 'licence()' for distribution details.
R is a collaborative project with many contributors.
Type 'contributors()' for more information and
'citation()' on how to cite R or R packages in publications.
Type 'demo()' for some demos, 'help()' for on-line help, or
'help.start()' for an HTML browser interface to help.
Type 'q()' to quit R.
> library(testthat)
> library(MultiDataSet)
Loading required package: Biobase
Loading required package: BiocGenerics
Loading required package: parallel
Attaching package: 'BiocGenerics'
The following objects are masked from 'package:parallel':
clusterApply, clusterApplyLB, clusterCall, clusterEvalQ,
clusterExport, clusterMap, parApply, parCapply, parLapply,
parLapplyLB, parRapply, parSapply, parSapplyLB
The following objects are masked from 'package:stats':
IQR, mad, sd, var, xtabs
The following objects are masked from 'package:base':
Filter, Find, Map, Position, Reduce, anyDuplicated, append,
as.data.frame, basename, cbind, colMeans, colSums, colnames,
dirname, do.call, duplicated, eval, evalq, get, grep, grepl,
intersect, is.unsorted, lapply, lengths, mapply, match, mget,
order, paste, pmax, pmax.int, pmin, pmin.int, rank, rbind,
rowMeans, rowSums, rownames, sapply, setdiff, sort, table, tapply,
union, unique, unsplit, which, which.max, which.min
Welcome to Bioconductor
Vignettes contain introductory material; view with
'browseVignettes()'. To cite Bioconductor, see
'citation("Biobase")', and for packages 'citation("pkgname")'.
>
> test_check("MultiDataSet")
Object of class 'MultiDataSet'
. assayData: 1 elements
. rnaseq: 3 features, 2 samples
. featureData:
. rnaseq: 3 rows, 5 cols (chromosome, ..., status)
. rowRanges:
. rnaseq: NO
. phenoData:
. rnaseq: 2 samples, 1 cols (id)
Object of class 'MultiDataSet'
. assayData: 1 elements
. rnaseq: 3 features, 2 samples
. featureData:
. rnaseq: 3 rows, 5 cols (chromosome, ..., status)
. rowRanges:
. rnaseq: YES
. phenoData:
. rnaseq: 2 samples, 1 cols (id)
Object of class 'MultiDataSet'
. assayData: 1 elements
. rnaseq: 3 features, 2 samples
. featureData:
. rnaseq: 3 rows, 5 cols (chromosome, ..., status)
. rowRanges:
. rnaseq: NO
. phenoData:
. rnaseq: 2 samples, 2 cols (id, sex)
Object of class 'ResultSet'
. created with: test
. sva:
. #results: 1 ( error: 1 )
. featureData: 0
Object of class 'ResultSet'
. created with: association
. via: a and b
. sva:
. #results: 1 ( error: 1 )
. featureData: 10 probes x 2 variables
Object of class 'ResultSet'
. created with: crossomics
. sva:
. method: met ( metpac )
. #results: 2 ( error: 1 )
. featureData: 2
. pac: 10x2
. cot: 10x2
══ testthat results ═══════════════════════════════════════════════════════════
OK: 205 SKIPPED: 0 FAILED: 0
>
> proc.time()
user system elapsed
41.962 1.467 43.840
MultiDataSet.Rcheck/MultiDataSet-Ex.timings
| name | user | system | elapsed | |
| MultiDataSet-class | 0.003 | 0.001 | 0.003 | |
| ResultSet-class | 0.004 | 0.001 | 0.004 | |
| add_eset | 0.142 | 0.016 | 0.159 | |
| add_genexp | 0.158 | 0.020 | 0.180 | |
| add_methy | 15.475 | 1.146 | 16.779 | |
| add_rnaseq-methods | 0.116 | 0.000 | 0.118 | |
| add_rse | 0.267 | 0.006 | 0.276 | |
| add_se | 0.103 | 0.001 | 0.106 | |
| add_snps | 0.071 | 0.001 | 0.074 | |
| add_table | 0.014 | 0.001 | 0.015 | |
| chrNumToChar | 0.001 | 0.000 | 0.001 | |
| commonIds | 0.280 | 0.002 | 0.285 | |
| commonSamples | 0.156 | 0.002 | 0.159 | |
| getAssociation-methods | 0.046 | 0.011 | 0.057 | |
| lambdaClayton | 0.003 | 0.000 | 0.003 | |
| opt-methods | 0.004 | 0.001 | 0.004 | |
| qq_plot | 0.568 | 0.011 | 0.589 | |
| rowRangesElements | 0.123 | 0.002 | 0.125 | |
| volcano_plot | 0.376 | 0.004 | 0.385 | |