| Back to Multiple platform build/check report for BioC 3.7 |
|
This page was generated on 2018-10-17 08:43:04 -0400 (Wed, 17 Oct 2018).
| Package 970/1561 | Hostname | OS / Arch | INSTALL | BUILD | CHECK | BUILD BIN | ||||||
| MutationalPatterns 1.6.1 Roel Janssen
| malbec2 | Linux (Ubuntu 16.04.1 LTS) / x86_64 | OK | OK | OK | |||||||
| tokay2 | Windows Server 2012 R2 Standard / x64 | OK | OK | OK | [ OK ] | |||||||
| merida2 | OS X 10.11.6 El Capitan / x86_64 | OK | OK | OK | OK |
| Package: MutationalPatterns |
| Version: 1.6.1 |
| Command: rm -rf MutationalPatterns.buildbin-libdir && mkdir MutationalPatterns.buildbin-libdir && C:\Users\biocbuild\bbs-3.7-bioc\R\bin\R.exe CMD INSTALL --merge-multiarch --build --library=MutationalPatterns.buildbin-libdir MutationalPatterns_1.6.1.tar.gz |
| StartedAt: 2018-10-17 06:43:13 -0400 (Wed, 17 Oct 2018) |
| EndedAt: 2018-10-17 06:43:51 -0400 (Wed, 17 Oct 2018) |
| EllapsedTime: 38.0 seconds |
| RetCode: 0 |
| Status: OK |
| PackageFile: MutationalPatterns_1.6.1.zip |
| PackageFileSize: 2.922 MiB |
##############################################################################
##############################################################################
###
### Running command:
###
### rm -rf MutationalPatterns.buildbin-libdir && mkdir MutationalPatterns.buildbin-libdir && C:\Users\biocbuild\bbs-3.7-bioc\R\bin\R.exe CMD INSTALL --merge-multiarch --build --library=MutationalPatterns.buildbin-libdir MutationalPatterns_1.6.1.tar.gz
###
##############################################################################
##############################################################################
install for i386
* installing *source* package 'MutationalPatterns' ...
** R
** inst
** byte-compile and prepare package for lazy loading
** help
*** installing help indices
converting help for package 'MutationalPatterns'
finding HTML links ... done
MutationalPatterns-package html
binomial_test html
cluster_signatures html
cos_sim html
cos_sim_matrix html
enrichment_depletion_test html
explained_by_signatures html
extract_signatures html
fit_to_signatures html
genomic_distribution html
mut_context html
mut_matrix html
mut_matrix_stranded html
mut_strand html
mut_type html
mut_type_occurrences html
mutation_context html
mutation_types html
mutations_from_vcf html
plot_192_profile html
plot_96_profile html
plot_compare_profiles html
plot_contribution html
plot_contribution_heatmap html
plot_cosine_heatmap html
plot_enrichment_depletion html
plot_rainfall html
plot_signature_strand_bias html
plot_spectrum html
plot_strand html
plot_strand_bias html
read_vcfs_as_granges html
strand_bias_test html
strand_from_vcf html
strand_occurrences html
type_context html
** building package indices
** installing vignettes
** testing if installed package can be loaded
In R CMD INSTALL
install for x64
* installing *source* package 'MutationalPatterns' ...
** testing if installed package can be loaded
* MD5 sums
packaged installation of 'MutationalPatterns' as MutationalPatterns_1.6.1.zip
* DONE (MutationalPatterns)
In R CMD INSTALL
In R CMD INSTALL