| Back to Multiple platform build/check report for BioC 3.7 | 
 | 
This page was generated on 2018-10-17 08:37:13 -0400 (Wed, 17 Oct 2018).
| Package 1416/1561 | Hostname | OS / Arch | INSTALL | BUILD | CHECK | BUILD BIN | ||||||
| SplicingGraphs 1.20.0 H. Pagès 
 | malbec2 | Linux (Ubuntu 16.04.1 LTS) / x86_64 | OK | OK | WARNINGS |  | ||||||
| tokay2 | Windows Server 2012 R2 Standard / x64 | OK | OK | WARNINGS | [ OK ] |  | ||||||
| merida2 | OS X 10.11.6 El Capitan / x86_64 | OK | OK | WARNINGS | OK |  | 
| Package: SplicingGraphs | 
| Version: 1.20.0 | 
| Command: rm -rf SplicingGraphs.buildbin-libdir && mkdir SplicingGraphs.buildbin-libdir && C:\Users\biocbuild\bbs-3.7-bioc\R\bin\R.exe CMD INSTALL --merge-multiarch --build --library=SplicingGraphs.buildbin-libdir SplicingGraphs_1.20.0.tar.gz | 
| StartedAt: 2018-10-17 07:01:56 -0400 (Wed, 17 Oct 2018) | 
| EndedAt: 2018-10-17 07:02:55 -0400 (Wed, 17 Oct 2018) | 
| EllapsedTime: 58.3 seconds | 
| RetCode: 0 | 
| Status: OK | 
| PackageFile: SplicingGraphs_1.20.0.zip | 
| PackageFileSize: 4.569 MiB | 
##############################################################################
##############################################################################
###
### Running command:
###
###   rm -rf SplicingGraphs.buildbin-libdir && mkdir SplicingGraphs.buildbin-libdir && C:\Users\biocbuild\bbs-3.7-bioc\R\bin\R.exe CMD INSTALL --merge-multiarch --build --library=SplicingGraphs.buildbin-libdir SplicingGraphs_1.20.0.tar.gz
###
##############################################################################
##############################################################################
install for i386
* installing *source* package 'SplicingGraphs' ...
** R
** inst
** byte-compile and prepare package for lazy loading
Warning: replacing previous import 'IRanges::from' by 'Rgraphviz::from' when loading 'SplicingGraphs'
Warning: replacing previous import 'IRanges::to' by 'Rgraphviz::to' when loading 'SplicingGraphs'
** help
*** installing help indices
  converting help for package 'SplicingGraphs'
    finding HTML links ... done
    SplicingGraphs-class                    html  
Rd warning: C:/Users/biocbuild/bbs-3.7-bioc/tmpdir/RtmpgnvykD/R.INSTALLf804c12cb8/SplicingGraphs/man/SplicingGraphs-class.Rd:69: file link 'GRangesList' in package 'GenomicRanges' does not exist and so has been treated as a topic
Rd warning: C:/Users/biocbuild/bbs-3.7-bioc/tmpdir/RtmpgnvykD/R.INSTALLf804c12cb8/SplicingGraphs/man/SplicingGraphs-class.Rd:71: file link 'TxDb' in package 'GenomicFeatures' does not exist and so has been treated as a topic
Rd warning: C:/Users/biocbuild/bbs-3.7-bioc/tmpdir/RtmpgnvykD/R.INSTALLf804c12cb8/SplicingGraphs/man/SplicingGraphs-class.Rd:97: file link 'GRangesList' in package 'GenomicRanges' does not exist and so has been treated as a topic
Rd warning: C:/Users/biocbuild/bbs-3.7-bioc/tmpdir/RtmpgnvykD/R.INSTALLf804c12cb8/SplicingGraphs/man/SplicingGraphs-class.Rd:106: file link 'GRangesList' in package 'GenomicRanges' does not exist and so has been treated as a topic
Rd warning: C:/Users/biocbuild/bbs-3.7-bioc/tmpdir/RtmpgnvykD/R.INSTALLf804c12cb8/SplicingGraphs/man/SplicingGraphs-class.Rd:123: file link 'GRangesList' in package 'GenomicRanges' does not exist and so has been treated as a topic
Rd warning: C:/Users/biocbuild/bbs-3.7-bioc/tmpdir/RtmpgnvykD/R.INSTALLf804c12cb8/SplicingGraphs/man/SplicingGraphs-class.Rd:124: file link 'TxDb' in package 'GenomicFeatures' does not exist and so has been treated as a topic
Rd warning: C:/Users/biocbuild/bbs-3.7-bioc/tmpdir/RtmpgnvykD/R.INSTALLf804c12cb8/SplicingGraphs/man/SplicingGraphs-class.Rd:126: file link 'GRangesList' in package 'GenomicRanges' does not exist and so has been treated as a topic
Rd warning: C:/Users/biocbuild/bbs-3.7-bioc/tmpdir/RtmpgnvykD/R.INSTALLf804c12cb8/SplicingGraphs/man/SplicingGraphs-class.Rd:130: file link 'TxDb' in package 'GenomicFeatures' does not exist and so has been treated as a topic
Rd warning: C:/Users/biocbuild/bbs-3.7-bioc/tmpdir/RtmpgnvykD/R.INSTALLf804c12cb8/SplicingGraphs/man/SplicingGraphs-class.Rd:131: file link 'exonsBy' in package 'GenomicFeatures' does not exist and so has been treated as a topic
Rd warning: C:/Users/biocbuild/bbs-3.7-bioc/tmpdir/RtmpgnvykD/R.INSTALLf804c12cb8/SplicingGraphs/man/SplicingGraphs-class.Rd:135: file link 'GRangesList' in package 'GenomicRanges' does not exist and so has been treated as a topic
Rd warning: C:/Users/biocbuild/bbs-3.7-bioc/tmpdir/RtmpgnvykD/R.INSTALLf804c12cb8/SplicingGraphs/man/SplicingGraphs-class.Rd:137: file link 'GRangesList' in package 'GenomicRanges' does not exist and so has been treated as a topic
Rd warning: C:/Users/biocbuild/bbs-3.7-bioc/tmpdir/RtmpgnvykD/R.INSTALLf804c12cb8/SplicingGraphs/man/SplicingGraphs-class.Rd:145: file link 'IntegerList' in package 'IRanges' does not exist and so has been treated as a topic
Rd warning: C:/Users/biocbuild/bbs-3.7-bioc/tmpdir/RtmpgnvykD/R.INSTALLf804c12cb8/SplicingGraphs/man/SplicingGraphs-class.Rd:145: file link 'CharacterList' in package 'IRanges' does not exist and so has been treated as a topic
Rd warning: C:/Users/biocbuild/bbs-3.7-bioc/tmpdir/RtmpgnvykD/R.INSTALLf804c12cb8/SplicingGraphs/man/SplicingGraphs-class.Rd:151: file link 'GRangesList' in package 'GenomicRanges' does not exist and so has been treated as a topic
Rd warning: C:/Users/biocbuild/bbs-3.7-bioc/tmpdir/RtmpgnvykD/R.INSTALLf804c12cb8/SplicingGraphs/man/SplicingGraphs-class.Rd:159: file link 'exonsBy' in package 'GenomicFeatures' does not exist and so has been treated as a topic
Rd warning: C:/Users/biocbuild/bbs-3.7-bioc/tmpdir/RtmpgnvykD/R.INSTALLf804c12cb8/SplicingGraphs/man/SplicingGraphs-class.Rd:160: file link 'GRangesList' in package 'GenomicRanges' does not exist and so has been treated as a topic
Rd warning: C:/Users/biocbuild/bbs-3.7-bioc/tmpdir/RtmpgnvykD/R.INSTALLf804c12cb8/SplicingGraphs/man/SplicingGraphs-class.Rd:163: file link 'DataFrame' in package 'S4Vectors' does not exist and so has been treated as a topic
Rd warning: C:/Users/biocbuild/bbs-3.7-bioc/tmpdir/RtmpgnvykD/R.INSTALLf804c12cb8/SplicingGraphs/man/SplicingGraphs-class.Rd:188: file link 'GRangesList' in package 'GenomicRanges' does not exist and so has been treated as a topic
Rd warning: C:/Users/biocbuild/bbs-3.7-bioc/tmpdir/RtmpgnvykD/R.INSTALLf804c12cb8/SplicingGraphs/man/SplicingGraphs-class.Rd:189: file link 'TxDb' in package 'GenomicFeatures' does not exist and so has been treated as a topic
Rd warning: C:/Users/biocbuild/bbs-3.7-bioc/tmpdir/RtmpgnvykD/R.INSTALLf804c12cb8/SplicingGraphs/man/SplicingGraphs-class.Rd:220: file link 'exonsBy' in package 'GenomicFeatures' does not exist and so has been treated as a topic
Rd warning: C:/Users/biocbuild/bbs-3.7-bioc/tmpdir/RtmpgnvykD/R.INSTALLf804c12cb8/SplicingGraphs/man/SplicingGraphs-class.Rd:222: file link 'TxDb' in package 'GenomicFeatures' does not exist and so has been treated as a topic
Rd warning: C:/Users/biocbuild/bbs-3.7-bioc/tmpdir/RtmpgnvykD/R.INSTALLf804c12cb8/SplicingGraphs/man/SplicingGraphs-class.Rd:225: file link 'GRangesList' in package 'GenomicRanges' does not exist and so has been treated as a topic
Rd warning: C:/Users/biocbuild/bbs-3.7-bioc/tmpdir/RtmpgnvykD/R.INSTALLf804c12cb8/SplicingGraphs/man/SplicingGraphs-class.Rd:228: file link 'IntegerList' in package 'IRanges' does not exist and so has been treated as a topic
Rd warning: C:/Users/biocbuild/bbs-3.7-bioc/tmpdir/RtmpgnvykD/R.INSTALLf804c12cb8/SplicingGraphs/man/SplicingGraphs-class.Rd:228: file link 'CharacterList' in package 'IRanges' does not exist and so has been treated as a topic
Rd warning: C:/Users/biocbuild/bbs-3.7-bioc/tmpdir/RtmpgnvykD/R.INSTALLf804c12cb8/SplicingGraphs/man/SplicingGraphs-class.Rd:231: file link 'DataFrame' in package 'S4Vectors' does not exist and so has been treated as a topic
    SplicingGraphs-package                  html  
    TSPCsg                                  html  
    assignReads                             html  
Rd warning: C:/Users/biocbuild/bbs-3.7-bioc/tmpdir/RtmpgnvykD/R.INSTALLf804c12cb8/SplicingGraphs/man/assignReads.Rd:30: file link 'GAlignments' in package 'GenomicAlignments' does not exist and so has been treated as a topic
Rd warning: C:/Users/biocbuild/bbs-3.7-bioc/tmpdir/RtmpgnvykD/R.INSTALLf804c12cb8/SplicingGraphs/man/assignReads.Rd:31: file link 'GAlignmentPairs' in package 'GenomicAlignments' does not exist and so has been treated as a topic
Rd warning: C:/Users/biocbuild/bbs-3.7-bioc/tmpdir/RtmpgnvykD/R.INSTALLf804c12cb8/SplicingGraphs/man/assignReads.Rd:32: file link 'GRangesList' in package 'GenomicRanges' does not exist and so has been treated as a topic
Rd warning: C:/Users/biocbuild/bbs-3.7-bioc/tmpdir/RtmpgnvykD/R.INSTALLf804c12cb8/SplicingGraphs/man/assignReads.Rd:51: file link 'readGAlignmentPairs' in package 'GenomicAlignments' does not exist and so has been treated as a topic
Rd warning: C:/Users/biocbuild/bbs-3.7-bioc/tmpdir/RtmpgnvykD/R.INSTALLf804c12cb8/SplicingGraphs/man/assignReads.Rd:69: file link 'readGAlignmentPairs' in package 'GenomicAlignments' does not exist and so has been treated as a topic
Rd warning: C:/Users/biocbuild/bbs-3.7-bioc/tmpdir/RtmpgnvykD/R.INSTALLf804c12cb8/SplicingGraphs/man/assignReads.Rd:74: file link 'scanBamFlag' in package 'Rsamtools' does not exist and so has been treated as a topic
Rd warning: C:/Users/biocbuild/bbs-3.7-bioc/tmpdir/RtmpgnvykD/R.INSTALLf804c12cb8/SplicingGraphs/man/assignReads.Rd:75: file link 'ScanBamParam' in package 'Rsamtools' does not exist and so has been treated as a topic
Rd warning: C:/Users/biocbuild/bbs-3.7-bioc/tmpdir/RtmpgnvykD/R.INSTALLf804c12cb8/SplicingGraphs/man/assignReads.Rd:86: file link 'scanBamFlag' in package 'Rsamtools' does not exist and so has been treated as a topic
Rd warning: C:/Users/biocbuild/bbs-3.7-bioc/tmpdir/RtmpgnvykD/R.INSTALLf804c12cb8/SplicingGraphs/man/assignReads.Rd:112: file link 'GRangesList' in package 'GenomicRanges' does not exist and so has been treated as a topic
Rd warning: C:/Users/biocbuild/bbs-3.7-bioc/tmpdir/RtmpgnvykD/R.INSTALLf804c12cb8/SplicingGraphs/man/assignReads.Rd:115: file link 'GAlignments' in package 'GenomicAlignments' does not exist and so has been treated as a topic
Rd warning: C:/Users/biocbuild/bbs-3.7-bioc/tmpdir/RtmpgnvykD/R.INSTALLf804c12cb8/SplicingGraphs/man/assignReads.Rd:116: file link 'GAlignmentPairs' in package 'GenomicAlignments' does not exist and so has been treated as a topic
Rd warning: C:/Users/biocbuild/bbs-3.7-bioc/tmpdir/RtmpgnvykD/R.INSTALLf804c12cb8/SplicingGraphs/man/assignReads.Rd:118: file link 'readGAlignmentPairs' in package 'GenomicAlignments' does not exist and so has been treated as a topic
Rd warning: C:/Users/biocbuild/bbs-3.7-bioc/tmpdir/RtmpgnvykD/R.INSTALLf804c12cb8/SplicingGraphs/man/assignReads.Rd:122: file link 'ScanBamParam' in package 'Rsamtools' does not exist and so has been treated as a topic
    bubbles-methods                         html  
    countReads-methods                      html  
Rd warning: C:/Users/biocbuild/bbs-3.7-bioc/tmpdir/RtmpgnvykD/R.INSTALLf804c12cb8/SplicingGraphs/man/countReads-methods.Rd:116: file link 'DataFrame' in package 'S4Vectors' does not exist and so has been treated as a topic
    plotTranscripts-methods                 html  
Rd warning: C:/Users/biocbuild/bbs-3.7-bioc/tmpdir/RtmpgnvykD/R.INSTALLf804c12cb8/SplicingGraphs/man/plotTranscripts-methods.Rd:26: file link 'GRangesList' in package 'GenomicRanges' does not exist and so has been treated as a topic
Rd warning: C:/Users/biocbuild/bbs-3.7-bioc/tmpdir/RtmpgnvykD/R.INSTALLf804c12cb8/SplicingGraphs/man/plotTranscripts-methods.Rd:28: file link 'TxDb' in package 'GenomicFeatures' does not exist and so has been treated as a topic
Rd warning: C:/Users/biocbuild/bbs-3.7-bioc/tmpdir/RtmpgnvykD/R.INSTALLf804c12cb8/SplicingGraphs/man/plotTranscripts-methods.Rd:32: file link 'GAlignments' in package 'GenomicAlignments' does not exist and so has been treated as a topic
Rd warning: C:/Users/biocbuild/bbs-3.7-bioc/tmpdir/RtmpgnvykD/R.INSTALLf804c12cb8/SplicingGraphs/man/plotTranscripts-methods.Rd:33: file link 'GAlignmentPairs' in package 'GenomicAlignments' does not exist and so has been treated as a topic
Rd warning: C:/Users/biocbuild/bbs-3.7-bioc/tmpdir/RtmpgnvykD/R.INSTALLf804c12cb8/SplicingGraphs/man/plotTranscripts-methods.Rd:66: file link 'GRangesList' in package 'GenomicRanges' does not exist and so has been treated as a topic
Rd warning: C:/Users/biocbuild/bbs-3.7-bioc/tmpdir/RtmpgnvykD/R.INSTALLf804c12cb8/SplicingGraphs/man/plotTranscripts-methods.Rd:69: file link 'GAlignments' in package 'GenomicAlignments' does not exist and so has been treated as a topic
Rd warning: C:/Users/biocbuild/bbs-3.7-bioc/tmpdir/RtmpgnvykD/R.INSTALLf804c12cb8/SplicingGraphs/man/plotTranscripts-methods.Rd:70: file link 'GAlignmentPairs' in package 'GenomicAlignments' does not exist and so has been treated as a topic
Rd warning: C:/Users/biocbuild/bbs-3.7-bioc/tmpdir/RtmpgnvykD/R.INSTALLf804c12cb8/SplicingGraphs/man/plotTranscripts-methods.Rd:73: file link 'TxDb' in package 'GenomicFeatures' does not exist and so has been treated as a topic
    rsgedgesByGene-methods                  html  
Rd warning: C:/Users/biocbuild/bbs-3.7-bioc/tmpdir/RtmpgnvykD/R.INSTALLf804c12cb8/SplicingGraphs/man/rsgedgesByGene-methods.Rd:81: file link 'GRangesList' in package 'GenomicRanges' does not exist and so has been treated as a topic
    sgedges-methods                         html  
    sgedgesByGene-methods                   html  
Rd warning: C:/Users/biocbuild/bbs-3.7-bioc/tmpdir/RtmpgnvykD/R.INSTALLf804c12cb8/SplicingGraphs/man/sgedgesByGene-methods.Rd:21: file link 'GRangesList' in package 'GenomicRanges' does not exist and so has been treated as a topic
Rd warning: C:/Users/biocbuild/bbs-3.7-bioc/tmpdir/RtmpgnvykD/R.INSTALLf804c12cb8/SplicingGraphs/man/sgedgesByGene-methods.Rd:27: file link 'GRangesList' in package 'GenomicRanges' does not exist and so has been treated as a topic
Rd warning: C:/Users/biocbuild/bbs-3.7-bioc/tmpdir/RtmpgnvykD/R.INSTALLf804c12cb8/SplicingGraphs/man/sgedgesByGene-methods.Rd:63: file link 'GRangesList' in package 'GenomicRanges' does not exist and so has been treated as a topic
    sgraph-methods                          html  
    toy_data                                html  
Rd warning: C:/Users/biocbuild/bbs-3.7-bioc/tmpdir/RtmpgnvykD/R.INSTALLf804c12cb8/SplicingGraphs/man/toy_data.Rd:36: file link 'GRangesList' in package 'GenomicRanges' does not exist and so has been treated as a topic
Rd warning: C:/Users/biocbuild/bbs-3.7-bioc/tmpdir/RtmpgnvykD/R.INSTALLf804c12cb8/SplicingGraphs/man/toy_data.Rd:39: file link 'GAlignments' in package 'GenomicAlignments' does not exist and so has been treated as a topic
Rd warning: C:/Users/biocbuild/bbs-3.7-bioc/tmpdir/RtmpgnvykD/R.INSTALLf804c12cb8/SplicingGraphs/man/toy_data.Rd:40: file link 'GAlignmentPairs' in package 'GenomicAlignments' does not exist and so has been treated as a topic
Rd warning: C:/Users/biocbuild/bbs-3.7-bioc/tmpdir/RtmpgnvykD/R.INSTALLf804c12cb8/SplicingGraphs/man/toy_data.Rd:44: file link 'TxDb' in package 'GenomicFeatures' does not exist and so has been treated as a topic
    txpath-methods                          html  
Rd warning: C:/Users/biocbuild/bbs-3.7-bioc/tmpdir/RtmpgnvykD/R.INSTALLf804c12cb8/SplicingGraphs/man/txpath-methods.Rd:35: file link 'GRangesList' in package 'GenomicRanges' does not exist and so has been treated as a topic
Rd warning: C:/Users/biocbuild/bbs-3.7-bioc/tmpdir/RtmpgnvykD/R.INSTALLf804c12cb8/SplicingGraphs/man/txpath-methods.Rd:69: file link 'GRangesList' in package 'GenomicRanges' does not exist and so has been treated as a topic
Rd warning: C:/Users/biocbuild/bbs-3.7-bioc/tmpdir/RtmpgnvykD/R.INSTALLf804c12cb8/SplicingGraphs/man/txpath-methods.Rd:72: file link 'GAlignments' in package 'GenomicAlignments' does not exist and so has been treated as a topic
Rd warning: C:/Users/biocbuild/bbs-3.7-bioc/tmpdir/RtmpgnvykD/R.INSTALLf804c12cb8/SplicingGraphs/man/txpath-methods.Rd:73: file link 'GAlignmentPairs' in package 'GenomicAlignments' does not exist and so has been treated as a topic
Rd warning: C:/Users/biocbuild/bbs-3.7-bioc/tmpdir/RtmpgnvykD/R.INSTALLf804c12cb8/SplicingGraphs/man/txpath-methods.Rd:82: file link 'ScanBamParam' in package 'Rsamtools' does not exist and so has been treated as a topic
** building package indices
** installing vignettes
** testing if installed package can be loaded
Warning: replacing previous import 'IRanges::from' by 'Rgraphviz::from' when loading 'SplicingGraphs'
Warning: replacing previous import 'IRanges::to' by 'Rgraphviz::to' when loading 'SplicingGraphs'
In R CMD INSTALL
install for x64
* installing *source* package 'SplicingGraphs' ...
** testing if installed package can be loaded
Warning: replacing previous import 'IRanges::from' by 'Rgraphviz::from' when loading 'SplicingGraphs'
Warning: replacing previous import 'IRanges::to' by 'Rgraphviz::to' when loading 'SplicingGraphs'
* MD5 sums
packaged installation of 'SplicingGraphs' as SplicingGraphs_1.20.0.zip
* DONE (SplicingGraphs)
In R CMD INSTALL
In R CMD INSTALL