| Back to Multiple platform build/check report for BioC 3.7 |
|
This page was generated on 2018-10-17 08:26:05 -0400 (Wed, 17 Oct 2018).
| Package 1532/1561 | Hostname | OS / Arch | INSTALL | BUILD | CHECK | BUILD BIN | ||||||
| VariantFiltering 1.16.0 Robert Castelo
| malbec2 | Linux (Ubuntu 16.04.1 LTS) / x86_64 | OK | [ OK ] | OK | |||||||
| tokay2 | Windows Server 2012 R2 Standard / x64 | OK | OK | WARNINGS | OK | |||||||
| merida2 | OS X 10.11.6 El Capitan / x86_64 | OK | OK | OK | OK |
| Package: VariantFiltering |
| Version: 1.16.0 |
| Command: /home/biocbuild/bbs-3.7-bioc/R/bin/R CMD build --keep-empty-dirs --no-resave-data VariantFiltering |
| StartedAt: 2018-10-15 20:01:30 -0400 (Mon, 15 Oct 2018) |
| EndedAt: 2018-10-15 20:04:16 -0400 (Mon, 15 Oct 2018) |
| EllapsedTime: 166.6 seconds |
| RetCode: 0 |
| Status: OK |
| PackageFile: VariantFiltering_1.16.0.tar.gz |
| PackageFileSize: 3.447 MiB |
############################################################################## ############################################################################## ### ### Running command: ### ### /home/biocbuild/bbs-3.7-bioc/R/bin/R CMD build --keep-empty-dirs --no-resave-data VariantFiltering ### ############################################################################## ############################################################################## * checking for file ‘VariantFiltering/DESCRIPTION’ ... OK * preparing ‘VariantFiltering’: * checking DESCRIPTION meta-information ... OK * cleaning src * installing the package to build vignettes * creating vignettes ... OK * cleaning src * checking for LF line-endings in source and make files and shell scripts * checking for empty or unneeded directories * building ‘VariantFiltering_1.16.0.tar.gz’