| Back to Multiple platform build/check report for BioC 3.7 | 
 | 
This page was generated on 2018-10-17 08:20:55 -0400 (Wed, 17 Oct 2018).
| Package 50/1561 | Hostname | OS / Arch | INSTALL | BUILD | CHECK | BUILD BIN | ||||||
| annotate 1.58.0 Bioconductor Package Maintainer 
 | malbec2 | Linux (Ubuntu 16.04.1 LTS) / x86_64 | OK | OK | [ OK ] |  | ||||||
| tokay2 | Windows Server 2012 R2 Standard / x64 | OK | OK | OK | OK |  | ||||||
| merida2 | OS X 10.11.6 El Capitan / x86_64 | OK | OK | OK | OK |  | 
| Package: annotate | 
| Version: 1.58.0 | 
| Command: /home/biocbuild/bbs-3.7-bioc/R/bin/R CMD check --install=check:annotate.install-out.txt --library=/home/biocbuild/bbs-3.7-bioc/R/library --no-vignettes --timings annotate_1.58.0.tar.gz | 
| StartedAt: 2018-10-15 22:25:26 -0400 (Mon, 15 Oct 2018) | 
| EndedAt: 2018-10-15 22:27:50 -0400 (Mon, 15 Oct 2018) | 
| EllapsedTime: 144.9 seconds | 
| RetCode: 0 | 
| Status: OK | 
| CheckDir: annotate.Rcheck | 
| Warnings: 0 | 
##############################################################################
##############################################################################
###
### Running command:
###
###   /home/biocbuild/bbs-3.7-bioc/R/bin/R CMD check --install=check:annotate.install-out.txt --library=/home/biocbuild/bbs-3.7-bioc/R/library --no-vignettes --timings annotate_1.58.0.tar.gz
###
##############################################################################
##############################################################################
* using log directory ‘/home/biocbuild/bbs-3.7-bioc/meat/annotate.Rcheck’
* using R version 3.5.1 Patched (2018-07-12 r74967)
* using platform: x86_64-pc-linux-gnu (64-bit)
* using session charset: UTF-8
* using option ‘--no-vignettes’
* checking for file ‘annotate/DESCRIPTION’ ... OK
* this is package ‘annotate’ version ‘1.58.0’
* checking package namespace information ... OK
* checking package dependencies ... OK
* checking if this is a source package ... OK
* checking if there is a namespace ... OK
* checking for hidden files and directories ... OK
* checking for portable file names ... OK
* checking for sufficient/correct file permissions ... OK
* checking whether package ‘annotate’ can be installed ... OK
* checking installed package size ... OK
* checking package directory ... OK
* checking ‘build’ directory ... OK
* checking DESCRIPTION meta-information ... OK
* checking top-level files ... OK
* checking for left-over files ... OK
* checking index information ... OK
* checking package subdirectories ... OK
* checking R files for non-ASCII characters ... OK
* checking R files for syntax errors ... OK
* checking whether the package can be loaded ... OK
* checking whether the package can be loaded with stated dependencies ... OK
* checking whether the package can be unloaded cleanly ... OK
* checking whether the namespace can be loaded with stated dependencies ... OK
* checking whether the namespace can be unloaded cleanly ... OK
* checking dependencies in R code ... OK
* checking S3 generic/method consistency ... OK
* checking replacement functions ... OK
* checking foreign function calls ... OK
* checking R code for possible problems ... OK
* checking Rd files ... OK
* checking Rd metadata ... OK
* checking Rd cross-references ... OK
* checking for missing documentation entries ... OK
* checking for code/documentation mismatches ... OK
* checking Rd \usage sections ... OK
* checking Rd contents ... OK
* checking for unstated dependencies in examples ... OK
* checking contents of ‘data’ directory ... OK
* checking data for non-ASCII characters ... OK
* checking data for ASCII and uncompressed saves ... OK
* checking files in ‘vignettes’ ... OK
* checking examples ... OK
Examples with CPU or elapsed time > 5s
                 user system elapsed
chrCats        11.452  0.004  11.502
blastSequences  0.620  0.068  33.967
* checking for unstated dependencies in ‘tests’ ... OK
* checking tests ...
  Running ‘annotate_unit_tests.R’
 OK
* checking for unstated dependencies in vignettes ... OK
* checking package vignettes in ‘inst/doc’ ... OK
* checking running R code from vignettes ... SKIPPED
* checking re-building of vignette outputs ... SKIPPED
* checking PDF version of manual ... OK
* DONE
Status: OK
annotate.Rcheck/00install.out
############################################################################## ############################################################################## ### ### Running command: ### ### /home/biocbuild/bbs-3.7-bioc/R/bin/R CMD INSTALL annotate ### ############################################################################## ############################################################################## * installing to library ‘/home/biocbuild/bbs-3.7-bioc/R/library’ * installing *source* package ‘annotate’ ... ** R ** data ** inst ** byte-compile and prepare package for lazy loading ** help *** installing help indices ** building package indices ** installing vignettes ** testing if installed package can be loaded * DONE (annotate)
annotate.Rcheck/tests/annotate_unit_tests.Rout
R version 3.5.1 Patched (2018-07-12 r74967) -- "Feather Spray"
Copyright (C) 2018 The R Foundation for Statistical Computing
Platform: x86_64-pc-linux-gnu (64-bit)
R is free software and comes with ABSOLUTELY NO WARRANTY.
You are welcome to redistribute it under certain conditions.
Type 'license()' or 'licence()' for distribution details.
R is a collaborative project with many contributors.
Type 'contributors()' for more information and
'citation()' on how to cite R or R packages in publications.
Type 'demo()' for some demos, 'help()' for on-line help, or
'help.start()' for an HTML browser interface to help.
Type 'q()' to quit R.
> BiocGenerics:::testPackage("annotate")
Attaching package: 'BiocGenerics'
The following objects are masked from 'package:parallel':
    clusterApply, clusterApplyLB, clusterCall, clusterEvalQ,
    clusterExport, clusterMap, parApply, parCapply, parLapply,
    parLapplyLB, parRapply, parSapply, parSapplyLB
The following objects are masked from 'package:stats':
    IQR, mad, sd, var, xtabs
The following objects are masked from 'package:base':
    Filter, Find, Map, Position, Reduce, anyDuplicated, append,
    as.data.frame, basename, cbind, colMeans, colSums, colnames,
    dirname, do.call, duplicated, eval, evalq, get, grep, grepl,
    intersect, is.unsorted, lapply, lengths, mapply, match, mget,
    order, paste, pmax, pmax.int, pmin, pmin.int, rank, rbind,
    rowMeans, rowSums, rownames, sapply, setdiff, sort, table, tapply,
    union, unique, unsplit, which, which.max, which.min
Welcome to Bioconductor
    Vignettes contain introductory material; view with
    'browseVignettes()'. To cite Bioconductor, see
    'citation("Biobase")', and for packages 'citation("pkgname")'.
Attaching package: 'S4Vectors'
The following object is masked from 'package:base':
    expand.grid
Loading required package: org.Hs.eg.db
'select()' returned 1:many mapping between keys and columns
RUNIT TEST PROTOCOL -- Mon Oct 15 22:27:47 2018 
*********************************************** 
Number of test functions: 1 
Number of errors: 0 
Number of failures: 0 
 
1 Test Suite : 
annotate RUnit Tests - 1 test function, 0 errors, 0 failures
Number of test functions: 1 
Number of errors: 0 
Number of failures: 0 
> 
> proc.time()
   user  system elapsed 
  5.416   0.224   5.650 
annotate.Rcheck/annotate-Ex.timings
| name | user | system | elapsed | |
| ACCNUMStats | 1.300 | 0.036 | 1.335 | |
| GO2heatmap | 0.120 | 0.004 | 0.122 | |
| GOmnplot | 0.044 | 0.000 | 0.047 | |
| HTMLPage-class | 0 | 0 | 0 | |
| LL2homology | 0.000 | 0.000 | 0.001 | |
| PMIDAmat | 0.088 | 0.000 | 0.158 | |
| PWAmat | 1.864 | 0.012 | 1.885 | |
| UniGeneQuery | 0.000 | 0.000 | 0.002 | |
| accessionToUID | 0.668 | 0.048 | 3.944 | |
| annPkgName | 0.000 | 0.000 | 0.001 | |
| aqListGOIDs | 0.296 | 0.020 | 0.318 | |
| blastSequences | 0.620 | 0.068 | 33.967 | |
| buildChromLocation | 0.660 | 0.000 | 0.663 | |
| buildPubMedAbst | 0.108 | 0.004 | 0.761 | |
| chrCats | 11.452 | 0.004 | 11.502 | |
| chromLocation-class | 0.380 | 0.000 | 0.382 | |
| compatibleVersions | 0.028 | 0.000 | 0.029 | |
| dropECode | 0.044 | 0.000 | 0.041 | |
| entrezGeneByID | 0.000 | 0.000 | 0.001 | |
| entrezGeneQuery | 0.004 | 0.000 | 0.001 | |
| filterGOByOntology | 0.068 | 0.000 | 0.067 | |
| findNeighbors | 0.016 | 0.004 | 0.066 | |
| genbank | 0.216 | 0.004 | 0.871 | |
| getAnnMap | 0.036 | 0.012 | 0.177 | |
| getEvidence | 0.072 | 0.000 | 0.070 | |
| getGOTerm | 0.272 | 0.008 | 0.282 | |
| getOntology | 0.036 | 0.000 | 0.036 | |
| getPMInfo | 0.428 | 0.004 | 0.940 | |
| getSYMBOL | 0.104 | 0.008 | 0.185 | |
| getSeq4Acc | 0.080 | 0.004 | 0.400 | |
| hasGOannote | 0.032 | 0.000 | 0.031 | |
| hgByChroms | 0.024 | 0.000 | 0.023 | |
| hgCLengths | 0.004 | 0.000 | 0.002 | |
| hgu95Achroloc | 0.104 | 0.000 | 0.104 | |
| hgu95Achrom | 0.052 | 0.004 | 0.056 | |
| hgu95All | 0.056 | 0.004 | 0.057 | |
| hgu95Asym | 0.060 | 0.000 | 0.059 | |
| homoData-class | 0.004 | 0.000 | 0.003 | |
| htmlpage | 0.024 | 0.000 | 0.022 | |
| isValidkey | 0.000 | 0.000 | 0.001 | |
| makeAnchor | 0.000 | 0.004 | 0.001 | |
| organism | 0.492 | 0.000 | 0.492 | |
| p2LL | 0 | 0 | 0 | |
| pm.abstGrep | 0.868 | 0.008 | 2.175 | |
| pm.getabst | 0.808 | 0.004 | 2.543 | |
| pm.titles | 0.856 | 0.000 | 2.216 | |
| pmAbst2HTML | 0.092 | 0.008 | 0.759 | |
| pmid2MIAME | 0.000 | 0.000 | 0.001 | |
| pmidQuery | 0.000 | 0.000 | 0.001 | |
| pubMedAbst-class | 0.108 | 0.000 | 0.654 | |
| pubmed | 0.080 | 0.000 | 0.577 | |
| readGEOAnn | 0.000 | 0.000 | 0.001 | |
| serializeEnv | 0.000 | 0.000 | 0.002 | |
| setRepository | 0.004 | 0.000 | 0.003 | |
| updateSymbolsToValidKeys | 0.004 | 0.000 | 0.001 | |
| usedChromGenes | 0.076 | 0.000 | 0.077 | |