| Back to Multiple platform build/check report for BioC 3.7 |
|
This page was generated on 2018-10-17 08:34:04 -0400 (Wed, 17 Oct 2018).
| Package 67/1561 | Hostname | OS / Arch | INSTALL | BUILD | CHECK | BUILD BIN | ||||||
| arrayMvout 1.38.0 V. Carey
| malbec2 | Linux (Ubuntu 16.04.1 LTS) / x86_64 | OK | OK | OK | |||||||
| tokay2 | Windows Server 2012 R2 Standard / x64 | OK | OK | OK | [ OK ] | |||||||
| merida2 | OS X 10.11.6 El Capitan / x86_64 | OK | OK | OK | OK |
| Package: arrayMvout |
| Version: 1.38.0 |
| Command: rm -rf arrayMvout.buildbin-libdir && mkdir arrayMvout.buildbin-libdir && C:\Users\biocbuild\bbs-3.7-bioc\R\bin\R.exe CMD INSTALL --merge-multiarch --build --library=arrayMvout.buildbin-libdir arrayMvout_1.38.0.tar.gz |
| StartedAt: 2018-10-17 06:02:19 -0400 (Wed, 17 Oct 2018) |
| EndedAt: 2018-10-17 06:03:13 -0400 (Wed, 17 Oct 2018) |
| EllapsedTime: 54.0 seconds |
| RetCode: 0 |
| Status: OK |
| PackageFile: arrayMvout_1.38.0.zip |
| PackageFileSize: 642.3 KiB |
##############################################################################
##############################################################################
###
### Running command:
###
### rm -rf arrayMvout.buildbin-libdir && mkdir arrayMvout.buildbin-libdir && C:\Users\biocbuild\bbs-3.7-bioc\R\bin\R.exe CMD INSTALL --merge-multiarch --build --library=arrayMvout.buildbin-libdir arrayMvout_1.38.0.tar.gz
###
##############################################################################
##############################################################################
install for i386
* installing *source* package 'arrayMvout' ...
** R
** data
** inst
** byte-compile and prepare package for lazy loading
** help
*** installing help indices
converting help for package 'arrayMvout'
finding HTML links ... done
ArrayOutliers-methods html
ArrayOutliers html
arrOutStruct-class html
** building package indices
** installing vignettes
** testing if installed package can be loaded
In R CMD INSTALL
install for x64
* installing *source* package 'arrayMvout' ...
** testing if installed package can be loaded
* MD5 sums
packaged installation of 'arrayMvout' as arrayMvout_1.38.0.zip
* DONE (arrayMvout)
In R CMD INSTALL
In R CMD INSTALL