| Back to Multiple platform build/check report for BioC 3.7 | 
  | 
This page was generated on 2018-10-17 08:45:26 -0400 (Wed, 17 Oct 2018).
| Package 383/1561 | Hostname | OS / Arch | INSTALL | BUILD | CHECK | BUILD BIN | ||||||
| diffcoexp 1.0.0 Wenbin Wei 
  | malbec2 | Linux (Ubuntu 16.04.1 LTS) / x86_64 | OK | OK | OK | |||||||
| tokay2 | Windows Server 2012 R2 Standard / x64 | OK | OK | OK | [ OK ] | |||||||
| merida2 | OS X 10.11.6 El Capitan / x86_64 | OK | OK | OK | OK | 
| Package: diffcoexp | 
| Version: 1.0.0 | 
| Command: rm -rf diffcoexp.buildbin-libdir && mkdir diffcoexp.buildbin-libdir && C:\Users\biocbuild\bbs-3.7-bioc\R\bin\R.exe CMD INSTALL --merge-multiarch --build --library=diffcoexp.buildbin-libdir diffcoexp_1.0.0.tar.gz | 
| StartedAt: 2018-10-17 06:15:10 -0400 (Wed, 17 Oct 2018) | 
| EndedAt: 2018-10-17 06:15:36 -0400 (Wed, 17 Oct 2018) | 
| EllapsedTime: 25.6 seconds | 
| RetCode: 0 | 
| Status: OK | 
| PackageFile: diffcoexp_1.0.0.zip | 
| PackageFileSize: 232.1 KiB | 
##############################################################################
##############################################################################
###
### Running command:
###
###   rm -rf diffcoexp.buildbin-libdir && mkdir diffcoexp.buildbin-libdir && C:\Users\biocbuild\bbs-3.7-bioc\R\bin\R.exe CMD INSTALL --merge-multiarch --build --library=diffcoexp.buildbin-libdir diffcoexp_1.0.0.tar.gz
###
##############################################################################
##############################################################################
install for i386
* installing *source* package 'diffcoexp' ...
** R
** data
*** moving datasets to lazyload DB
** inst
** byte-compile and prepare package for lazy loading
==========================================================================
*
*  Package WGCNA 1.64.1 loaded.
*
*    Important note: It appears that your system supports multi-threading,
*    but it is not enabled within WGCNA in R. 
*    To allow multi-threading within WGCNA with all available cores, use 
*
*          allowWGCNAThreads()
*
*    within R. Use disableWGCNAThreads() to disable threading if necessary.
*    Alternatively, set the following environment variable on your system:
*
*          ALLOW_WGCNA_THREADS=<number_of_processors>
*
*    for example 
*
*          ALLOW_WGCNA_THREADS=20
*
*    To set the environment variable in linux bash shell, type 
*
*           export ALLOW_WGCNA_THREADS=20
*
*     before running R. Other operating systems or shells will
*     have a similar command to achieve the same aim.
*
==========================================================================
** help
*** installing help indices
  converting help for package 'diffcoexp'
    finding HTML links ... done
    coexpr                                  html  
    comparecor                              html  
    diffcoexp                               html  
    exprs.1                                 html  
    exprs.2                                 html  
** building package indices
** installing vignettes
** testing if installed package can be loaded
==========================================================================
*
*  Package WGCNA 1.64.1 loaded.
*
*    Important note: It appears that your system supports multi-threading,
*    but it is not enabled within WGCNA in R. 
*    To allow multi-threading within WGCNA with all available cores, use 
*
*          allowWGCNAThreads()
*
*    within R. Use disableWGCNAThreads() to disable threading if necessary.
*    Alternatively, set the following environment variable on your system:
*
*          ALLOW_WGCNA_THREADS=<number_of_processors>
*
*    for example 
*
*          ALLOW_WGCNA_THREADS=20
*
*    To set the environment variable in linux bash shell, type 
*
*           export ALLOW_WGCNA_THREADS=20
*
*     before running R. Other operating systems or shells will
*     have a similar command to achieve the same aim.
*
==========================================================================
In R CMD INSTALL
install for x64
* installing *source* package 'diffcoexp' ...
** testing if installed package can be loaded
==========================================================================
*
*  Package WGCNA 1.64.1 loaded.
*
*    Important note: It appears that your system supports multi-threading,
*    but it is not enabled within WGCNA in R. 
*    To allow multi-threading within WGCNA with all available cores, use 
*
*          allowWGCNAThreads()
*
*    within R. Use disableWGCNAThreads() to disable threading if necessary.
*    Alternatively, set the following environment variable on your system:
*
*          ALLOW_WGCNA_THREADS=<number_of_processors>
*
*    for example 
*
*          ALLOW_WGCNA_THREADS=20
*
*    To set the environment variable in linux bash shell, type 
*
*           export ALLOW_WGCNA_THREADS=20
*
*     before running R. Other operating systems or shells will
*     have a similar command to achieve the same aim.
*
==========================================================================
* MD5 sums
packaged installation of 'diffcoexp' as diffcoexp_1.0.0.zip
* DONE (diffcoexp)
In R CMD INSTALL
In R CMD INSTALL