Back to Multiple platform build/check report for BioC 3.7 |
|
This page was generated on 2018-10-17 08:50:04 -0400 (Wed, 17 Oct 2018).
Package 613/1561 | Hostname | OS / Arch | INSTALL | BUILD | CHECK | BUILD BIN | ||||||
ggbio 1.28.5 Michael Lawrence
| malbec2 | Linux (Ubuntu 16.04.1 LTS) / x86_64 | OK | OK | OK | ![]() | ||||||
tokay2 | Windows Server 2012 R2 Standard / x64 | OK | OK | WARNINGS | OK | ![]() | ||||||
merida2 | OS X 10.11.6 El Capitan / x86_64 | OK | OK | [ OK ] | OK | ![]() |
Package: ggbio |
Version: 1.28.5 |
Command: /Library/Frameworks/R.framework/Versions/Current/Resources/bin/R CMD check --install=check:ggbio.install-out.txt --library=/Library/Frameworks/R.framework/Versions/Current/Resources/library --no-vignettes --timings ggbio_1.28.5.tar.gz |
StartedAt: 2018-10-16 21:43:42 -0400 (Tue, 16 Oct 2018) |
EndedAt: 2018-10-16 21:57:34 -0400 (Tue, 16 Oct 2018) |
EllapsedTime: 831.9 seconds |
RetCode: 0 |
Status: OK |
CheckDir: ggbio.Rcheck |
Warnings: 0 |
############################################################################## ############################################################################## ### ### Running command: ### ### /Library/Frameworks/R.framework/Versions/Current/Resources/bin/R CMD check --install=check:ggbio.install-out.txt --library=/Library/Frameworks/R.framework/Versions/Current/Resources/library --no-vignettes --timings ggbio_1.28.5.tar.gz ### ############################################################################## ############################################################################## * using log directory ‘/Users/biocbuild/bbs-3.7-bioc/meat/ggbio.Rcheck’ * using R version 3.5.1 Patched (2018-07-12 r74967) * using platform: x86_64-apple-darwin15.6.0 (64-bit) * using session charset: UTF-8 * using option ‘--no-vignettes’ * checking for file ‘ggbio/DESCRIPTION’ ... OK * this is package ‘ggbio’ version ‘1.28.5’ * checking package namespace information ... OK * checking package dependencies ... OK * checking if this is a source package ... OK * checking if there is a namespace ... OK * checking for hidden files and directories ... OK * checking for portable file names ... OK * checking for sufficient/correct file permissions ... OK * checking whether package ‘ggbio’ can be installed ... OK * checking installed package size ... OK * checking package directory ... OK * checking ‘build’ directory ... OK * checking DESCRIPTION meta-information ... OK * checking top-level files ... OK * checking for left-over files ... OK * checking index information ... OK * checking package subdirectories ... OK * checking R files for non-ASCII characters ... OK * checking R files for syntax errors ... OK * checking whether the package can be loaded ... OK * checking whether the package can be loaded with stated dependencies ... OK * checking whether the package can be unloaded cleanly ... OK * checking whether the namespace can be loaded with stated dependencies ... OK * checking whether the namespace can be unloaded cleanly ... OK * checking dependencies in R code ... NOTE ':::' call which should be '::': 'ggplot2:::set_last_plot' See the note in ?`:::` about the use of this operator. Unexported objects imported by ':::' calls: 'S4Vectors:::top_prenv' 'ggplot2:::add_ggplot' 'ggplot2:::cunion' 'ggplot2:::rename_aes' 'ggplot2:::rescale01' See the note in ?`:::` about the use of this operator. * checking S3 generic/method consistency ... OK * checking replacement functions ... OK * checking foreign function calls ... OK * checking R code for possible problems ... NOTE .combineNames: no visible binding for global variable '.layout_circle.stats' Ideogram: no visible global function definition for 'data' Ideogram: no visible binding for global variable 'ideoCyto' ScalePlot: no visible binding for global variable 'y' ScalePlot2: no visible binding for global variable 'breaks' ScalePlot2: no visible binding for global variable 'yend' ScalePlot2: no visible binding for global variable 'y.text' getNR: no visible global function definition for 'se' getNR: no visible global function definition for 'indexProbesProcessed' getNR: no visible global function definition for 'coefs' plotInter: no visible binding for global variable 'fe' plotInter: no visible binding for global variable 'value' plotInter2: no visible binding for global variable 'fe' plotInter2: no visible binding for global variable 'value' scale_x_sequnit: no visible binding for global variable '.x' autoplot,ExpressionSet: no visible binding for global variable 'variable' autoplot,RangedSummarizedExperiment: no visible binding for global variable 'variable' autoplot,VCF: no visible binding for global variable 'stepping' autoplot,VCF: no visible binding for global variable 'value' autoplot,VRanges: no visible binding for global variable 'midpoint' autoplot,Views: no visible binding for global variable 'x' autoplot,Views: no visible binding for global variable 'value' geom_alignment,BamFile: no visible binding for global variable 'fl' geom_alignment,BamFile: no visible binding for global variable 'stepping' height,GGbio: no visible binding for global variable 'mt' height,Tracked: no visible binding for global variable 'mt' height,gg: no visible binding for global variable 'mt' layout_karyogram,GRanges: no visible binding for global variable 'gieStain' layout_karyogram,GRanges: no visible binding for global variable 'x' layout_karyogram,GRanges: no visible binding for global variable 'y' layout_karyogram,GRanges: no visible binding for global variable 'xend' layout_karyogram,GRanges: no visible binding for global variable 'yend' layout_karyogram,GRanges: no visible binding for global variable 'y2' layout_karyogram,GRanges: no visible binding for global variable 'yend2' layout_karyogram,GRanges: no visible binding for global variable 'name' plotFragLength,character-GRanges: no visible binding for global variable '.fragLength' plotSpliceSum,character-EnsDb: possible error in GRangesFilter(which, condition = "overlapping"): unused argument (condition = "overlapping") stat_mismatch,GRanges: no visible binding for global variable 'sts' stat_mismatch,GRanges: no visible binding for global variable 'eds' stat_mismatch,GRanges: no visible binding for global variable 'read' Undefined global functions or variables: .fragLength .layout_circle.stats .x breaks coefs data eds fe fl gieStain ideoCyto indexProbesProcessed midpoint mt name read se stepping sts value variable x xend y y.text y2 yend yend2 Consider adding importFrom("utils", "data") to your NAMESPACE file. * checking Rd files ... OK * checking Rd metadata ... OK * checking Rd cross-references ... OK * checking for missing documentation entries ... OK * checking for code/documentation mismatches ... OK * checking Rd \usage sections ... OK * checking Rd contents ... OK * checking for unstated dependencies in examples ... OK * checking line endings in Makefiles ... OK * checking for GNU extensions in Makefiles ... OK * checking include directives in Makefiles ... OK * checking sizes of PDF files under ‘inst/doc’ ... OK * checking files in ‘vignettes’ ... OK * checking examples ... OK Examples with CPU or elapsed time > 5s user system elapsed autoplot-method 145.483 2.184 148.880 geom_alignment-method 87.239 0.979 88.994 tracks 40.890 0.100 41.429 layout_karyogram-method 27.647 0.090 28.047 stat_reduce-method 20.130 0.230 20.474 plotRangesLinkedToData 14.023 0.196 14.340 stat_aggregate-method 13.119 0.039 16.933 geom_arrow-method 12.957 0.043 13.112 ggplot-method 10.244 0.106 10.446 layout_circle-method 9.295 0.032 9.432 stat_bin-method 9.208 0.051 12.250 plotGrandLinear 7.134 0.047 7.260 geom_chevron-method 6.068 0.018 6.160 arrangeGrobByParsingLegend 5.778 0.295 6.112 * checking for unstated dependencies in ‘tests’ ... OK * checking tests ... Running ‘test-all.R’ OK * checking for unstated dependencies in vignettes ... OK * checking package vignettes in ‘inst/doc’ ... OK * checking running R code from vignettes ... SKIPPED * checking re-building of vignette outputs ... SKIPPED * checking PDF version of manual ... OK * DONE Status: 2 NOTEs See ‘/Users/biocbuild/bbs-3.7-bioc/meat/ggbio.Rcheck/00check.log’ for details.
ggbio.Rcheck/00install.out
############################################################################## ############################################################################## ### ### Running command: ### ### /Library/Frameworks/R.framework/Versions/Current/Resources/bin/R CMD INSTALL ggbio ### ############################################################################## ############################################################################## * installing to library ‘/Library/Frameworks/R.framework/Versions/3.5/Resources/library’ * installing *source* package ‘ggbio’ ... ** R ** inst ** byte-compile and prepare package for lazy loading Creating a new generic function for 'rescale' in package 'ggbio' Creating a new generic function for 'xlim' in package 'ggbio' Creating a new generic function for 'geom_rect' in package 'ggbio' Creating a new generic function for 'geom_segment' in package 'ggbio' Creating a new generic function for 'geom_bar' in package 'ggbio' Creating a new generic function for 'stat_identity' in package 'ggbio' Creating a new generic function for 'stat_bin' in package 'ggbio' ** help *** installing help indices ** building package indices ** installing vignettes ** testing if installed package can be loaded * DONE (ggbio)
ggbio.Rcheck/tests/test-all.Rout
R version 3.5.1 Patched (2018-07-12 r74967) -- "Feather Spray" Copyright (C) 2018 The R Foundation for Statistical Computing Platform: x86_64-apple-darwin15.6.0 (64-bit) R is free software and comes with ABSOLUTELY NO WARRANTY. You are welcome to redistribute it under certain conditions. Type 'license()' or 'licence()' for distribution details. R is a collaborative project with many contributors. Type 'contributors()' for more information and 'citation()' on how to cite R or R packages in publications. Type 'demo()' for some demos, 'help()' for on-line help, or 'help.start()' for an HTML browser interface to help. Type 'q()' to quit R. > library(testthat) > test_check("ggbio") Loading required package: ggbio Loading required package: BiocGenerics Loading required package: parallel Attaching package: 'BiocGenerics' The following objects are masked from 'package:parallel': clusterApply, clusterApplyLB, clusterCall, clusterEvalQ, clusterExport, clusterMap, parApply, parCapply, parLapply, parLapplyLB, parRapply, parSapply, parSapplyLB The following objects are masked from 'package:stats': IQR, mad, sd, var, xtabs The following objects are masked from 'package:base': Filter, Find, Map, Position, Reduce, anyDuplicated, append, as.data.frame, basename, cbind, colMeans, colSums, colnames, dirname, do.call, duplicated, eval, evalq, get, grep, grepl, intersect, is.unsorted, lapply, lengths, mapply, match, mget, order, paste, pmax, pmax.int, pmin, pmin.int, rank, rbind, rowMeans, rowSums, rownames, sapply, setdiff, sort, table, tapply, union, unique, unsplit, which, which.max, which.min Loading required package: ggplot2 Need specific help about ggbio? try mailing the maintainer or visit http://tengfei.github.com/ggbio/ Attaching package: 'ggbio' The following objects are masked from 'package:ggplot2': geom_bar, geom_rect, geom_segment, ggsave, stat_bin, stat_identity, xlim ══ testthat results ═══════════════════════════════════════════════════════════ OK: 0 SKIPPED: 0 FAILED: 0 > > proc.time() user system elapsed 14.617 0.704 18.714
ggbio.Rcheck/ggbio-Ex.timings
name | user | system | elapsed | |
arrangeGrobByParsingLegend | 5.778 | 0.295 | 6.112 | |
autoplot-method | 145.483 | 2.184 | 148.880 | |
geom_alignment-method | 87.239 | 0.979 | 88.994 | |
geom_arch-method | 2.099 | 0.026 | 2.141 | |
geom_arrow-method | 12.957 | 0.043 | 13.112 | |
geom_arrowrect-method | 4.201 | 0.012 | 4.239 | |
geom_bar-method | 1.434 | 0.007 | 1.462 | |
geom_chevron-method | 6.068 | 0.018 | 6.160 | |
geom_rect-method | 4.057 | 0.012 | 4.107 | |
geom_segment-method | 3.875 | 0.039 | 3.943 | |
ggbio-class | 0.006 | 0.000 | 0.006 | |
ggplot-method | 10.244 | 0.106 | 10.446 | |
layout_circle-method | 9.295 | 0.032 | 9.432 | |
layout_karyogram-method | 27.647 | 0.090 | 28.047 | |
plotFragLength | 0.002 | 0.000 | 0.003 | |
plotGrandLinear | 7.134 | 0.047 | 7.260 | |
plotRangesLinkedToData | 14.023 | 0.196 | 14.340 | |
plotSingleChrom | 0.001 | 0.000 | 0.001 | |
plotSpliceSum | 0.002 | 0.000 | 0.002 | |
plotStackedOverview | 0.005 | 0.000 | 0.005 | |
rescale-method | 0.302 | 0.002 | 0.304 | |
scale_fill_fold_change | 0.669 | 0.009 | 0.696 | |
scale_fill_giemsa | 3.814 | 0.014 | 3.861 | |
scale_x_sequnit | 0.582 | 0.003 | 0.591 | |
stat_aggregate-method | 13.119 | 0.039 | 16.933 | |
stat_bin-method | 9.208 | 0.051 | 12.250 | |
stat_coverage-method | 3.340 | 0.033 | 3.577 | |
stat_gene-method | 0.003 | 0.001 | 0.002 | |
stat_identity-method | 3.551 | 0.033 | 3.603 | |
stat_reduce-method | 20.130 | 0.230 | 20.474 | |
stat_slice-method | 4.336 | 0.028 | 4.402 | |
stat_stepping-method | 3.05 | 0.01 | 3.10 | |
stat_table-method | 2.108 | 0.007 | 2.139 | |
theme | 2.673 | 0.006 | 2.716 | |
tracks | 40.890 | 0.100 | 41.429 | |