Back to Multiple platform build/check report for BioC 3.7 |
|
This page was generated on 2018-10-17 08:48:33 -0400 (Wed, 17 Oct 2018).
Package 617/1561 | Hostname | OS / Arch | INSTALL | BUILD | CHECK | BUILD BIN | ||||||
girafe 1.32.0 J. Toedling
| malbec2 | Linux (Ubuntu 16.04.1 LTS) / x86_64 | OK | OK | OK | ![]() | ||||||
tokay2 | Windows Server 2012 R2 Standard / x64 | OK | OK | WARNINGS | OK | ![]() | ||||||
merida2 | OS X 10.11.6 El Capitan / x86_64 | [ OK ] | OK | OK | OK | ![]() |
Package: girafe |
Version: 1.32.0 |
Command: /Library/Frameworks/R.framework/Versions/Current/Resources/bin/R CMD INSTALL girafe |
StartedAt: 2018-10-16 15:45:00 -0400 (Tue, 16 Oct 2018) |
EndedAt: 2018-10-16 15:45:36 -0400 (Tue, 16 Oct 2018) |
EllapsedTime: 35.8 seconds |
RetCode: 0 |
Status: OK |
############################################################################## ############################################################################## ### ### Running command: ### ### /Library/Frameworks/R.framework/Versions/Current/Resources/bin/R CMD INSTALL girafe ### ############################################################################## ############################################################################## * installing to library ‘/Library/Frameworks/R.framework/Versions/3.5/Resources/library’ * installing *source* package ‘girafe’ ... ** libs clang++ -I"/Library/Frameworks/R.framework/Resources/include" -DNDEBUG -I/usr/local/include -fPIC -Wall -g -O2 -c coverage.cpp -o coverage.o coverage.cpp:2:17: warning: using directive refers to implicitly-defined namespace 'std' using namespace std; ^ 1 warning generated. clang -I"/Library/Frameworks/R.framework/Resources/include" -DNDEBUG -I/usr/local/include -fPIC -Wall -g -O2 -c girafe_init.c -o girafe_init.o clang++ -dynamiclib -Wl,-headerpad_max_install_names -undefined dynamic_lookup -single_module -multiply_defined suppress -L/Library/Frameworks/R.framework/Resources/lib -L/usr/local/lib -o girafe.so coverage.o girafe_init.o -F/Library/Frameworks/R.framework/.. -framework R -Wl,-framework -Wl,CoreFoundation installing to /Library/Frameworks/R.framework/Versions/3.5/Resources/library/girafe/libs ** R ** inst ** byte-compile and prepare package for lazy loading No methods found in package ‘IRanges’ for request: ‘sort’ when loading ‘girafe’ Creating a generic function for ‘sample’ from package ‘base’ in package ‘girafe’ ** help *** installing help indices ** building package indices ** installing vignettes ** testing if installed package can be loaded No methods found in package ‘IRanges’ for request: ‘sort’ when loading ‘girafe’ * DONE (girafe)