| Back to Multiple platform build/check report for BioC 3.7 |
|
This page was generated on 2018-10-17 08:39:00 -0400 (Wed, 17 Oct 2018).
| Package 741/1561 | Hostname | OS / Arch | INSTALL | BUILD | CHECK | BUILD BIN | ||||||
| interactiveDisplayBase 1.18.0 Shawn Balcome
| malbec2 | Linux (Ubuntu 16.04.1 LTS) / x86_64 | OK | OK | OK | |||||||
| tokay2 | Windows Server 2012 R2 Standard / x64 | [ OK ] | OK | OK | OK | |||||||
| merida2 | OS X 10.11.6 El Capitan / x86_64 | OK | OK | OK | OK |
| Package: interactiveDisplayBase |
| Version: 1.18.0 |
| Command: C:\cygwin\bin\curl.exe -O https://malbec2.bioconductor.org/BBS/3.7/bioc/src/contrib/interactiveDisplayBase_1.18.0.tar.gz && rm -rf interactiveDisplayBase.buildbin-libdir && mkdir interactiveDisplayBase.buildbin-libdir && C:\Users\biocbuild\bbs-3.7-bioc\R\bin\R.exe CMD INSTALL --merge-multiarch --build --library=interactiveDisplayBase.buildbin-libdir interactiveDisplayBase_1.18.0.tar.gz && C:\Users\biocbuild\bbs-3.7-bioc\R\bin\R.exe CMD INSTALL interactiveDisplayBase_1.18.0.zip && rm interactiveDisplayBase_1.18.0.tar.gz interactiveDisplayBase_1.18.0.zip |
| StartedAt: 2018-10-16 18:48:44 -0400 (Tue, 16 Oct 2018) |
| EndedAt: 2018-10-16 18:49:47 -0400 (Tue, 16 Oct 2018) |
| EllapsedTime: 63.4 seconds |
| RetCode: 0 |
| Status: OK |
##############################################################################
##############################################################################
###
### Running command:
###
### C:\cygwin\bin\curl.exe -O https://malbec2.bioconductor.org/BBS/3.7/bioc/src/contrib/interactiveDisplayBase_1.18.0.tar.gz && rm -rf interactiveDisplayBase.buildbin-libdir && mkdir interactiveDisplayBase.buildbin-libdir && C:\Users\biocbuild\bbs-3.7-bioc\R\bin\R.exe CMD INSTALL --merge-multiarch --build --library=interactiveDisplayBase.buildbin-libdir interactiveDisplayBase_1.18.0.tar.gz && C:\Users\biocbuild\bbs-3.7-bioc\R\bin\R.exe CMD INSTALL interactiveDisplayBase_1.18.0.zip && rm interactiveDisplayBase_1.18.0.tar.gz interactiveDisplayBase_1.18.0.zip
###
##############################################################################
##############################################################################
% Total % Received % Xferd Average Speed Time Time Time Current
Dload Upload Total Spent Left Speed
0 0 0 0 0 0 0 0 --:--:-- --:--:-- --:--:-- 0
100 7570 100 7570 0 0 150k 0 --:--:-- --:--:-- --:--:-- 176k
install for i386
* installing *source* package 'interactiveDisplayBase' ...
** R
** inst
** byte-compile and prepare package for lazy loading
** help
*** installing help indices
converting help for package 'interactiveDisplayBase'
finding HTML links ... done
dot_runApp html
interactiveDisplayBase-methods html
** building package indices
** installing vignettes
** testing if installed package can be loaded
In R CMD INSTALL
install for x64
* installing *source* package 'interactiveDisplayBase' ...
** testing if installed package can be loaded
* MD5 sums
packaged installation of 'interactiveDisplayBase' as interactiveDisplayBase_1.18.0.zip
* DONE (interactiveDisplayBase)
In R CMD INSTALL
In R CMD INSTALL
* installing to library 'C:/Users/biocbuild/bbs-3.7-bioc/R/library'
package 'interactiveDisplayBase' successfully unpacked and MD5 sums checked
In R CMD INSTALL