| Back to Multiple platform build/check report for BioC 3.7 |
|
This page was generated on 2018-10-17 08:35:18 -0400 (Wed, 17 Oct 2018).
| Package 846/1561 | Hostname | OS / Arch | INSTALL | BUILD | CHECK | BUILD BIN | ||||||
| mcaGUI 1.28.1 Wade K. Copeland
| malbec2 | Linux (Ubuntu 16.04.1 LTS) / x86_64 | OK | OK | WARNINGS | |||||||
| tokay2 | Windows Server 2012 R2 Standard / x64 | OK | OK | WARNINGS | [ OK ] | |||||||
| merida2 | OS X 10.11.6 El Capitan / x86_64 | OK | OK | WARNINGS | OK |
| Package: mcaGUI |
| Version: 1.28.1 |
| Command: rm -rf mcaGUI.buildbin-libdir && mkdir mcaGUI.buildbin-libdir && C:\Users\biocbuild\bbs-3.7-bioc\R\bin\R.exe CMD INSTALL --merge-multiarch --build --library=mcaGUI.buildbin-libdir mcaGUI_1.28.1.tar.gz |
| StartedAt: 2018-10-17 06:38:51 -0400 (Wed, 17 Oct 2018) |
| EndedAt: 2018-10-17 06:39:25 -0400 (Wed, 17 Oct 2018) |
| EllapsedTime: 34.1 seconds |
| RetCode: 0 |
| Status: OK |
| PackageFile: mcaGUI_1.28.1.zip |
| PackageFileSize: 486.1 KiB |
##############################################################################
##############################################################################
###
### Running command:
###
### rm -rf mcaGUI.buildbin-libdir && mkdir mcaGUI.buildbin-libdir && C:\Users\biocbuild\bbs-3.7-bioc\R\bin\R.exe CMD INSTALL --merge-multiarch --build --library=mcaGUI.buildbin-libdir mcaGUI_1.28.1.tar.gz
###
##############################################################################
##############################################################################
install for i386
* installing *source* package 'mcaGUI' ...
** R
** inst
** byte-compile and prepare package for lazy loading
Note: ... may be used in an incorrect context
** help
*** installing help indices
converting help for package 'mcaGUI'
finding HTML links ... done
mcaGUI html
mcaGUIpackage html
mcaGUIundocumented html
pmgDynamic html
pmgRepeatTrials html
** building package indices
** installing vignettes
** testing if installed package can be loaded
Loading mcaGUI()
[1] "You can access the mcaGUI vignette by browsing to: "
[1] ""
GUI requires an interactive environment
In R CMD INSTALL
install for x64
* installing *source* package 'mcaGUI' ...
** testing if installed package can be loaded
Loading mcaGUI()
[1] "You can access the mcaGUI vignette by browsing to: "
[1] ""
GUI requires an interactive environment
* MD5 sums
packaged installation of 'mcaGUI' as mcaGUI_1.28.1.zip
* DONE (mcaGUI)
In R CMD INSTALL
In R CMD INSTALL