| Back to Multiple platform build/check report for BioC 3.7 |
|
This page was generated on 2018-10-17 08:43:28 -0400 (Wed, 17 Oct 2018).
| Package 1310/1561 | Hostname | OS / Arch | INSTALL | BUILD | CHECK | BUILD BIN | ||||||
| sampleClassifier 1.4.0 Khadija El Amrani
| malbec2 | Linux (Ubuntu 16.04.1 LTS) / x86_64 | OK | OK | OK | |||||||
| tokay2 | Windows Server 2012 R2 Standard / x64 | OK | OK | [ OK ] | OK | |||||||
| merida2 | OS X 10.11.6 El Capitan / x86_64 | OK | OK | OK | OK |
| Package: sampleClassifier |
| Version: 1.4.0 |
| Command: C:\Users\biocbuild\bbs-3.7-bioc\R\bin\R.exe CMD check --force-multiarch --install=check:sampleClassifier.install-out.txt --library=C:\Users\biocbuild\bbs-3.7-bioc\R\library --no-vignettes --timings sampleClassifier_1.4.0.tar.gz |
| StartedAt: 2018-10-17 04:39:24 -0400 (Wed, 17 Oct 2018) |
| EndedAt: 2018-10-17 04:47:59 -0400 (Wed, 17 Oct 2018) |
| EllapsedTime: 514.6 seconds |
| RetCode: 0 |
| Status: OK |
| CheckDir: sampleClassifier.Rcheck |
| Warnings: 0 |
##############################################################################
##############################################################################
###
### Running command:
###
### C:\Users\biocbuild\bbs-3.7-bioc\R\bin\R.exe CMD check --force-multiarch --install=check:sampleClassifier.install-out.txt --library=C:\Users\biocbuild\bbs-3.7-bioc\R\library --no-vignettes --timings sampleClassifier_1.4.0.tar.gz
###
##############################################################################
##############################################################################
* using log directory 'C:/Users/biocbuild/bbs-3.7-bioc/meat/sampleClassifier.Rcheck'
* using R version 3.5.1 Patched (2018-07-24 r75005)
* using platform: x86_64-w64-mingw32 (64-bit)
* using session charset: ISO8859-1
* using option '--no-vignettes'
* checking for file 'sampleClassifier/DESCRIPTION' ... OK
* checking extension type ... Package
* this is package 'sampleClassifier' version '1.4.0'
* checking package namespace information ... OK
* checking package dependencies ... OK
* checking if this is a source package ... OK
* checking if there is a namespace ... OK
* checking for hidden files and directories ... OK
* checking for portable file names ... OK
* checking whether package 'sampleClassifier' can be installed ... OK
* checking installed package size ... OK
* checking package directory ... OK
* checking 'build' directory ... OK
* checking DESCRIPTION meta-information ... OK
* checking top-level files ... OK
* checking for left-over files ... OK
* checking index information ... OK
* checking package subdirectories ... OK
* checking R files for non-ASCII characters ... OK
* checking R files for syntax errors ... OK
* loading checks for arch 'i386'
** checking whether the package can be loaded ... OK
** checking whether the package can be loaded with stated dependencies ... OK
** checking whether the package can be unloaded cleanly ... OK
** checking whether the namespace can be loaded with stated dependencies ... OK
** checking whether the namespace can be unloaded cleanly ... OK
* loading checks for arch 'x64'
** checking whether the package can be loaded ... OK
** checking whether the package can be loaded with stated dependencies ... OK
** checking whether the package can be unloaded cleanly ... OK
** checking whether the namespace can be loaded with stated dependencies ... OK
** checking whether the namespace can be unloaded cleanly ... OK
* checking dependencies in R code ... OK
* checking S3 generic/method consistency ... OK
* checking replacement functions ... OK
* checking foreign function calls ... OK
* checking R code for possible problems ... OK
* checking Rd files ... OK
* checking Rd metadata ... OK
* checking Rd cross-references ... OK
* checking for missing documentation entries ... OK
* checking for code/documentation mismatches ... OK
* checking Rd \usage sections ... OK
* checking Rd contents ... OK
* checking for unstated dependencies in examples ... OK
* checking files in 'vignettes' ... OK
* checking examples ...
** running examples for arch 'i386' ... OK
Examples with CPU or elapsed time > 5s
user system elapsed
classifyProfile.rnaseq 82.65 0.81 83.48
get.heatmap 33.53 0.76 34.30
classifyProfile 28.39 1.06 29.45
classifyProfile.svm 26.55 0.44 26.98
classifyProfile.rnaseq.svm 16.81 0.25 17.06
** running examples for arch 'x64' ... OK
Examples with CPU or elapsed time > 5s
user system elapsed
classifyProfile.rnaseq 95.78 0.86 96.71
classifyProfile 39.90 0.89 40.79
classifyProfile.svm 28.07 0.33 28.40
get.heatmap 25.73 0.38 26.12
classifyProfile.rnaseq.svm 16.21 0.25 16.46
* checking for unstated dependencies in vignettes ... OK
* checking package vignettes in 'inst/doc' ... OK
* checking running R code from vignettes ... SKIPPED
* checking re-building of vignette outputs ... SKIPPED
* checking PDF version of manual ... OK
* DONE
Status: OK
sampleClassifier.Rcheck/00install.out
##############################################################################
##############################################################################
###
### Running command:
###
### C:\cygwin\bin\curl.exe -O https://malbec2.bioconductor.org/BBS/3.7/bioc/src/contrib/sampleClassifier_1.4.0.tar.gz && rm -rf sampleClassifier.buildbin-libdir && mkdir sampleClassifier.buildbin-libdir && C:\Users\biocbuild\bbs-3.7-bioc\R\bin\R.exe CMD INSTALL --merge-multiarch --build --library=sampleClassifier.buildbin-libdir sampleClassifier_1.4.0.tar.gz && C:\Users\biocbuild\bbs-3.7-bioc\R\bin\R.exe CMD INSTALL sampleClassifier_1.4.0.zip && rm sampleClassifier_1.4.0.tar.gz sampleClassifier_1.4.0.zip
###
##############################################################################
##############################################################################
% Total % Received % Xferd Average Speed Time Time Time Current
Dload Upload Total Spent Left Speed
0 0 0 0 0 0 0 0 --:--:-- --:--:-- --:--:-- 0
100 219k 100 219k 0 0 3853k 0 --:--:-- --:--:-- --:--:-- 4310k
install for i386
* installing *source* package 'sampleClassifier' ...
** R
** byte-compile and prepare package for lazy loading
** help
*** installing help indices
converting help for package 'sampleClassifier'
finding HTML links ... done
classifyProfile html
classifyProfile.rnaseq html
classifyProfile.rnaseq.svm html
classifyProfile.svm html
get.heatmap html
sampleClassifier-internal html
sampleClassifier-package html
** building package indices
** installing vignettes
** testing if installed package can be loaded
In R CMD INSTALL
install for x64
* installing *source* package 'sampleClassifier' ...
** testing if installed package can be loaded
* MD5 sums
packaged installation of 'sampleClassifier' as sampleClassifier_1.4.0.zip
* DONE (sampleClassifier)
In R CMD INSTALL
In R CMD INSTALL
* installing to library 'C:/Users/biocbuild/bbs-3.7-bioc/R/library'
package 'sampleClassifier' successfully unpacked and MD5 sums checked
In R CMD INSTALL
|
sampleClassifier.Rcheck/examples_i386/sampleClassifier-Ex.timings
|
sampleClassifier.Rcheck/examples_x64/sampleClassifier-Ex.timings
|