| Back to Multiple platform build/check report for BioC 3.7 |
|
This page was generated on 2018-10-17 08:43:45 -0400 (Wed, 17 Oct 2018).
| Package 1548/1561 | Hostname | OS / Arch | INSTALL | BUILD | CHECK | BUILD BIN | ||||||
| wiggleplotr 1.4.0 Kaur Alasoo
| malbec2 | Linux (Ubuntu 16.04.1 LTS) / x86_64 | OK | OK | WARNINGS | |||||||
| tokay2 | Windows Server 2012 R2 Standard / x64 | OK | OK | WARNINGS | [ OK ] | |||||||
| merida2 | OS X 10.11.6 El Capitan / x86_64 | OK | OK | WARNINGS | OK |
| Package: wiggleplotr |
| Version: 1.4.0 |
| Command: rm -rf wiggleplotr.buildbin-libdir && mkdir wiggleplotr.buildbin-libdir && C:\Users\biocbuild\bbs-3.7-bioc\R\bin\R.exe CMD INSTALL --merge-multiarch --build --library=wiggleplotr.buildbin-libdir wiggleplotr_1.4.0.tar.gz |
| StartedAt: 2018-10-17 07:07:00 -0400 (Wed, 17 Oct 2018) |
| EndedAt: 2018-10-17 07:07:15 -0400 (Wed, 17 Oct 2018) |
| EllapsedTime: 14.8 seconds |
| RetCode: 0 |
| Status: OK |
| PackageFile: wiggleplotr_1.4.0.zip |
| PackageFileSize: 236.9 KiB |
##############################################################################
##############################################################################
###
### Running command:
###
### rm -rf wiggleplotr.buildbin-libdir && mkdir wiggleplotr.buildbin-libdir && C:\Users\biocbuild\bbs-3.7-bioc\R\bin\R.exe CMD INSTALL --merge-multiarch --build --library=wiggleplotr.buildbin-libdir wiggleplotr_1.4.0.tar.gz
###
##############################################################################
##############################################################################
install for i386
* installing *source* package 'wiggleplotr' ...
** R
** data
*** moving datasets to lazyload DB
** inst
** byte-compile and prepare package for lazy loading
** help
*** installing help indices
converting help for package 'wiggleplotr'
finding HTML links ... done
getGenotypePalette html
makeManhattanPlot html
ncoa7_cdss html
ncoa7_exons html
ncoa7_metadata html
pasteFactors html
plotCoverage html
plotCoverageFromEnsembldb html
plotCoverageFromUCSC html
plotTranscripts html
plotTranscriptsFromEnsembldb html
plotTranscriptsFromUCSC html
wiggleplotr html
** building package indices
** installing vignettes
** testing if installed package can be loaded
In R CMD INSTALL
install for x64
* installing *source* package 'wiggleplotr' ...
** testing if installed package can be loaded
* MD5 sums
packaged installation of 'wiggleplotr' as wiggleplotr_1.4.0.zip
* DONE (wiggleplotr)
In R CMD INSTALL
In R CMD INSTALL