| Back to Multiple platform build/check report for BioC 3.7 experimental data |
This page was generated on 2018-10-16 14:18:45 -0400 (Tue, 16 Oct 2018).
| Package 67/342 | Hostname | OS / Arch | INSTALL | BUILD | CHECK | BUILD BIN | ||||||
| CRCL18 0.114.0 Claudio Isella
| malbec2 | Linux (Ubuntu 16.04.1 LTS) / x86_64 | [ OK ] | OK | OK |
| Package: CRCL18 |
| Version: 0.114.0 |
| Command: /home/biocbuild/bbs-3.7-bioc/R/bin/R CMD INSTALL CRCL18 |
| StartedAt: 2018-10-16 09:04:05 -0400 (Tue, 16 Oct 2018) |
| EndedAt: 2018-10-16 09:04:10 -0400 (Tue, 16 Oct 2018) |
| EllapsedTime: 5.5 seconds |
| RetCode: 0 |
| Status: OK |
############################################################################## ############################################################################## ### ### Running command: ### ### /home/biocbuild/bbs-3.7-bioc/R/bin/R CMD INSTALL CRCL18 ### ############################################################################## ############################################################################## * installing to library ‘/home/biocbuild/bbs-3.7-bioc/R/library’ * installing *source* package ‘CRCL18’ ... ** R ** data ** byte-compile and prepare package for lazy loading ** help *** installing help indices ** building package indices ** installing vignettes ** testing if installed package can be loaded * DONE (CRCL18)