| Back to Multiple platform build/check report for BioC 3.7 experimental data |
This page was generated on 2018-10-16 14:19:49 -0400 (Tue, 16 Oct 2018).
| Package 158/342 | Hostname | OS / Arch | INSTALL | BUILD | CHECK | BUILD BIN | ||||||
| HMP16SData 1.0.1 Lucas Schiffer
| malbec2 | Linux (Ubuntu 16.04.1 LTS) / x86_64 | OK | [ OK ] | OK |
| Package: HMP16SData |
| Version: 1.0.1 |
| Command: /home/biocbuild/bbs-3.7-bioc/R/bin/R CMD build --keep-empty-dirs --no-resave-data HMP16SData |
| StartedAt: 2018-10-16 10:04:18 -0400 (Tue, 16 Oct 2018) |
| EndedAt: 2018-10-16 10:07:03 -0400 (Tue, 16 Oct 2018) |
| EllapsedTime: 165.2 seconds |
| RetCode: 0 |
| Status: OK |
| PackageFile: HMP16SData_1.0.1.tar.gz |
| PackageFileSize: 16.26 MiB |
############################################################################## ############################################################################## ### ### Running command: ### ### /home/biocbuild/bbs-3.7-bioc/R/bin/R CMD build --keep-empty-dirs --no-resave-data HMP16SData ### ############################################################################## ############################################################################## * checking for file ‘HMP16SData/DESCRIPTION’ ... OK * preparing ‘HMP16SData’: * checking DESCRIPTION meta-information ... OK * installing the package to build vignettes * creating vignettes ... OK * checking for LF line-endings in source and make files and shell scripts * checking for empty or unneeded directories * looking to see if a ‘data/datalist’ file should be added * building ‘HMP16SData_1.0.1.tar.gz’