| Back to Multiple platform build/check report for BioC 3.7 experimental data |
This page was generated on 2018-10-16 14:19:10 -0400 (Tue, 16 Oct 2018).
| Package 193/342 | Hostname | OS / Arch | INSTALL | BUILD | CHECK | BUILD BIN | ||||||
Carlos Ruiz
| malbec2 | Linux (Ubuntu 16.04.1 LTS) / x86_64 | OK | [ OK ] | WARNINGS |
| Package: MEALData |
| Version: 1.10.0 |
| Command: /home/biocbuild/bbs-3.7-bioc/R/bin/R CMD build --keep-empty-dirs --no-resave-data MEALData |
| StartedAt: 2018-10-16 09:52:38 -0400 (Tue, 16 Oct 2018) |
| EndedAt: 2018-10-16 09:53:16 -0400 (Tue, 16 Oct 2018) |
| EllapsedTime: 38.0 seconds |
| RetCode: 0 |
| Status: OK |
| PackageFile: MEALData_1.10.0.tar.gz |
| PackageFileSize: 460.9 MiB |
############################################################################## ############################################################################## ### ### Running command: ### ### /home/biocbuild/bbs-3.7-bioc/R/bin/R CMD build --keep-empty-dirs --no-resave-data MEALData ### ############################################################################## ############################################################################## * checking for file ‘MEALData/DESCRIPTION’ ... OK * preparing ‘MEALData’: * checking DESCRIPTION meta-information ... OK * checking for LF line-endings in source and make files and shell scripts * checking for empty or unneeded directories * looking to see if a ‘data/datalist’ file should be added * building ‘MEALData_1.10.0.tar.gz’