| Back to Multiple platform build/check report for BioC 3.7 experimental data | 
This page was generated on 2018-10-16 14:16:55 -0400 (Tue, 16 Oct 2018).
| Package 307/342 | Hostname | OS / Arch | INSTALL | BUILD | CHECK | BUILD BIN | ||||||
| SpikeInSubset 1.20.0 Rafael A. Irizarry 
  | malbec2 | Linux (Ubuntu 16.04.1 LTS) / x86_64 | OK | [ OK ] | WARNINGS | 
| Package: SpikeInSubset | 
| Version: 1.20.0 | 
| Command: /home/biocbuild/bbs-3.7-bioc/R/bin/R CMD build --keep-empty-dirs --no-resave-data SpikeInSubset | 
| StartedAt: 2018-10-16 09:21:08 -0400 (Tue, 16 Oct 2018) | 
| EndedAt: 2018-10-16 09:21:19 -0400 (Tue, 16 Oct 2018) | 
| EllapsedTime: 10.9 seconds | 
| RetCode: 0 | 
| Status: OK | 
| PackageFile: SpikeInSubset_1.20.0.tar.gz | 
| PackageFileSize: 17.99 MiB | 
############################################################################## ############################################################################## ### ### Running command: ### ### /home/biocbuild/bbs-3.7-bioc/R/bin/R CMD build --keep-empty-dirs --no-resave-data SpikeInSubset ### ############################################################################## ############################################################################## * checking for file ‘SpikeInSubset/DESCRIPTION’ ... OK * preparing ‘SpikeInSubset’: * checking DESCRIPTION meta-information ... OK * checking for LF line-endings in source and make files and shell scripts * checking for empty or unneeded directories * looking to see if a ‘data/datalist’ file should be added * building ‘SpikeInSubset_1.20.0.tar.gz’