| Back to Multiple platform build/check report for BioC 3.7 experimental data |
This page was generated on 2018-10-16 14:19:49 -0400 (Tue, 16 Oct 2018).
| Package 321/342 | Hostname | OS / Arch | INSTALL | BUILD | CHECK | BUILD BIN | ||||||
| TENxBrainData 1.0.0 Bioconductor Package Maintainer
| malbec2 | Linux (Ubuntu 16.04.1 LTS) / x86_64 | OK | [ OK ] | OK |
| Package: TENxBrainData |
| Version: 1.0.0 |
| Command: /home/biocbuild/bbs-3.7-bioc/R/bin/R CMD build --keep-empty-dirs --no-resave-data TENxBrainData |
| StartedAt: 2018-10-16 10:04:36 -0400 (Tue, 16 Oct 2018) |
| EndedAt: 2018-10-16 10:06:04 -0400 (Tue, 16 Oct 2018) |
| EllapsedTime: 88.2 seconds |
| RetCode: 0 |
| Status: OK |
| PackageFile: TENxBrainData_1.0.0.tar.gz |
| PackageFileSize: 338.2 KiB |
############################################################################## ############################################################################## ### ### Running command: ### ### /home/biocbuild/bbs-3.7-bioc/R/bin/R CMD build --keep-empty-dirs --no-resave-data TENxBrainData ### ############################################################################## ############################################################################## * checking for file ‘TENxBrainData/DESCRIPTION’ ... OK * preparing ‘TENxBrainData’: * checking DESCRIPTION meta-information ... OK * installing the package to build vignettes * creating vignettes ... OK * checking for LF line-endings in source and make files and shell scripts * checking for empty or unneeded directories * building ‘TENxBrainData_1.0.0.tar.gz’