| Back to Multiple platform build/check report for BioC 3.7 experimental data | 
This page was generated on 2018-10-16 14:17:13 -0400 (Tue, 16 Oct 2018).
| Package 314/342 | Hostname | OS / Arch | INSTALL | BUILD | CHECK | BUILD BIN | ||||||
| TargetSearchData 1.18.0 Alvaro Cuadros-Inostroza 
  | malbec2 | Linux (Ubuntu 16.04.1 LTS) / x86_64 | OK | [ OK ] | OK | 
| Package: TargetSearchData | 
| Version: 1.18.0 | 
| Command: /home/biocbuild/bbs-3.7-bioc/R/bin/R CMD build --keep-empty-dirs --no-resave-data TargetSearchData | 
| StartedAt: 2018-10-16 09:24:03 -0400 (Tue, 16 Oct 2018) | 
| EndedAt: 2018-10-16 09:24:32 -0400 (Tue, 16 Oct 2018) | 
| EllapsedTime: 29.1 seconds | 
| RetCode: 0 | 
| Status: OK | 
| PackageFile: TargetSearchData_1.18.0.tar.gz | 
| PackageFileSize: 29.78 MiB | 
############################################################################## ############################################################################## ### ### Running command: ### ### /home/biocbuild/bbs-3.7-bioc/R/bin/R CMD build --keep-empty-dirs --no-resave-data TargetSearchData ### ############################################################################## ############################################################################## * checking for file ‘TargetSearchData/DESCRIPTION’ ... OK * preparing ‘TargetSearchData’: * checking DESCRIPTION meta-information ... OK * checking for LF line-endings in source and make files and shell scripts * checking for empty or unneeded directories * building ‘TargetSearchData_1.18.0.tar.gz’