| Back to Multiple platform build/check report for BioC 3.7 experimental data | 
This page was generated on 2018-10-16 14:18:03 -0400 (Tue, 16 Oct 2018).
| Package 36/342 | Hostname | OS / Arch | INSTALL | BUILD | CHECK | BUILD BIN | ||||||
| bsseqData 0.18.1 Kasper Daniel Hansen 
  | malbec2 | Linux (Ubuntu 16.04.1 LTS) / x86_64 | OK | [ OK ] | OK | 
| Package: bsseqData | 
| Version: 0.18.1 | 
| Command: /home/biocbuild/bbs-3.7-bioc/R/bin/R CMD build --keep-empty-dirs --no-resave-data bsseqData | 
| StartedAt: 2018-10-16 09:27:39 -0400 (Tue, 16 Oct 2018) | 
| EndedAt: 2018-10-16 09:27:58 -0400 (Tue, 16 Oct 2018) | 
| EllapsedTime: 18.6 seconds | 
| RetCode: 0 | 
| Status: OK | 
| PackageFile: bsseqData_0.18.1.tar.gz | 
| PackageFileSize: 128.4 MiB | 
############################################################################## ############################################################################## ### ### Running command: ### ### /home/biocbuild/bbs-3.7-bioc/R/bin/R CMD build --keep-empty-dirs --no-resave-data bsseqData ### ############################################################################## ############################################################################## * checking for file ‘bsseqData/DESCRIPTION’ ... OK * preparing ‘bsseqData’: * checking DESCRIPTION meta-information ... OK * checking for LF line-endings in source and make files and shell scripts * checking for empty or unneeded directories * looking to see if a ‘data/datalist’ file should be added * building ‘bsseqData_0.18.1.tar.gz’