| Back to Multiple platform build/check report for BioC 3.7 experimental data | 
This page was generated on 2018-10-16 14:17:09 -0400 (Tue, 16 Oct 2018).
| Package 41/342 | Hostname | OS / Arch | INSTALL | BUILD | CHECK | BUILD BIN | ||||||
| ccTutorial 1.18.0 Joern Toedling 
  | malbec2 | Linux (Ubuntu 16.04.1 LTS) / x86_64 | OK | [ OK ] | OK | 
| Package: ccTutorial | 
| Version: 1.18.0 | 
| Command: /home/biocbuild/bbs-3.7-bioc/R/bin/R CMD build --keep-empty-dirs --no-resave-data ccTutorial | 
| StartedAt: 2018-10-16 09:22:26 -0400 (Tue, 16 Oct 2018) | 
| EndedAt: 2018-10-16 09:27:28 -0400 (Tue, 16 Oct 2018) | 
| EllapsedTime: 301.4 seconds | 
| RetCode: 0 | 
| Status: OK | 
| PackageFile: ccTutorial_1.18.0.tar.gz | 
| PackageFileSize: 278.5 MiB | 
##############################################################################
##############################################################################
###
### Running command:
###
###   /home/biocbuild/bbs-3.7-bioc/R/bin/R CMD build --keep-empty-dirs --no-resave-data ccTutorial
###
##############################################################################
##############################################################################
* checking for file ‘ccTutorial/DESCRIPTION’ ... OK
* preparing ‘ccTutorial’:
* checking DESCRIPTION meta-information ... OK
* installing the package to build vignettes
* creating vignettes ... OK
Warning: ‘inst/doc’ file
    ‘ccTutorialSupplement.R’
  ignored as vignettes have been rebuilt.
  Run R CMD build with --no-build-vignettes to prevent rebuilding.
* checking for LF line-endings in source and make files and shell scripts
* checking for empty or unneeded directories
* looking to see if a ‘data/datalist’ file should be added
* building ‘ccTutorial_1.18.0.tar.gz’