| Back to Multiple platform build/check report for BioC 3.7 experimental data |
This page was generated on 2018-10-16 14:16:59 -0400 (Tue, 16 Oct 2018).
| Package 137/342 | Hostname | OS / Arch | INSTALL | BUILD | CHECK | BUILD BIN | ||||||
| hapmap100kxba 1.22.0 Benilton Carvalho
| malbec2 | Linux (Ubuntu 16.04.1 LTS) / x86_64 | [ OK ] | OK | OK |
| Package: hapmap100kxba |
| Version: 1.22.0 |
| Command: /home/biocbuild/bbs-3.7-bioc/R/bin/R CMD INSTALL hapmap100kxba |
| StartedAt: 2018-10-16 08:57:23 -0400 (Tue, 16 Oct 2018) |
| EndedAt: 2018-10-16 08:57:31 -0400 (Tue, 16 Oct 2018) |
| EllapsedTime: 8.2 seconds |
| RetCode: 0 |
| Status: OK |
############################################################################## ############################################################################## ### ### Running command: ### ### /home/biocbuild/bbs-3.7-bioc/R/bin/R CMD INSTALL hapmap100kxba ### ############################################################################## ############################################################################## * installing to library ‘/home/biocbuild/bbs-3.7-bioc/R/library’ * installing *source* package ‘hapmap100kxba’ ... ** R ** inst ** byte-compile and prepare package for lazy loading ** help *** installing help indices ** building package indices ** testing if installed package can be loaded * DONE (hapmap100kxba)