| Back to Multiple platform build/check report for BioC 3.7 experimental data | 
This page was generated on 2018-10-16 14:17:02 -0400 (Tue, 16 Oct 2018).
| Package 139/342 | Hostname | OS / Arch | INSTALL | BUILD | CHECK | BUILD BIN | ||||||
| hapmap500ksty 1.22.0 Benilton Carvalho 
  | malbec2 | Linux (Ubuntu 16.04.1 LTS) / x86_64 | OK | [ OK ] | OK | 
| Package: hapmap500ksty | 
| Version: 1.22.0 | 
| Command: /home/biocbuild/bbs-3.7-bioc/R/bin/R CMD build --keep-empty-dirs --no-resave-data hapmap500ksty | 
| StartedAt: 2018-10-16 09:21:51 -0400 (Tue, 16 Oct 2018) | 
| EndedAt: 2018-10-16 09:24:28 -0400 (Tue, 16 Oct 2018) | 
| EllapsedTime: 157.0 seconds | 
| RetCode: 0 | 
| Status: OK | 
| PackageFile: hapmap500ksty_1.22.0.tar.gz | 
| PackageFileSize: 77.63 MiB | 
############################################################################## ############################################################################## ### ### Running command: ### ### /home/biocbuild/bbs-3.7-bioc/R/bin/R CMD build --keep-empty-dirs --no-resave-data hapmap500ksty ### ############################################################################## ############################################################################## * checking for file ‘hapmap500ksty/DESCRIPTION’ ... OK * preparing ‘hapmap500ksty’: * checking DESCRIPTION meta-information ... OK * checking for LF line-endings in source and make files and shell scripts * checking for empty or unneeded directories * building ‘hapmap500ksty_1.22.0.tar.gz’