| Back to Multiple platform build/check report for BioC 3.7 experimental data |
This page was generated on 2018-10-16 14:17:19 -0400 (Tue, 16 Oct 2018).
| Package 176/342 | Hostname | OS / Arch | INSTALL | BUILD | CHECK | BUILD BIN | ||||||
| leeBamViews 1.16.0 VJ Carey
| malbec2 | Linux (Ubuntu 16.04.1 LTS) / x86_64 | OK | [ OK ] | OK |
| Package: leeBamViews |
| Version: 1.16.0 |
| Command: /home/biocbuild/bbs-3.7-bioc/R/bin/R CMD build --keep-empty-dirs --no-resave-data leeBamViews |
| StartedAt: 2018-10-16 09:24:24 -0400 (Tue, 16 Oct 2018) |
| EndedAt: 2018-10-16 09:25:14 -0400 (Tue, 16 Oct 2018) |
| EllapsedTime: 49.9 seconds |
| RetCode: 0 |
| Status: OK |
| PackageFile: leeBamViews_1.16.0.tar.gz |
| PackageFileSize: 10.97 MiB |
############################################################################## ############################################################################## ### ### Running command: ### ### /home/biocbuild/bbs-3.7-bioc/R/bin/R CMD build --keep-empty-dirs --no-resave-data leeBamViews ### ############################################################################## ############################################################################## * checking for file ‘leeBamViews/DESCRIPTION’ ... OK * preparing ‘leeBamViews’: * checking DESCRIPTION meta-information ... OK * installing the package to build vignettes * creating vignettes ... OK * checking for LF line-endings in source and make files and shell scripts * checking for empty or unneeded directories * looking to see if a ‘data/datalist’ file should be added * building ‘leeBamViews_1.16.0.tar.gz’