| Back to Multiple platform build/check report for BioC 3.7 experimental data |
This page was generated on 2018-10-16 14:19:02 -0400 (Tue, 16 Oct 2018).
| Package 206/342 | Hostname | OS / Arch | INSTALL | BUILD | CHECK | BUILD BIN | ||||||
| minionSummaryData 1.10.0 Mike Smith
| malbec2 | Linux (Ubuntu 16.04.1 LTS) / x86_64 | OK | [ OK ] | OK |
| Package: minionSummaryData |
| Version: 1.10.0 |
| Command: /home/biocbuild/bbs-3.7-bioc/R/bin/R CMD build --keep-empty-dirs --no-resave-data minionSummaryData |
| StartedAt: 2018-10-16 09:50:03 -0400 (Tue, 16 Oct 2018) |
| EndedAt: 2018-10-16 09:50:30 -0400 (Tue, 16 Oct 2018) |
| EllapsedTime: 27.0 seconds |
| RetCode: 0 |
| Status: OK |
| PackageFile: minionSummaryData_1.10.0.tar.gz |
| PackageFileSize: 134.7 MiB |
############################################################################## ############################################################################## ### ### Running command: ### ### /home/biocbuild/bbs-3.7-bioc/R/bin/R CMD build --keep-empty-dirs --no-resave-data minionSummaryData ### ############################################################################## ############################################################################## * checking for file ‘minionSummaryData/DESCRIPTION’ ... OK * preparing ‘minionSummaryData’: * checking DESCRIPTION meta-information ... OK * installing the package to build vignettes * creating vignettes ... OK * checking for LF line-endings in source and make files and shell scripts * checking for empty or unneeded directories * looking to see if a ‘data/datalist’ file should be added * building ‘minionSummaryData_1.10.0.tar.gz’