| Back to Multiple platform build/check report for BioC 3.7 experimental data |
This page was generated on 2018-10-16 14:16:52 -0400 (Tue, 16 Oct 2018).
| Package 242/342 | Hostname | OS / Arch | INSTALL | BUILD | CHECK | BUILD BIN | ||||||
| ppiData 0.18.0 Bioconductor Package Maintainer
| malbec2 | Linux (Ubuntu 16.04.1 LTS) / x86_64 | OK | [ OK ] | WARNINGS |
| Package: ppiData |
| Version: 0.18.0 |
| Command: /home/biocbuild/bbs-3.7-bioc/R/bin/R CMD build --keep-empty-dirs --no-resave-data ppiData |
| StartedAt: 2018-10-16 09:20:57 -0400 (Tue, 16 Oct 2018) |
| EndedAt: 2018-10-16 09:21:18 -0400 (Tue, 16 Oct 2018) |
| EllapsedTime: 21.0 seconds |
| RetCode: 0 |
| Status: OK |
| PackageFile: ppiData_0.18.0.tar.gz |
| PackageFileSize: 2.906 MiB |
############################################################################## ############################################################################## ### ### Running command: ### ### /home/biocbuild/bbs-3.7-bioc/R/bin/R CMD build --keep-empty-dirs --no-resave-data ppiData ### ############################################################################## ############################################################################## * checking for file ‘ppiData/DESCRIPTION’ ... OK * preparing ‘ppiData’: * checking DESCRIPTION meta-information ... OK * installing the package to build vignettes * creating vignettes ... OK * checking for LF line-endings in source and make files and shell scripts * checking for empty or unneeded directories * looking to see if a ‘data/datalist’ file should be added * building ‘ppiData_0.18.0.tar.gz’