| Back to Multiple platform build/check report for BioC 3.7 experimental data |
This page was generated on 2018-10-16 14:17:31 -0400 (Tue, 16 Oct 2018).
| Package 299/342 | Hostname | OS / Arch | INSTALL | BUILD | CHECK | BUILD BIN | ||||||
| simpIntLists 1.16.0 Kircicegi Korkmaz
| malbec2 | Linux (Ubuntu 16.04.1 LTS) / x86_64 | [ OK ] | OK | WARNINGS |
| Package: simpIntLists |
| Version: 1.16.0 |
| Command: /home/biocbuild/bbs-3.7-bioc/R/bin/R CMD INSTALL simpIntLists |
| StartedAt: 2018-10-16 08:57:23 -0400 (Tue, 16 Oct 2018) |
| EndedAt: 2018-10-16 08:57:31 -0400 (Tue, 16 Oct 2018) |
| EllapsedTime: 8.2 seconds |
| RetCode: 0 |
| Status: OK |
############################################################################## ############################################################################## ### ### Running command: ### ### /home/biocbuild/bbs-3.7-bioc/R/bin/R CMD INSTALL simpIntLists ### ############################################################################## ############################################################################## * installing to library ‘/home/biocbuild/bbs-3.7-bioc/R/library’ * installing *source* package ‘simpIntLists’ ... ** R ** data ** byte-compile and prepare package for lazy loading ** help *** installing help indices ** building package indices ** installing vignettes ** testing if installed package can be loaded * DONE (simpIntLists)