| Back to Multiple platform build/check report for BioC 3.7 experimental data |
This page was generated on 2018-10-16 14:17:49 -0400 (Tue, 16 Oct 2018).
| Package 328/342 | Hostname | OS / Arch | INSTALL | BUILD | CHECK | BUILD BIN | ||||||
| tweeDEseqCountData 1.18.0 Juan R Gonzalez
| malbec2 | Linux (Ubuntu 16.04.1 LTS) / x86_64 | [ OK ] | OK | OK |
| Package: tweeDEseqCountData |
| Version: 1.18.0 |
| Command: /home/biocbuild/bbs-3.7-bioc/R/bin/R CMD INSTALL tweeDEseqCountData |
| StartedAt: 2018-10-16 09:04:28 -0400 (Tue, 16 Oct 2018) |
| EndedAt: 2018-10-16 09:04:34 -0400 (Tue, 16 Oct 2018) |
| EllapsedTime: 6.7 seconds |
| RetCode: 0 |
| Status: OK |
############################################################################## ############################################################################## ### ### Running command: ### ### /home/biocbuild/bbs-3.7-bioc/R/bin/R CMD INSTALL tweeDEseqCountData ### ############################################################################## ############################################################################## * installing to library ‘/home/biocbuild/bbs-3.7-bioc/R/library’ * installing *source* package ‘tweeDEseqCountData’ ... ** R ** data ** byte-compile and prepare package for lazy loading ** help *** installing help indices ** building package indices ** testing if installed package can be loaded * DONE (tweeDEseqCountData)