| Back to Workflows build report for BioC 3.7 |
This page was generated on 2018-10-15 12:45:17 -0400 (Mon, 15 Oct 2018).
| Package 2/21 | Hostname | OS / Arch | INSTALL | BUILD | ||||||
| arrays 1.4.0 Bioconductor Package Maintainer
| malbec2 | Linux (Ubuntu 16.04.1 LTS) / x86_64 | OK | OK | ||||||
| tokay2 | Windows Server 2012 R2 Standard / x64 | [ OK ] | OK |
| Package: arrays |
| Version: 1.4.0 |
| Command: C:\cygwin\bin\curl.exe -O https://malbec2.bioconductor.org/BBS/3.7/workflows/src/contrib/arrays_1.4.0.tar.gz && rm -rf arrays.buildbin-libdir && mkdir arrays.buildbin-libdir && C:\Users\biocbuild\bbs-3.7-bioc\R\bin\R.exe CMD INSTALL --merge-multiarch --build --library=arrays.buildbin-libdir arrays_1.4.0.tar.gz && C:\Users\biocbuild\bbs-3.7-bioc\R\bin\R.exe CMD INSTALL arrays_1.4.0.zip && rm arrays_1.4.0.tar.gz arrays_1.4.0.zip |
| StartedAt: 2018-10-15 07:55:21 -0400 (Mon, 15 Oct 2018) |
| EndedAt: 2018-10-15 07:56:44 -0400 (Mon, 15 Oct 2018) |
| EllapsedTime: 83.1 seconds |
| RetCode: 0 |
| Status: OK |
##############################################################################
##############################################################################
###
### Running command:
###
### C:\cygwin\bin\curl.exe -O https://malbec2.bioconductor.org/BBS/3.7/workflows/src/contrib/arrays_1.4.0.tar.gz && rm -rf arrays.buildbin-libdir && mkdir arrays.buildbin-libdir && C:\Users\biocbuild\bbs-3.7-bioc\R\bin\R.exe CMD INSTALL --merge-multiarch --build --library=arrays.buildbin-libdir arrays_1.4.0.tar.gz && C:\Users\biocbuild\bbs-3.7-bioc\R\bin\R.exe CMD INSTALL arrays_1.4.0.zip && rm arrays_1.4.0.tar.gz arrays_1.4.0.zip
###
##############################################################################
##############################################################################
% Total % Received % Xferd Average Speed Time Time Time Current
Dload Upload Total Spent Left Speed
0 0 0 0 0 0 0 0 --:--:-- --:--:-- --:--:-- 0
100 9946k 100 9946k 0 0 73.1M 0 --:--:-- --:--:-- --:--:-- 77.0M
install for i386
* installing *source* package 'arrays' ...
** inst
** help
No man pages found in package 'arrays'
*** installing help indices
** building package indices
** installing vignettes
** testing if installed package can be loaded
In R CMD INSTALL
install for x64
* installing *source* package 'arrays' ...
** testing if installed package can be loaded
* MD5 sums
packaged installation of 'arrays' as arrays_1.4.0.zip
* DONE (arrays)
In R CMD INSTALL
In R CMD INSTALL
* installing to library 'C:/Users/biocbuild/bbs-3.7-bioc/R/library'
package 'arrays' successfully unpacked and MD5 sums checked
In R CMD INSTALL