| Back to Workflows build report for BioC 3.7 |
This page was generated on 2018-10-15 12:45:18 -0400 (Mon, 15 Oct 2018).
| Package 12/21 | Hostname | OS / Arch | INSTALL | BUILD | ||||||
| methylationArrayAnalysis 1.2.0 Jovana Maksimovic
| malbec2 | Linux (Ubuntu 16.04.1 LTS) / x86_64 | OK | OK | ||||||
| tokay2 | Windows Server 2012 R2 Standard / x64 | [ OK ] | OK |
| Package: methylationArrayAnalysis |
| Version: 1.2.0 |
| Command: C:\cygwin\bin\curl.exe -O https://malbec2.bioconductor.org/BBS/3.7/workflows/src/contrib/methylationArrayAnalysis_1.2.0.tar.gz && rm -rf methylationArrayAnalysis.buildbin-libdir && mkdir methylationArrayAnalysis.buildbin-libdir && C:\Users\biocbuild\bbs-3.7-bioc\R\bin\R.exe CMD INSTALL --merge-multiarch --build --library=methylationArrayAnalysis.buildbin-libdir methylationArrayAnalysis_1.2.0.tar.gz && C:\Users\biocbuild\bbs-3.7-bioc\R\bin\R.exe CMD INSTALL methylationArrayAnalysis_1.2.0.zip && rm methylationArrayAnalysis_1.2.0.tar.gz methylationArrayAnalysis_1.2.0.zip |
| StartedAt: 2018-10-15 07:55:22 -0400 (Mon, 15 Oct 2018) |
| EndedAt: 2018-10-15 08:01:38 -0400 (Mon, 15 Oct 2018) |
| EllapsedTime: 376.0 seconds |
| RetCode: 0 |
| Status: OK |
##############################################################################
##############################################################################
###
### Running command:
###
### C:\cygwin\bin\curl.exe -O https://malbec2.bioconductor.org/BBS/3.7/workflows/src/contrib/methylationArrayAnalysis_1.2.0.tar.gz && rm -rf methylationArrayAnalysis.buildbin-libdir && mkdir methylationArrayAnalysis.buildbin-libdir && C:\Users\biocbuild\bbs-3.7-bioc\R\bin\R.exe CMD INSTALL --merge-multiarch --build --library=methylationArrayAnalysis.buildbin-libdir methylationArrayAnalysis_1.2.0.tar.gz && C:\Users\biocbuild\bbs-3.7-bioc\R\bin\R.exe CMD INSTALL methylationArrayAnalysis_1.2.0.zip && rm methylationArrayAnalysis_1.2.0.tar.gz methylationArrayAnalysis_1.2.0.zip
###
##############################################################################
##############################################################################
% Total % Received % Xferd Average Speed Time Time Time Current
Dload Upload Total Spent Left Speed
0 0 0 0 0 0 0 0 --:--:-- --:--:-- --:--:-- 0
19 216M 19 41.2M 0 0 52.0M 0 0:00:04 --:--:-- 0:00:04 52.4M
59 216M 59 130M 0 0 72.5M 0 0:00:02 0:00:01 0:00:01 72.7M
100 216M 100 216M 0 0 81.6M 0 0:00:02 0:00:02 --:--:-- 81.8M
install for i386
* installing *source* package 'methylationArrayAnalysis' ...
** inst
** help
No man pages found in package 'methylationArrayAnalysis'
*** installing help indices
** building package indices
** installing vignettes
** testing if installed package can be loaded
In R CMD INSTALL
install for x64
* installing *source* package 'methylationArrayAnalysis' ...
** testing if installed package can be loaded
* MD5 sums
packaged installation of 'methylationArrayAnalysis' as methylationArrayAnalysis_1.2.0.zip
* DONE (methylationArrayAnalysis)
In R CMD INSTALL
In R CMD INSTALL
* installing to library 'C:/Users/biocbuild/bbs-3.7-bioc/R/library'
package 'methylationArrayAnalysis' successfully unpacked and MD5 sums checked
In R CMD INSTALL