| Back to Multiple platform build/check report for BioC 3.8 | 
 | 
This page was generated on 2019-04-13 11:25:16 -0400 (Sat, 13 Apr 2019).
| Package 545/1649 | Hostname | OS / Arch | INSTALL | BUILD | CHECK | BUILD BIN | ||||||
| FlowRepositoryR 1.14.1 Josef Spidlen 
 | malbec1 | Linux (Ubuntu 16.04.6 LTS) / x86_64 | OK | OK | OK |  | ||||||
| tokay1 | Windows Server 2012 R2 Standard / x64 | OK | OK | OK | [ OK ] |  | ||||||
| merida1 | OS X 10.11.6 El Capitan / x86_64 | OK | OK | OK | OK |  | 
| Package: FlowRepositoryR | 
| Version: 1.14.1 | 
| Command: rm -rf FlowRepositoryR.buildbin-libdir && mkdir FlowRepositoryR.buildbin-libdir && C:\Users\biocbuild\bbs-3.8-bioc\R\bin\R.exe CMD INSTALL --merge-multiarch --build --library=FlowRepositoryR.buildbin-libdir FlowRepositoryR_1.14.1.tar.gz | 
| StartedAt: 2019-04-13 07:16:12 -0400 (Sat, 13 Apr 2019) | 
| EndedAt: 2019-04-13 07:16:31 -0400 (Sat, 13 Apr 2019) | 
| EllapsedTime: 19.0 seconds | 
| RetCode: 0 | 
| Status: OK | 
| PackageFile: FlowRepositoryR_1.14.1.zip | 
| PackageFileSize: 447.4 KiB | 
##############################################################################
##############################################################################
###
### Running command:
###
###   rm -rf FlowRepositoryR.buildbin-libdir && mkdir FlowRepositoryR.buildbin-libdir && C:\Users\biocbuild\bbs-3.8-bioc\R\bin\R.exe CMD INSTALL --merge-multiarch --build --library=FlowRepositoryR.buildbin-libdir FlowRepositoryR_1.14.1.tar.gz
###
##############################################################################
##############################################################################
install for i386
* installing *source* package 'FlowRepositoryR' ...
** R
** inst
** byte-compile and prepare package for lazy loading
** help
*** installing help indices
  converting help for package 'FlowRepositoryR'
    finding HTML links ... done
    FlowRepositoryR-package                 html  
    attachmentProxy-class                   html  
    download-methods                        html  
    fcsProxy-class                          html  
    fileProxy-class                         html  
    flowRep.get                             html  
    flowRep.ls                              html  
    flowRep.search                          html  
    flowRep.submitGeneStatus                html  
    flowRep.submitImpcResults               html  
    flowRepData-class                       html  
    flowRepOrganization-class               html  
    forgetFlowRepositoryCredentials         html  
    getFlowRepositoryURL                    html  
    id-methods                              html  
    ilarCodeDescription                     html  
    impcCodeDescription                     html  
    impcResultsCopy-methods                 html  
    is.downloaded-methods                   html  
    listKnownIlarCodes                      html  
    setFlowRepositoryCredentials            html  
    setFlowRepositoryURL                    html  
** building package indices
** installing vignettes
** testing if installed package can be loaded
In R CMD INSTALL
install for x64
* installing *source* package 'FlowRepositoryR' ...
** testing if installed package can be loaded
* MD5 sums
packaged installation of 'FlowRepositoryR' as FlowRepositoryR_1.14.1.zip
* DONE (FlowRepositoryR)
In R CMD INSTALL
In R CMD INSTALL