| Back to Multiple platform build/check report for BioC 3.8 experimental data |
This page was generated on 2019-04-16 15:26:20 -0400 (Tue, 16 Apr 2019).
| Package 93/360 | Hostname | OS / Arch | INSTALL | BUILD | CHECK | BUILD BIN | ||||||
| DuoClustering2018 1.0.0 Angelo Duò
| malbec1 | Linux (Ubuntu 16.04.6 LTS) / x86_64 | [ OK ] | OK | OK |
| Package: DuoClustering2018 |
| Version: 1.0.0 |
| Command: /home/biocbuild/bbs-3.8-bioc/R/bin/R CMD INSTALL DuoClustering2018 |
| StartedAt: 2019-04-16 12:16:52 -0400 (Tue, 16 Apr 2019) |
| EndedAt: 2019-04-16 12:17:45 -0400 (Tue, 16 Apr 2019) |
| EllapsedTime: 53.3 seconds |
| RetCode: 0 |
| Status: OK |
############################################################################## ############################################################################## ### ### Running command: ### ### /home/biocbuild/bbs-3.8-bioc/R/bin/R CMD INSTALL DuoClustering2018 ### ############################################################################## ############################################################################## * installing to library ‘/home/biocbuild/bbs-3.8-bioc/R/library’ * installing *source* package ‘DuoClustering2018’ ... ** R ** inst ** byte-compile and prepare package for lazy loading ** help *** installing help indices ** building package indices ** installing vignettes ** testing if installed package can be loaded snapshotDate(): 2018-10-30 * DONE (DuoClustering2018)