| Back to Multiple platform build/check report for BioC 3.8 experimental data | 
This page was generated on 2019-04-16 15:26:18 -0400 (Tue, 16 Apr 2019).
| Package 237/360 | Hostname | OS / Arch | INSTALL | BUILD | CHECK | BUILD BIN | ||||||
| OnassisJavaLibs 1.4.2 Eugenia Galeota 
 | malbec1 | Linux (Ubuntu 16.04.6 LTS) / x86_64 | [ OK ] | OK | OK |  | 
| Package: OnassisJavaLibs | 
| Version: 1.4.2 | 
| Command: /home/biocbuild/bbs-3.8-bioc/R/bin/R CMD INSTALL OnassisJavaLibs | 
| StartedAt: 2019-04-16 12:04:56 -0400 (Tue, 16 Apr 2019) | 
| EndedAt: 2019-04-16 12:05:05 -0400 (Tue, 16 Apr 2019) | 
| EllapsedTime: 8.5 seconds | 
| RetCode: 0 | 
| Status: OK | 
############################################################################## ############################################################################## ### ### Running command: ### ### /home/biocbuild/bbs-3.8-bioc/R/bin/R CMD INSTALL OnassisJavaLibs ### ############################################################################## ############################################################################## * installing to library ‘/home/biocbuild/bbs-3.8-bioc/R/library’ * installing *source* package ‘OnassisJavaLibs’ ... ** R ** inst ** byte-compile and prepare package for lazy loading ** help *** installing help indices ** building package indices ** installing vignettes ** testing if installed package can be loaded * DONE (OnassisJavaLibs)