| Back to Multiple platform build/check report for BioC 3.8 experimental data | 
This page was generated on 2019-04-16 15:26:16 -0400 (Tue, 16 Apr 2019).
| Package 241/360 | Hostname | OS / Arch | INSTALL | BUILD | CHECK | BUILD BIN | ||||||
| PasillaTranscriptExpr 1.10.0 Malgorzata Nowicka 
 | malbec1 | Linux (Ubuntu 16.04.6 LTS) / x86_64 | [ OK ] | OK | OK |  | 
| Package: PasillaTranscriptExpr | 
| Version: 1.10.0 | 
| Command: /home/biocbuild/bbs-3.8-bioc/R/bin/R CMD INSTALL PasillaTranscriptExpr | 
| StartedAt: 2019-04-16 12:03:05 -0400 (Tue, 16 Apr 2019) | 
| EndedAt: 2019-04-16 12:03:08 -0400 (Tue, 16 Apr 2019) | 
| EllapsedTime: 2.7 seconds | 
| RetCode: 0 | 
| Status: OK | 
############################################################################## ############################################################################## ### ### Running command: ### ### /home/biocbuild/bbs-3.8-bioc/R/bin/R CMD INSTALL PasillaTranscriptExpr ### ############################################################################## ############################################################################## * installing to library ‘/home/biocbuild/bbs-3.8-bioc/R/library’ * installing *source* package ‘PasillaTranscriptExpr’ ... ** inst ** help No man pages found in package ‘PasillaTranscriptExpr’ *** installing help indices ** building package indices ** installing vignettes ** testing if installed package can be loaded * DONE (PasillaTranscriptExpr)