| Back to Multiple platform build/check report for BioC 3.8 experimental data |
This page was generated on 2019-04-16 15:26:14 -0400 (Tue, 16 Apr 2019).
| Package 269/360 | Hostname | OS / Arch | INSTALL | BUILD | CHECK | BUILD BIN | ||||||
| QDNAseq.hg19 1.12.0 Daoud Sie
| malbec1 | Linux (Ubuntu 16.04.6 LTS) / x86_64 | OK | OK | [ OK ] |
| Package: QDNAseq.hg19 |
| Version: 1.12.0 |
| Command: /home/biocbuild/bbs-3.8-bioc/R/bin/R CMD check --install=check:QDNAseq.hg19.install-out.txt --library=/home/biocbuild/bbs-3.8-bioc/R/library --no-vignettes --timings QDNAseq.hg19_1.12.0.tar.gz |
| StartedAt: 2019-04-16 14:00:31 -0400 (Tue, 16 Apr 2019) |
| EndedAt: 2019-04-16 14:02:32 -0400 (Tue, 16 Apr 2019) |
| EllapsedTime: 121.0 seconds |
| RetCode: 0 |
| Status: OK |
| CheckDir: QDNAseq.hg19.Rcheck |
| Warnings: 0 |
##############################################################################
##############################################################################
###
### Running command:
###
### /home/biocbuild/bbs-3.8-bioc/R/bin/R CMD check --install=check:QDNAseq.hg19.install-out.txt --library=/home/biocbuild/bbs-3.8-bioc/R/library --no-vignettes --timings QDNAseq.hg19_1.12.0.tar.gz
###
##############################################################################
##############################################################################
* using log directory ‘/home/biocbuild/bbs-3.8-data-experiment/meat/QDNAseq.hg19.Rcheck’
* using R version 3.5.3 (2019-03-11)
* using platform: x86_64-pc-linux-gnu (64-bit)
* using session charset: UTF-8
* using option ‘--no-vignettes’
* checking for file ‘QDNAseq.hg19/DESCRIPTION’ ... OK
* checking extension type ... Package
* this is package ‘QDNAseq.hg19’ version ‘1.12.0’
* checking package namespace information ... OK
* checking package dependencies ... OK
* checking if this is a source package ... OK
* checking if there is a namespace ... OK
* checking for hidden files and directories ... OK
* checking for portable file names ... OK
* checking for sufficient/correct file permissions ... OK
* checking whether package ‘QDNAseq.hg19’ can be installed ... OK
* checking installed package size ... NOTE
installed size is 35.4Mb
sub-directories of 1Mb or more:
data 35.3Mb
* checking package directory ... OK
* checking DESCRIPTION meta-information ... OK
* checking top-level files ... OK
* checking for left-over files ... OK
* checking index information ... OK
* checking package subdirectories ... OK
* checking R files for non-ASCII characters ... OK
* checking R files for syntax errors ... OK
* checking whether the package can be loaded ... OK
* checking whether the package can be loaded with stated dependencies ... OK
* checking whether the package can be unloaded cleanly ... OK
* checking whether the namespace can be loaded with stated dependencies ... OK
* checking whether the namespace can be unloaded cleanly ... OK
* checking dependencies in R code ... OK
* checking S3 generic/method consistency ... OK
* checking replacement functions ... OK
* checking foreign function calls ... OK
* checking R code for possible problems ... OK
* checking Rd files ... OK
* checking Rd metadata ... OK
* checking Rd cross-references ... OK
* checking for missing documentation entries ... OK
* checking for code/documentation mismatches ... OK
* checking Rd \usage sections ... OK
* checking Rd contents ... OK
* checking for unstated dependencies in examples ... OK
* checking contents of ‘data’ directory ... OK
* checking data for non-ASCII characters ... OK
* checking data for ASCII and uncompressed saves ... OK
* checking examples ... OK
Examples with CPU or elapsed time > 5s
user system elapsed
hg19.1kbp.SR50 18.652 0.36 19.037
* checking PDF version of manual ... OK
* DONE
Status: 1 NOTE
See
‘/home/biocbuild/bbs-3.8-data-experiment/meat/QDNAseq.hg19.Rcheck/00check.log’
for details.
QDNAseq.hg19.Rcheck/00install.out
############################################################################## ############################################################################## ### ### Running command: ### ### /home/biocbuild/bbs-3.8-bioc/R/bin/R CMD INSTALL QDNAseq.hg19 ### ############################################################################## ############################################################################## * installing to library ‘/home/biocbuild/bbs-3.8-bioc/R/library’ * installing *source* package ‘QDNAseq.hg19’ ... ** R ** data ** byte-compile and prepare package for lazy loading ** help *** installing help indices ** building package indices ** testing if installed package can be loaded * DONE (QDNAseq.hg19)
QDNAseq.hg19.Rcheck/QDNAseq.hg19-Ex.timings
| name | user | system | elapsed | |
| QDNAseq.hg19-package | 0.568 | 0.020 | 0.772 | |
| hg19.1000kbp.SR50 | 0.032 | 0.020 | 0.060 | |
| hg19.100kbp.SR50 | 0.568 | 0.008 | 0.602 | |
| hg19.10kbp.SR50 | 1.924 | 0.052 | 1.990 | |
| hg19.15kbp.SR50 | 1.640 | 0.080 | 2.053 | |
| hg19.1kbp.SR50 | 18.652 | 0.360 | 19.037 | |
| hg19.30kbp.SR50 | 0.472 | 0.044 | 0.519 | |
| hg19.500kbp.SR50 | 0.076 | 0.012 | 0.098 | |
| hg19.50kbp.SR50 | 0.456 | 0.028 | 0.501 | |
| hg19.5kbp.SR50 | 3.440 | 0.116 | 3.587 | |